BEGIN:VCALENDAR
VERSION:2.0
PRODID:-//ChamberMaster//Event Calendar 2.0//EN
METHOD:PUBLISH
X-PUBLISHED-TTL:P3D
REFRESH-INTERVAL:P3D
CALSCALE:GREGORIAN
BEGIN:VEVENT
DTSTART;VALUE=DATE:20140319
DTEND;VALUE=DATE:20140320
TRANSP:TRANSPARENT
X-MICROSOFT-CDO-ALLDAYEVENT:TRUE
SUMMARY:Membership Committee
DESCRIPTION:The HBAGK Membership Committee will meet on Wednesday\, 3/19\, at Ferguson's showroom\, workplace of committee member Lisa Smith. We are looking for input and new ideas from this committee to help our members make the most of their membership. Please let us know if you will attend the meeting so we can plan accordingly. Lunch will be provided by Ferguson's (thank you!)Our membership meeting for this month is at 3:00 PM\, Monday\, 3/17 at ORNL's office in Onyx Point. We are meeting with US Congressman Jimmy Duncan to discuss national housing legislation. Invite a Builder to attend!HBAGK Twitter: https://twitter.com/HBAGK\n    HBAGK Facebook: http://www.facebook.com/#!/pages/Home-Builders-Association-of-Greater-Knoxville/120653504698611?bookmark_t=page\n    \n    (You can retrieve your login name & password by clicking the registration link in this message then following the prompt using your email address to have the information sent to you)
X-ALT-DESC;FMTTYPE=text/html:<p>The HBAGK Membership Committee will meet on Wednesday\, 3/19\, at Ferguson's showroom\, workplace of committee member Lisa Smith. We are looking for input and new ideas from this committee to help our members make the most of their membership. Please let us know if you will attend the meeting so we can plan accordingly. Lunch will be provided by Ferguson's (thank you!)</p><p>Our membership meeting for this month is at 3:00 PM\, Monday\, 3/17 at ORNL's office in Onyx Point. We are meeting with US Congressman Jimmy Duncan to discuss national housing legislation. Invite a Builder to attend!</p><p>HBAGK Twitter: <a href=https://twitter.com/HBAGK>https://twitter.com/HBAGK</a><br>    HBAGK Facebook: <a href=http://www.facebook.com/#!/pages/Home-Builders-Association-of-Greater-Knoxville/120653504698611?bookmark_t=page>http://www.facebook.com/#!/pages/Home-Builders-Association-of-Greater-Knoxville/120653504698611?bookmark_t=page</a><br>    <br>    <span style=background-color: #ffff00><strong>(You can retrieve your login name &amp\; password by clicking the registration link in this message then following the prompt using your email address to have the information sent to you)</strong></span><br><br></p>
LOCATION:215 Peregrine Way Knoxville\, TN
UID:e.9402.591
SEQUENCE:3
DTSTAMP:20260420T011515Z
URL:http://hbaknoxvilletn.memberzone.com/events/details/membership-committee-03-19-2014-591
END:VEVENT

END:VCALENDAR
