BEGIN:VCALENDAR
VERSION:2.0
PRODID:-//ChamberMaster//Event Calendar 2.0//EN
METHOD:PUBLISH
X-PUBLISHED-TTL:P3D
REFRESH-INTERVAL:P3D
CALSCALE:GREGORIAN
BEGIN:VEVENT
DTSTART;VALUE=DATE:20130220
DTEND;VALUE=DATE:20130221
TRANSP:TRANSPARENT
X-MICROSOFT-CDO-ALLDAYEVENT:TRUE
SUMMARY:Membership Committee
DESCRIPTION:Thank you for volunteering to serve on the HBAGK Membership Committee.  We hope that you can attend our next meeting on Wednesday\, 2/20 at the HBAGK office. We will discuss options for Business After Hours and some membership programs in 2013\, including a new Women's Council.\n    \n    RSVP so we can prepare our materials and order the right amount of food. Lunch is available for $8 if you want it\, or you are welcome to bring your own - thank you!\n    \n    (You can retrieve your login name & password by clicking the registration link in this message then following the prompt using your email address to have the information sent to you)\n    \n    If you know of other members who would be good additions to this committee please invite them to join us. 2/21 - GMM at Ferguson's\n 2/27   Board Meeting \n 3/4-5 - HBAT Spring Board/Hill Visits\, Nashville\n 3/15-17 - The Home Show\, KCC
X-ALT-DESC;FMTTYPE=text/html:<p>Thank you for volunteering to serve on the HBAGK Membership Committee. &nbsp\;We hope that you can attend our next meeting on Wednesday\, 2/20 at the HBAGK office. We will discuss options for Business After Hours and some membership programs in 2013\, including a new Women&#39\;s Council.<br>    <br>    RSVP so we can prepare our materials and order the right amount of food. Lunch is available for $8 if you want it\, or you are welcome to bring your own - thank you!<br>    <br>    <span style=background-color: #ffff00><strong>(You can retrieve your login name &amp\; password by clicking the registration link in this message then following the prompt using your email address to have the information sent to you)</strong></span><br>    <br>    If&nbsp\;you know of other members who would be good additions to this committee please invite them to join us.</p> 2/21 - GMM at Ferguson&#39\;s<br> 2/27 &ndash\; Board Meeting&nbsp\;<br> 3/4-5 - HBAT Spring Board/Hill Visits\, Nashville<br> 3/15-17 - The Home Show\, KCC&nbsp\;<br>
LOCATION:221 Clark Street\, NW Knoxville\, TN
UID:e.9402.486
SEQUENCE:3
DTSTAMP:20260421T060416Z
URL:http://hbaknoxvilletn.memberzone.com/events/details/membership-committee-02-20-2013-486
END:VEVENT

END:VCALENDAR
