BEGIN:VCALENDAR
VERSION:2.0
PRODID:-//ChamberMaster//Event Calendar 2.0//EN
METHOD:PUBLISH
X-PUBLISHED-TTL:P3D
REFRESH-INTERVAL:P3D
CALSCALE:GREGORIAN
BEGIN:VEVENT
DTSTART;VALUE=DATE:20090204
DTEND;VALUE=DATE:20090205
TRANSP:TRANSPARENT
X-MICROSOFT-CDO-ALLDAYEVENT:TRUE
SUMMARY:Membership Committee
DESCRIPTION:Panera Bread at Mercedes Place in Bearden\, 9:00 AM. We'll grab a table and let everyone get some coffee or breakfast then get started.
X-ALT-DESC;FMTTYPE=text/html:<p>Panera Bread at Mercedes Place in Bearden\, 9:00 AM. We&rsquo\;ll grab a table and let everyone get some coffee or breakfast then get started.</p>
LOCATION:4855 Kingston Pike Knoxville\, TN
UID:e.9402.154
SEQUENCE:3
DTSTAMP:20260425T140213Z
URL:http://hbaknoxvilletn.memberzone.com/events/details/membership-committee-02-04-2009-154
END:VEVENT

END:VCALENDAR
