BEGIN:VCALENDAR
VERSION:2.0
PRODID:-//ChamberMaster//Event Calendar 2.0//EN
METHOD:PUBLISH
X-PUBLISHED-TTL:P3D
REFRESH-INTERVAL:P3D
CALSCALE:GREGORIAN
BEGIN:VEVENT
DTSTART;VALUE=DATE:20130116
DTEND;VALUE=DATE:20130117
TRANSP:TRANSPARENT
X-MICROSOFT-CDO-ALLDAYEVENT:TRUE
SUMMARY:Membership Committee
DESCRIPTION:Thank you for volunteering to serve on the HBAGK Membership Committee.  This is our first meeting of the new year and we hope that you can attend. HBAT dues increase of $10 goes into effect in February. We will also discuss the Home Show and some new membership programs in 2013.\n    \n    RSVP so we can prepare our materials and order the right amount of food. Lunch is available for $8 if you want it\, or you are welcome to bring your own - thank you!\n    \n    (You can retrieve your login name & password by clicking the registration link in this message then following the prompt using your email address to have the information sent to you)\n    \n    If you know of other members who would be good additions to this committee please invite them to join us.
X-ALT-DESC;FMTTYPE=text/html:<p>Thank you for volunteering to serve on the HBAGK Membership Committee. &nbsp\;This is our first meeting of the new year and we hope that you can attend. HBAT dues increase of $10 goes into effect in February. We will also discuss the Home Show and some new membership programs in 2013.<br>    <br>    RSVP so we can prepare our materials and order the right amount of food. Lunch is available for $8 if you want it\, or you are welcome to bring your own - thank you!<br>    <br>    <span style=background-color: #ffff00><strong>(You can retrieve your login name &amp\; password by clicking the registration link in this message then following the prompt using your email address to have the information sent to you)</strong></span><br>    <br>    If&nbsp\;you know of other members who would be good additions to this committee please invite them to join us.<br>    <br>    &nbsp\;</p>
LOCATION:221 Clark Street\, NW Knoxville\, TN
UID:e.9402.477
SEQUENCE:3
DTSTAMP:20260421T054808Z
URL:http://hbaknoxvilletn.memberzone.com/events/details/membership-committee-01-16-2013-477
END:VEVENT

END:VCALENDAR
