BEGIN:VCALENDAR
VERSION:2.0
PRODID:-//ChamberMaster//Event Calendar 2.0//EN
METHOD:PUBLISH
X-PUBLISHED-TTL:P3D
REFRESH-INTERVAL:P3D
CALSCALE:GREGORIAN
BEGIN:VEVENT
DTSTART;VALUE=DATE:20100106
DTEND;VALUE=DATE:20100107
TRANSP:TRANSPARENT
X-MICROSOFT-CDO-ALLDAYEVENT:TRUE
SUMMARY:Membership Committee
DESCRIPTION:Happy New Year! The Membership Committee will meet at the HBAGK office for lunch. Please respond to let us know if you can attend and if you would like us to order lunch for you. Lunch is available for $6 and we accept cash\, checks and credit cards. Thank you for volunteering to serve on this committee!
X-ALT-DESC;FMTTYPE=text/html:<p>Happy New Year! The Membership Committee will meet at the HBAGK office for lunch. Please respond to let us know if you can attend and if you would like us to order lunch for you. Lunch is available for $6 and we accept cash\, checks and credit cards. Thank you for volunteering to serve on this committee!</p>
LOCATION:221 Clark Street\, NW Knoxville\, TN
UID:e.9402.198
SEQUENCE:3
DTSTAMP:20260424T165756Z
URL:http://hbaknoxvilletn.memberzone.com/events/details/membership-committee-01-06-2010-198
END:VEVENT

END:VCALENDAR
