BEGIN:VCALENDAR
VERSION:2.0
PRODID:-//ChamberMaster//Event Calendar 2.0//EN
METHOD:PUBLISH
X-PUBLISHED-TTL:P3D
REFRESH-INTERVAL:P3D
CALSCALE:GREGORIAN
BEGIN:VEVENT
DTSTART;VALUE=DATE:20140108
DTEND;VALUE=DATE:20140109
TRANSP:TRANSPARENT
X-MICROSOFT-CDO-ALLDAYEVENT:TRUE
SUMMARY:Legislative Breakfast with the Home Builders
DESCRIPTION:Please Join The Home Builders Association of Greater Knoxville\n    at Breakfast to discuss the 2014 Housing Industry Legislative Agenda\n    Wednesday\, January 8\, 2014 \n    8:00   9:00 AM\n    \n    Location:\n    Home Builders Association of Greater Knoxville\n    221 Clark St. NW Knoxville\, TN 37921\n    RSVP Phone: 865-546-4665 x25      Email: aburnette@hbaknoxville.com
X-ALT-DESC;FMTTYPE=text/html:<div><span style=font-size: 20pt><span style=font-family: calibri>Please Join </span></span><strong><span style=font-size: 20pt><span style=font-family: calibri>The Home Builders Association of Greater Knoxville</span></span></strong><br>    <span style=font-size: 20pt><span style=font-family: calibri>at&nbsp\;Breakfast to discuss the </span></span><strong><span style=font-size: 20pt><span style=font-family: calibri>2014 Housing Industry Legislative Agenda</span></span></strong><br>    <span style=font-size: 20pt><span style=font-family: calibri>Wednesday\, January 8\, 2014&nbsp\;</span></span><br>    <span style=font-size: 20pt><span style=font-family: calibri>8:00 &ndash\; 9:00 AM</span></span><br>    <br>    <span style=font-size: 20pt><span style=font-family: calibri>Location:</span></span><br>    <span style=font-size: 20pt><span style=font-family: calibri>Home Builders Association of Greater Knoxville</span></span><br>    <span style=font-size: 20pt><span style=font-family: calibri>221 Clark St. NW Knoxville\, TN 37921</span></span><br>    <span style=font-size: 20pt><span style=font-family: calibri>RSVP Phone: 865-546-4665 x25&nbsp\;&nbsp\;&nbsp\;&nbsp\;&nbsp\; Email: </span></span><a href=mailto:aburnette@hbaknoxville.com><span style=font-size: 20pt><span style=font-family: calibri>aburnette@hbaknoxville.com</span></span></a><br>    &nbsp\;</div>
LOCATION:221 Clark Street\, NW Knoxville\, TN
UID:e.9402.578
SEQUENCE:3
DTSTAMP:20260420T042352Z
URL:http://hbaknoxvilletn.memberzone.com/events/details/legislative-breakfast-with-the-home-builders-01-08-2014-578
END:VEVENT

END:VCALENDAR
