BEGIN:VCALENDAR
VERSION:2.0
PRODID:-//ChamberMaster//Event Calendar 2.0//EN
METHOD:PUBLISH
X-PUBLISHED-TTL:P3D
REFRESH-INTERVAL:P3D
CALSCALE:GREGORIAN
BEGIN:VEVENT
DTSTART;VALUE=DATE:20140813
DTEND;VALUE=DATE:20140814
TRANSP:TRANSPARENT
X-MICROSOFT-CDO-ALLDAYEVENT:TRUE
SUMMARY:Knoxville & Knox Co. Codes Update
DESCRIPTION:Codes Update\, Q & A\n Speakers: Knoxville & Knox County Codes Inspectors\n  \n Wednesday\, August 13 at the HBAGK Office11:30 lunch\, program begins at 12:00 noon\n FREE Admission for HBAGK Members\n  \n The presentation will feature Knox County & City of Knoxville Building Inspectors as our speakers. We will discuss top issues with the 2012 International Residential Codes and updates for Knoxville & Knox County. They will also be available to answer your questions and have handouts.\n  \n The program is free of charge for MEMBERS but due to limited seating in our meeting room\, SPACE IS LIMITED. You must register to attend!\n **FIRST COME\, FIRST SERVED**\n  \n Please complete the form and fax it to our office at 546-0031\, email to info@hbaknoxville.com or call the office with names of those attending at 546-4665 x25.
X-ALT-DESC;FMTTYPE=text/html:<strong><span style=font-size:14.0pt\;>Codes Update\, Q &amp\; A</span></strong><br> <strong><span style=font-size:14.0pt\;>Speakers: Knoxville &amp\; Knox County Codes Inspectors</span></strong><br> &nbsp\;<br> <span style=color:#0f243e\;><span style=font-size:14.0pt\;>Wednesday\, August 13&nbsp\;</span></span><span style=color:#0f243e\;><span style=font-size:14.0pt\;>at the HBAGK Office</span></span><div><span style=color: rgb(15\, 36\, 62)\; font-size: 19px\; line-height: 26.666667938232422px\;>11:30 lunch\, program begins at 12:00 noon<br></span> <span style=color:#0f243e\;><span style=font-size:14.0pt\;>FREE Admission for HBAGK Members</span></span><br> &nbsp\;<br> <span style=font-size:14.0pt\;>The presentation will feature Knox County &amp\; City of Knoxville Building Inspectors as our speakers. We will discuss top issues with the 2012 International Residential Codes and updates for Knoxville &amp\; Knox County. They will also be available to answer your questions and have handouts.</span><br> &nbsp\;<br> <span style=font-size:14.0pt\;>The program is <u>free of charge for MEMBERS</u> but due to limited seating in our meeting room\, SPACE IS LIMITED. You must register to attend!</span><br> <em><span style=font-size:14.0pt\;>**FIRST COME\, FIRST SERVED**</span></em><br> &nbsp\;<br> <span style=font-size:14.0pt\;>Please complete the form and <u>fax</u> it to our office at 546-0031\, email to <a href=mailto:info@hbaknoxville.com>info@hbaknoxville.com</a> or call the office with names of those attending at 546-4665 x25.</span><br> </div>
LOCATION:221 Clark Street\, NW Knoxville\, TN
UID:e.9402.623
SEQUENCE:3
DTSTAMP:20260419T141429Z
URL:http://hbaknoxvilletn.memberzone.com/events/details/knoxville-knox-co-codes-update-08-13-2014-623
END:VEVENT

END:VCALENDAR
