BEGIN:VCALENDAR
VERSION:2.0
PRODID:-//ChamberMaster//Event Calendar 2.0//EN
METHOD:PUBLISH
X-PUBLISHED-TTL:P3D
REFRESH-INTERVAL:P3D
CALSCALE:GREGORIAN
BEGIN:VEVENT
DTSTART;VALUE=DATE:20110413
DTEND;VALUE=DATE:20110414
TRANSP:TRANSPARENT
X-MICROSOFT-CDO-ALLDAYEVENT:TRUE
SUMMARY:Knox County Commission - Workshop on Ridge Top Protection Plan
DESCRIPTION:THE KNOX COUNTY BOARD OF COMMISSIONERS SHALL MEET IN WORKSHOP TO DISCUSS THE RIDGE\, SLOPE AND HILLSIDE DEVELOPMENT AND PROTECTION PLAN ON WEDNESDAY\, APRIL 13\, 2011 AT 8:00 A.M. IN THE MAIN ASSEMBLY ROOM OF THE CITY AND COUNTY BUILDING\, 400 WEST MAIN STREET. We're asking all members to show up in person and be counted - your participation is important!! This issue impacts our industry and we need members to oppose this plan - you\, your employees and family members are encouraged to attend. Please be present before and after the meeting to speak with the commissioners. Be personal\, polite and professional and let them know that the current plan is unacceptable. A group of HBAGK members will meet at our office at 7:15 AM prior to the workshop if you would like to join us and drive from there. Contact information for elected officials and a letter stating our position is included with this notice. Additional meetings about this topic will require sustained effort from our members to send a message that we do not support this plan.      April 13 - 8:00 AM - Knox County Commission\, Workshop on Ridge Top Protection Plan      April 18 - 2:00 PM - Knox County Commission\, Work Session      April 25 - 1:45 PM - Knox County Commission\, Monthly Meeting      April 28 - 5:00 PM - City Council\, Workshop on Ridge Top Protection Plan
X-ALT-DESC;FMTTYPE=text/html:<p><span style=font-size: 12pt /></p> <p>&nbsp\;</p> <div style=margin: 0in 0in 10pt\; line-height: normal><b><span style=font-size: 12pt\; color: black>THE KNOX COUNTY BOARD OF COMMISSIONERS SHALL MEET IN WORKSHOP TO DISCUSS THE RIDGE\, SLOPE AND HILLSIDE DEVELOPMENT AND PROTECTION PLAN ON WEDNESDAY\, APRIL 13\, 2011 AT 8:00 A.M. IN THE MAIN ASSEMBLY ROOM OF THE CITY AND COUNTY BUILDING\, 400 WEST MAIN STREET.</span></b></div> <div style=margin: 0in 0in 10pt\; line-height: normal><span style=font-size: 12pt>We&rsquo\;re asking all members to <u>show up in person and be counted</u> - your participation is important!! This issue impacts our industry and we need members to oppose this plan - you\,&nbsp\;your employees and family members are encouraged to attend.</span></div> <div style=margin: 0in 0in 10pt\; line-height: normal><span style=font-size: 12pt>Please be present before and after the meeting to speak with the commissioners. Be personal\, polite and professional and let them know that the current plan is unacceptable. A group of HBAGK members will meet at our office at 7:15 AM prior to the workshop if you would like to join us and drive from there. Contact information for elected officials and a letter stating our position is included with this notice. Additional meetings about this topic will require sustained effort from our members to send a message that we do not support this plan.</span></div> <ul type=disc>     <li style=margin: 0in 0in 10pt\; line-height: normal><strong><span style=font-size: 12pt>April 13 - 8:00 AM - Knox County Commission\, Workshop on Ridge Top Protection Plan</span></strong><span style=font-size: 12pt> </span></li>     <li style=margin: 0in 0in 10pt\; line-height: normal><span style=font-size: 12pt>April 18 - 2:00 PM - Knox County Commission\, Work Session </span></li>     <li style=margin: 0in 0in 10pt\; line-height: normal><span style=font-size: 12pt>April&nbsp\;25 -&nbsp\;1:45 PM - Knox County Commission\, Monthly Meeting </span></li>     <li style=margin: 0in 0in 10pt\; line-height: normal><span style=font-size: 12pt>April 28 - 5:00 PM - City Council\, Workshop on Ridge Top Protection Plan </span></li> </ul> <p>&nbsp\;</p>
LOCATION:400 Main St. Main Assembly Room Knoxville\, TN
UID:e.9402.280
SEQUENCE:3
DTSTAMP:20260423T063329Z
URL:http://hbaknoxvilletn.memberzone.com/events/details/knox-county-commission-workshop-on-ridge-top-protection-plan-04-13-2011-280
END:VEVENT

END:VCALENDAR
