BEGIN:VCALENDAR
VERSION:2.0
PRODID:-//ChamberMaster//Event Calendar 2.0//EN
METHOD:PUBLISH
X-PUBLISHED-TTL:P3D
REFRESH-INTERVAL:P3D
CALSCALE:GREGORIAN
BEGIN:VEVENT
DTSTART;VALUE=DATE:20111121
DTEND;VALUE=DATE:20111122
TRANSP:TRANSPARENT
X-MICROSOFT-CDO-ALLDAYEVENT:TRUE
SUMMARY:Knox County Commission - Vote on Ridgetop Protection Plan
DESCRIPTION:HBAGK Members Take Action!!   PLEASE MEET US AT THE HBAGK OFFICE ON MONDAY 11/21/11 around 1:15 PM - 1:30 PM prior to attending the Hillside Vote.\n    \n    As you know\, for the past eight months the Knoxville Chamber\, HBAGK and KAAR have been heavily involved as City Council and County Commission have considered MPC's Hillside & Ridgetop Protection Plan. The Commission is expected to vote on a compromise plan on Monday\, Nov. 21 at 2:00 p.m. We need your help!\n    \n    Throughout these many months the chamber has raised important questions about the effect and cost of the original slope protection plan. Without your involvement and the involvement of the Chamber's board of directors and other volunteers a plan with many troubling provisions would have been adopted. Fortunately\, even MPC has realized the shortcomings of the plan and recommended changes. One more change is needed.\n    \n    This week\, the Chamber recommended an amendment to the plan that would unequivocally state that the plan is advisory. The amendment ensures that Commission and Council will be the final decision maker in land use and zoning decisions and that they can deviate from the slope protection plan at their sole discretion. The amendment simply reads:\n    \n    Nature of Plan and Legal Effect\n    This plan and the principles\, objectives\, policies and guidelines included herein are advisory in nature and constitute non-binding recommendations for consideration in connection with development of steeply sloped areas. The plan is not binding on future land use decisions by City Council\, County Commission\, MPC\, the City or County Boards of Zoning Appeals or any other governmental body. Any provisions of the Knoxville-Knox County General Plan 2033 or any Sector Plan\, which are inconsistent with or in excess of the recommendations set forth in this plan shall be deemed modified and/or repealed consistent herewith.\n    \n    The plan's proponents are uncomfortable with the amendment despite the fact that they have repeatedly said the Hillside & Ridgetop Plan "is only a plan." If that is true\, it should be clear that it is advisory and the local legislative bodies should not be bound by it. That is all the amendment would do.\n    \n    Please contact members of the Knox County Commission and urge them to vote in favor of the amendment. Your call or email could be the difference in its adoption.\n    \n    Three Commissioners in particular need to be contacted on the right to appeal a land use issue to an elected body. That is one of the main purposes of the Brigg's amendment. Those three Commissioners are Dave Wright\, Mike Brown\, and Mike Hammond. \n     \n    It would be very helpful to contact those three Commissioners by phone or email and say the following: \n     \n    Mr. Commissioner\, our County Charter requires that a final appeal on land use matters be made to County Commission. I am asking you to preserve that right by voting to approve the Brigg's amendment for Hillside and Ridgetop. Will you do that for me? Please call me at (leave your number) if you have any questions. \n     \n    Thank you. \n     \n    Leave your name and be polite. \n     \n    No screaming. No yelling. Two hundred phone calls like that left on answering machines would be perfect. The Commissioners aren't going to answer the phone. They aren't going to reply to emails. But this will make them think about the County Charter and their Oath. \n     \n    KEEP IT SIMPLE. BE POLITE. BE CONCISE. \n     \n    This is the message we want to get out to our members. This is about the right to appeal. That is all we need to press. We have good speakers to do the rest. \n    \n    \n    Commission Contact Information\n    Brad Anders\n    brad.anders@knoxcounty.org\n    539-5348(h)\n    \n    Richard Briggs\n    richard.briggs@knoxcounty.org\n    966-5125(h)\n    \n    Mike Brown**\n    michael.brown@knoxcounty.org\n    577-3481(h)\n    \n    Amy Broyles\n    amy.broyles@knoxcounty.org\n    224-6269(h)\n    \n    Mike Hammond**\n    mike.hammond@knoxcounty.org\n    470-8599(h)\n    \n    Sam McKenzie\n    sam.mckenzie@knoxcounty.org\n    524-1458(h)\n    \n    Tony Norman\n    tony.norman@knoxcounty.org\n    524-4301(h)\n    \n    Jeff Ownby\n    jeff.ownby@knoxcounty.org\n    441-6162(c)\n    \n    Ed Shouse\n    ed.shouse@knoxcounty.org\n    584-7858(h)\n    \n    R. Larry Smith\n    larry.smith@knoxcounty.org\n    679-4106(c)\n    \n    Dave Wright**\n    dave.wright@knoxcounty.org\n    687-6677(h)
X-ALT-DESC;FMTTYPE=text/html:<p>&nbsp\;</p> <div align=center style=margin: 0in 0in 0pt><b><span style=color: red\; font-size: 20pt>HBAGK Members Take Action!!</span></b></div> <div style=margin: 0in 0in 0pt>&nbsp\;</div> <div style=margin: 0in 0in 0pt><span style=font-size: medium><span style=font-family: times new roman>PLEASE MEET US AT THE HBAGK OFFICE ON MONDAY 11/21/11 around 1:15 PM&nbsp\;- 1:30 PM prior to attending the Hillside Vote.<br>    <br>    As you know\, for the past eight months the Knoxville Chamber\, HBAGK and KAAR have been heavily involved as City Council and County Commission have considered MPC&rsquo\;s Hillside &amp\; Ridgetop Protection Plan. The Commission is expected to vote on a compromise plan on Monday\, Nov. 21 at 2:00 p.m. </span></span><span style=font-size: medium><span style=font-family: times new roman><strong>We need your help!</strong><br>    <br>    Throughout these many months the chamber has raised important questions about the effect and cost of the original slope protection plan. Without your involvement and the involvement of the Chamber&rsquo\;s board of directors and other volunteers a plan with many troubling provisions would have been adopted. Fortunately\, even MPC has realized the shortcomings of the plan and recommended changes. <strong>One more change is needed</strong>.<br>    <br>    This week\, the Chamber recommended an amendment to the plan that would unequivocally state that the plan is advisory. The amendment ensures that Commission and Council will be the final decision maker in land use and zoning decisions and that they can deviate from the slope protection plan at their sole discretion. The amendment simply reads:</span></span><br>    <br>    <strong><em><span style=font-size: medium><span style=font-family: times new roman>Nature of Plan and Legal Effect</span></span></em></strong><br>    <span style=font-size: medium><span style=font-family: times new roman><em>This plan and the principles\, objectives\, policies and guidelines included herein are advisory in nature and constitute non-binding recommendations for consideration in connection with development of steeply sloped areas. The plan is not binding on future land use decisions by City Council\, County Commission\, MPC\, the City or County Boards of Zoning Appeals or any other governmental body. Any provisions of the Knoxville-Knox County General Plan 2033 or any Sector Plan\, which are inconsistent with or in excess of the recommendations set forth in this plan shall be deemed modified and/or repealed consistent herewith.</em><br>    <br>    The plan&rsquo\;s proponents are uncomfortable with the amendment despite the fact that they have repeatedly said the Hillside &amp\; Ridgetop Plan &ldquo\;is only a plan.&rdquo\; If that is true\, it should be clear that it is advisory and the local legislative bodies should not be bound by it. That is all the amendment would do.<br>    <br>    Please contact members of the Knox County Commission and urge them to vote in favor of the amendment. Your call or email could be the difference in its adoption.</span></span><br>    <br>    <span style=color: black><span style=font-size: medium><span style=font-family: times new roman>Three Commissioners in particular need to be contacted on the right to appeal a land use issue to an elected body. That is one of the main purposes of the Brigg&rsquo\;s amendment. <strong>Those three Commissioners are Dave Wright\, Mike Brown\, and Mike Hammond. </strong></span></span></span><br>    &nbsp\;<br>    <span style=font-size: medium><span style=font-family: times new roman><span style=color: black>It would be very helpful to contact those three Commissioners by phone or email and say the following: </span></span></span><br>    &nbsp\;<br>    <span style=font-size: medium><span style=font-family: times new roman><strong><span style=color: black>Mr. Commissioner\, our County Charter requires that a final appeal on land use matters be made to County Commission. I am asking you to preserve that right by voting to approve the Brigg&rsquo\;s amendment for Hillside and Ridgetop. Will you do that for me? Please call me at (leave your number) if you have any questions. </span></strong></span></span><br>    &nbsp\;<br>    <span style=font-size: medium><span style=font-family: times new roman><strong><span style=color: black>Thank you. </span></strong></span></span><br>    &nbsp\;<br>    <span style=font-size: medium><span style=font-family: times new roman><span style=color: black>Leave your name and be polite. </span></span></span><br>    &nbsp\;<br>    <span style=font-size: medium><span style=font-family: times new roman><span style=color: black>No screaming. No yelling. Two hundred phone calls like that left on answering machines would be perfect. The Commissioners aren&rsquo\;t going to answer the phone. They aren&rsquo\;t going to reply to emails. But this will make them think about the County Charter and their Oath. </span></span></span><br>    &nbsp\;<br>    <span style=font-size: medium><span style=font-family: times new roman><span style=color: black>KEEP IT SIMPLE. BE POLITE. BE CONCISE. </span></span></span><br>    &nbsp\;<br>    <span style=font-size: medium><span style=font-family: times new roman><span style=color: black>This is the message we want to get out to our members. This is about the right to appeal. That is all we need to press. We have good speakers to do the rest. </span></span></span><br>    <br>    <br>    <span style=font-size: medium><span style=font-family: times new roman><strong><u>Commission Contact Information</u></strong><br>    Brad Anders</span></span><br>    <u><span style=color: blue><a href=http://brad.anders%40knoxcounty.org/ target=_blank><span style=font-size: medium><span style=font-family: times new roman>brad.anders@knoxcounty.org</span></span></a></span></u><br>    <span style=font-size: medium><span style=font-family: times new roman>539-5348(h)<br>    <br>    Richard Briggs</span></span><br>    <u><span style=color: blue><a href=http://richard.briggs%40knoxcounty.org/ target=_blank><span style=font-size: medium><span style=font-family: times new roman>richard.briggs@knoxcounty.org</span></span></a></span></u><br>    <span style=font-size: medium><span style=font-family: times new roman>966-5125(h)</span></span><br>    <br>    <span style=font-size: medium><span style=font-family: times new roman><span style=background-color: #ffff00>Mike Brown**</span></span></span><br>    <u><span style=color: blue><a href=http://michael.brown%40knoxcounty.org/ target=_blank><span style=font-size: medium><span style=font-family: times new roman><span style=background-color: #ffff00>michael.brown@knoxcounty.org</span></span></span></a></span></u><br>    <span style=font-size: medium><span style=font-family: times new roman><span style=background-color: #ffff00>577-3481(h)</span></span></span><br>    <br>    <span style=font-size: medium><span style=font-family: times new roman>Amy Broyles</span></span><br>    <u><span style=color: blue><a href=http://amy.broyles%40knoxcounty.org/ target=_blank><span style=font-size: medium><span style=font-family: times new roman>amy.broyles@knoxcounty.org</span></span></a></span></u><br>    <span style=font-size: medium><span style=font-family: times new roman>224-6269(h)</span></span><br>    <br>    <span style=font-size: medium><span style=font-family: times new roman><span style=background-color: #ffff00>Mike Hammond**</span></span></span><br>    <u><span style=color: blue><a href=http://mike.hammond%40knoxcounty.org/ target=_blank><span style=font-size: medium><span style=font-family: times new roman><span style=background-color: #ffff00>mike.hammond@knoxcounty.org</span></span></span></a></span></u><br>    <span style=font-size: medium><span style=font-family: times new roman><span style=background-color: #ffff00>470-8599(h)</span></span></span><br>    <br>    <span style=font-size: medium><span style=font-family: times new roman>Sam McKenzie</span></span><br>    <u><span style=color: blue><a href=http://sam.mckenzie%40knoxcounty.org/ target=_blank><span style=font-size: medium><span style=font-family: times new roman>sam.mckenzie@knoxcounty.org</span></span></a></span></u><br>    <span style=font-size: medium><span style=font-family: times new roman>524-1458(h)<br>    <br>    Tony Norman</span></span><br>    <u><span style=color: blue><a href=http://tony.norman%40knoxcounty.org/ target=_blank><span style=font-size: medium><span style=font-family: times new roman>tony.norman@knoxcounty.org</span></span></a></span></u><br>    <span style=font-size: medium><span style=font-family: times new roman>524-4301(h)<br>    <br>    Jeff Ownby</span></span><br>    <u><span style=color: blue><a href=http://jeff.ownby%40knoxcounty.org/ target=_blank><span style=font-size: medium><span style=font-family: times new roman>jeff.ownby@knoxcounty.org</span></span></a></span></u><br>    <span style=font-size: medium><span style=font-family: times new roman>441-6162(c)<br>    <br>    Ed Shouse</span></span><br>    <u><span style=color: blue><a href=http://ed.shouse%40knoxcounty.org/ target=_blank><span style=font-size: medium><span style=font-family: times new roman>ed.shouse@knoxcounty.org</span></span></a></span></u><br>    <span style=font-size: medium><span style=font-family: times new roman>584-7858(h)<br>    <br>    R. Larry Smith</span></span><br>    <u><span style=color: blue><a href=http://larry.smith%40knoxcounty.org/ target=_blank><span style=font-size: medium><span style=font-family: times new roman>larry.smith@knoxcounty.org</span></span></a></span></u><br>    <span style=font-size: medium><span style=font-family: times new roman>679-4106(c)</span></span><br>    <br>    <span style=font-size: medium><span style=font-family: times new roman><span style=background-color: #ffff00>Dave Wright**</span></span></span><br>    <u><span style=color: blue><a href=http://dave.wright%40knoxcounty.org/ target=_blank><span style=font-size: medium><span style=font-family: times new roman><span style=background-color: #ffff00>dave.wright@knoxcounty.org</span></span></span></a></span></u><br>    <span style=font-size: medium><span style=font-family: times new roman><span style=background-color: #ffff00>687-6677(h)</span></span></span><br>    &nbsp\;<br>    &nbsp\;</div>
LOCATION:400 Main St. Main Assembly Room Knoxville\, TN
UID:e.9402.359
SEQUENCE:3
DTSTAMP:20260422T175308Z
URL:http://hbaknoxvilletn.memberzone.com/events/details/knox-county-commission-vote-on-ridgetop-protection-plan-11-21-2011-359
END:VEVENT

END:VCALENDAR
