BEGIN:VCALENDAR
VERSION:2.0
PRODID:-//ChamberMaster//Event Calendar 2.0//EN
METHOD:PUBLISH
X-PUBLISHED-TTL:P3D
REFRESH-INTERVAL:P3D
CALSCALE:GREGORIAN
BEGIN:VEVENT
DTSTART;VALUE=DATE:20110425
DTEND;VALUE=DATE:20110426
TRANSP:TRANSPARENT
X-MICROSOFT-CDO-ALLDAYEVENT:TRUE
SUMMARY:Knox County Commission - Vote on Ridgetop Protection Plan
DESCRIPTION:Urgent - HBAGK Members Take Action!!   We need all HBAGK members to attend the final vote on the Hillside and Ridgetop Plan from MPC. This important vote is on Monday April 25\, 2011 at 6:00 pm. The vote will be held in the Main Assembly Room of the City County Building at 400 West Main Street in downtown Knoxville. This vote will take only an hour or so of your time. We need you there.   Some of our most prestigious subdivisions are on rolling hills throughout the county. Sequoyah Hills\, Holston Hills\, West Hills\, Crestwood Hills\, Concord Hills and Suburban Hills are very nice places to live. They all have moderate slopes in the 15% range.   This important vote will be a change to the General Plan and all Sector Plans from the Knox Country Metropolitan Planning Commission that could affect your ability to sell new homes on rolling hills that prospective homeowner's desire.  This vote on the Ridgetop/Hillside Protection Plan from MPC will:             Put difficult cost restrictions on new home construction on any property with a slope of 15% or more reducing new home inventory           New construction of needed affordable housing will be too costly on any property with a 15% slope or greater           Create uncertainty and stall sales in the local real estate market           Affect over 140\,000 acres of property in Knox County           Have a dramatic affect on our community's ability to grow in the future           Take property rights out of our hands and place it in the hands of the government   This is bad business for Knox County Builders\, Realtors\, Suppliers\, Subs and Knox County property owners.  For more information please watch these brief YouTube videos:   http://www.youtube.com/watch?v=7fdL4rg8Syw   http://www.youtube.com/watch?v=qmKpCfn36mY   Email your Knox County Commissioner TODAY! Be very nice and explain we want them to vote this plan down because it will harm our industry and infringe on the rights of property owners. Tell them we do not want another 30 day delay and that we want them to vote Monday. This is very important.    And please join us at 6:00 pm vote on Monday April 25th so your voice can be heard. Come by the HBAGK office Monday around 5:00 pm to pick up signs and car pool with your Association Members if you would like. The Realtors will have an "after the vote" get together at Latitude 35 on Market Square where we can discuss this vote and the future city elections and how they relate to our industry. And of course to have some fun. Which we need to do more often. We are all in this together.   You can contact your Knox County Commissioner here: 1st District\, Sam McKenzie: sam.mckenzie@knoxcounty.org           3rd District\, Tony Norman: tony.norman@knoxcounty.org 4th District\, Jeff Ownby\, jeff.ownby@knoxcounty.org 5th District\, Richard Briggs\, richard.briggs@knoxcounty.org 6th District\, Brad Anders\, brad.anders@knoxcounty.org 7th District\, R. Larry Smith\, larry.smith@knoxcounty.org 8th District\, Dave Wright\, dave.wright@knoxcounty.org 9th District\, Mike Brown\, michael.brown@knoxcounty.org At Large Seat 10\, Mike Hammond\, mike.hammond@knoxcounty.org At Large Seat 11\, Ed Shouse\, ed.shouse@knoxcounty.org Knox County Commission is scheduled to vote on the Ridgetop Protection Plan at 6:00 PM. This is an urgent meeting that requires your participation. Please contact your Commissioner to let them know that we do not support this plan!
X-ALT-DESC;FMTTYPE=text/html:<p>&nbsp\;</p> <div style=margin: 0in 0in 0pt align=center><b><span style=font-size: 20pt\; color: red>Urgent - HBAGK Members Take Action!!</span></b></div> <div style=margin: 0in 0in 0pt>&nbsp\;</div> <div style=margin: 0in 0in 0pt>We <u>need all HBAGK members</u> to attend the final vote on the Hillside and Ridgetop Plan from MPC. This important vote is on Monday April 25\, 2011 at 6:00 pm.&nbsp\;The vote will be held in the Main Assembly Room of the City County Building at 400 West Main Street in downtown Knoxville. This vote will take only an hour or so of your time. We need you there.</div> <div style=margin: 0in 0in 0pt>&nbsp\;</div> <div style=margin: 0in 0in 0pt>Some of our most prestigious subdivisions are on rolling hills throughout the county. <b>Sequoyah Hills\, Holston Hills\, West Hills\, Crestwood Hills\, Concord Hills and Suburban Hills are very nice places to live</b>. They all have moderate slopes in the 15% range.</div> <div style=margin: 0in 0in 0pt>&nbsp\;</div> <div style=margin: 0in 0in 0pt>This important vote will be a change to the General Plan and all Sector Plans from the Knox Country Metropolitan Planning Commission that could affect your ability to <u>sell new homes</u> on rolling hills that prospective homeowner&rsquo\;s desire.&nbsp\; This vote on the Ridgetop/Hillside Protection Plan from MPC will:</div> <div style=margin: 0in 0in 0pt>&nbsp\;</div> <div style=margin: 0in 0in 0pt 0.5in\; text-indent: -0.25in><span style=font-size: 12pt>&middot\;<span style=font: 7pt &rsquo\;Times New Roman&rsquo\;>&nbsp\;&nbsp\;&nbsp\;&nbsp\;&nbsp\;&nbsp\;&nbsp\;&nbsp\; </span></span><span style=font-size: 12pt>Put difficult cost restrictions on new home construction on any property with a slope of 15% or more reducing new home inventory</span></div> <div style=margin: 0in 0in 0pt 0.5in\; text-indent: -0.25in><span style=font-size: 12pt>&middot\;<span style=font: 7pt &rsquo\;Times New Roman&rsquo\;>&nbsp\;&nbsp\;&nbsp\;&nbsp\;&nbsp\;&nbsp\;&nbsp\;&nbsp\; </span></span><span style=font-size: 12pt>New construction of needed affordable housing will be too costly on any property with a 15% slope or greater</span></div> <div style=margin: 0in 0in 0pt 0.5in\; text-indent: -0.25in><span style=font-size: 12pt>&middot\;<span style=font: 7pt &rsquo\;Times New Roman&rsquo\;>&nbsp\;&nbsp\;&nbsp\;&nbsp\;&nbsp\;&nbsp\;&nbsp\;&nbsp\; </span></span><span style=font-size: 12pt>Create uncertainty and stall sales in the local real estate market</span></div> <div style=margin: 0in 0in 0pt 0.5in\; text-indent: -0.25in><span style=font-size: 12pt>&middot\;<span style=font: 7pt &rsquo\;Times New Roman&rsquo\;>&nbsp\;&nbsp\;&nbsp\;&nbsp\;&nbsp\;&nbsp\;&nbsp\;&nbsp\; </span></span><span style=font-size: 12pt>Affect over 140\,000 acres of property in Knox County</span></div> <div style=margin: 0in 0in 0pt 0.5in\; text-indent: -0.25in><span style=font-size: 12pt>&middot\;<span style=font: 7pt &rsquo\;Times New Roman&rsquo\;>&nbsp\;&nbsp\;&nbsp\;&nbsp\;&nbsp\;&nbsp\;&nbsp\;&nbsp\; </span></span><span style=font-size: 12pt>Have a dramatic affect on our community&rsquo\;s ability to grow in the future</span></div> <div style=margin: 0in 0in 0pt 0.5in\; text-indent: -0.25in><span style=font-size: 12pt>&middot\;<span style=font: 7pt &rsquo\;Times New Roman&rsquo\;>&nbsp\;&nbsp\;&nbsp\;&nbsp\;&nbsp\;&nbsp\;&nbsp\;&nbsp\; </span></span><span style=font-size: 12pt>Take property rights out of our hands and place it in the hands of the government</span></div> <div style=margin: 0in 0in 0pt>&nbsp\;</div> <div style=margin: 0in 0in 0pt>This is bad business for Knox County Builders\, Realtors\, Suppliers\, Subs and Knox County property owners.&nbsp\; For more information please watch these brief YouTube videos:</div> <div style=margin: 0in 0in 0pt>&nbsp\;</div> <div style=margin: 0in 0in 0pt><a href=http://www.youtube.com/watch?v=7fdL4rg8Syw>http://www.youtube.com/watch?v=7fdL4rg8Syw</a></div> <div style=margin: 0in 0in 0pt>&nbsp\;</div> <div style=margin: 0in 0in 0pt><a href=http://www.youtube.com/watch?v=qmKpCfn36mY>http://www.youtube.com/watch?v=qmKpCfn36mY</a></div> <div style=margin: 0in 0in 0pt>&nbsp\;</div> <div style=margin: 0in 0in 0pt>Email your Knox County Commissioner TODAY! Be very nice and explain we want them to <u>vote this plan down</u> because it will harm our industry and infringe on the rights of property owners. Tell them we do not want <u>another 30 day delay</u> and that we want them to vote Monday. <b><span style=color: red>This is very important</span>. </b></div> <div style=margin: 0in 0in 0pt>&nbsp\;</div> <div style=margin: 0in 0in 0pt>And please join us at 6:00 pm vote on Monday April 25<sup>th</sup> so your voice can be heard. <u>Come by the HBAGK office Monday around 5:00 pm </u>to pick up signs and car pool with your Association Members if you would like. The <b>Realtors</b> will have an &ldquo\;after the vote&rdquo\; get together at Latitude 35 on Market Square where we can discuss this vote and the future city elections and how they relate to our industry. And of course to have some fun. Which we need to do more often. We are all in this together.</div> <div style=margin: 0in 0in 0pt>&nbsp\;</div> <div style=margin: 0in 0in 0pt>You can contact your Knox County Commissioner here:</div> <div>1st District\, Sam McKenzie: <a href=mailto:sam.mckenzie@knoxcounty.org>sam.mckenzie@knoxcounty.org</a>&nbsp\;&nbsp\;&nbsp\;&nbsp\;&nbsp\;&nbsp\;&nbsp\;&nbsp\;&nbsp\;&nbsp\;</div> <div>3rd District\, Tony Norman: <a href=mailto:tony.norman@knoxcounty.org>tony.norman@knoxcounty.org</a></div> <div>4th District\, Jeff Ownby\, <a href=mailto:jeff.ownby@knoxcounty.org>jeff.ownby@knoxcounty.org</a></div> <div>5th District\, Richard Briggs\, <a href=mailto:richard.briggs@knoxcounty.org>richard.briggs@knoxcounty.org</a></div> <div>6th District\, Brad Anders\, <a href=mailto:brad.anders@knoxcounty.org>brad.anders@knoxcounty.org</a></div> <div>7th District\, R. Larry Smith\, <a href=mailto:larry.smith@knoxcounty.org>larry.smith@knoxcounty.org</a></div> <div>8th District\, Dave Wright\, <a href=mailto:dave.wright@knoxcounty.org>dave.wright@knoxcounty.org</a></div> <div>9th District\, Mike Brown\, <a href=mailto:michael.brown@knoxcounty.org>michael.brown@knoxcounty.org</a></div> <div>At Large Seat 10\, Mike Hammond\, <a href=mailto:mike.hammond@knoxcounty.org>mike.hammond@knoxcounty.org</a></div> <div>At Large Seat 11\, Ed Shouse\, <a href=mailto:ed.shouse@knoxcounty.org>ed.shouse@knoxcounty.org</a></div> <p>Knox County Commission is scheduled to vote on the Ridgetop Protection Plan at 6:00 PM. This is an urgent meeting that requires your participation. Please contact your Commissioner to let them know that we do not support this plan!</p> <p>&nbsp\;</p>
LOCATION:400 Main St. Main Assembly Room Knoxville\, TN
UID:e.9402.285
SEQUENCE:3
DTSTAMP:20260423T064538Z
URL:http://hbaknoxvilletn.memberzone.com/events/details/knox-county-commission-vote-on-ridgetop-protection-plan-04-25-2011-285
END:VEVENT

END:VCALENDAR
