BEGIN:VCALENDAR
VERSION:2.0
PRODID:-//ChamberMaster//Event Calendar 2.0//EN
METHOD:PUBLISH
X-PUBLISHED-TTL:P3D
REFRESH-INTERVAL:P3D
CALSCALE:GREGORIAN
BEGIN:VEVENT
DTSTART;VALUE=DATE:20100923
DTEND;VALUE=DATE:20100924
TRANSP:TRANSPARENT
X-MICROSOFT-CDO-ALLDAYEVENT:TRUE
SUMMARY:Knox County Codes Update - Thursday 9/23/10
DESCRIPTION:Knox County Codes Update - New Energy Conservation Inspections Knox County Chief Codes Inspector   Roy Braden   Thursday\, September 23rd (This is the final session that we have scheduled for these updates) 2:00   4:00 p.m. at the HBAGK Office FREE Admission for HBAGK Members   The presentation will feature Knox County Chief Building Inspector Roy Braden as our speaker. Mr. Braden will discuss the NEW ENERGY CONSERVATION INSPECTIONS that begin October 1st\, 2010 for Knox County. He will also be available to answer your questions.   The program is free of charge\, but due to limited seating in our meeting room SPACE IS LIMITED TO 25 ATTENDEES. You must register to attend!! **FIRST COME\, FIRST SERVED**    To register please respond via email\, fax attached form to 546-0031 or call us with names of those attending at 546-4665.
X-ALT-DESC;FMTTYPE=text/html:<p><b><span style=font-size: 14pt>Knox County Codes Update </span></b>- <b><span style=font-size: 14pt /></b><b><span style=font-size: 14pt>New Energy Conservation Inspections</span></b><b><span style=font-size: 14pt /></b></p> <div style=margin: 0in 0in 0pt><span style=font-size: 14pt>Knox County Chief Codes Inspector &ndash\; Roy Braden</span></div> <div style=margin: 0in 0in 0pt>&nbsp\;</div> <div style=margin: 0in 0in 0pt><span style=color: #ff0000><span style=font-size: 14pt>Thursday\, September 23rd (This is the final session that we have scheduled for these updates)</span></span></div> <div style=margin: 0in 0in 0pt><span style=color: #ff0000><span style=font-size: 14pt>2:00 &ndash\; 4:00 p.m. at the HBAGK Office</span></span></div> <div style=margin: 0in 0in 0pt><span style=color: #ff0000><span style=font-size: 14pt>FREE Admission for HBAGK Members</span></span></div> <div style=margin: 0in 0in 0pt>&nbsp\;</div> <div style=margin: 0in 0in 0pt><span style=font-size: 14pt>The presentation will feature Knox County Chief Building Inspector Roy Braden as our speaker. Mr. Braden will discuss the NEW ENERGY CONSERVATION INSPECTIONS that begin October 1<sup>st</sup>\, 2010 for Knox County. He will also be available to answer your questions.</span></div> <div style=margin: 0in 0in 0pt>&nbsp\;</div> <div style=margin: 0in 0in 0pt><span style=font-size: 14pt>The program is <u>free of charge</u>\, but due to limited seating in our meeting room <span style=color: #ff0000>SPACE IS LIMITED TO 25 ATTENDEES</span>. You must register to attend!! <i>**FIRST COME\, FIRST SERVED** </i></span></div> <div style=margin: 0in 0in 0pt><span style=font-size: 14pt /></div> <div style=margin: 0in 0in 0pt><span style=font-size: 14pt /></div> <div style=margin: 0in 0in 0pt><span style=font-size: 14pt>To register please respond via email\, fax attached form to 546-0031 or call us with names of those attending at 546-4665. </span><span style=font-size: 14pt /><span style=font-size: 14pt /></div>
LOCATION:221 Clark Street\, NW Knoxville\, TN
UID:e.9402.242
SEQUENCE:3
DTSTAMP:20260424T070137Z
URL:http://hbaknoxvilletn.memberzone.com/events/details/knox-county-codes-update-thursday-9-23-10-09-23-2010-242
END:VEVENT

END:VCALENDAR
