BEGIN:VCALENDAR
VERSION:2.0
PRODID:-//ChamberMaster//Event Calendar 2.0//EN
METHOD:PUBLISH
X-PUBLISHED-TTL:P3D
REFRESH-INTERVAL:P3D
CALSCALE:GREGORIAN
BEGIN:VEVENT
DTSTART:20130205T050000Z
DTEND:20130219T050000Z
X-MICROSOFT-CDO-ALLDAYEVENT:FALSE
SUMMARY:Knox Co. Codes Update 2012 IRC
DESCRIPTION:"IRC Significant Code Changes for 2012\, Q & A"\n Speaker: Roy Braden of Knox County Codes\n  \n THREE DATES   February 5\, 7 or 19 \n at the HBAGK Office\n FREE Admission for HBAGK Members\n  \n The presentation will feature Knox County Chief Building Inspector Roy Braden as our speaker. Mr. Braden will discuss the newly adopted 2012 International Residential Codes and updates for Knox County. He will also be available to answer your questions and have handouts.\n  \n The program is free of charge for MEMBERS but due to limited seating in our meeting room\, SPACE IS LIMITED. You must register to attend!\n **FIRST COME\, FIRST SERVED**\n  \n Please complete the form and fax it to our office at 546-0031\, email to staff@hbaknoxville.com or call the office with names of those attending at 546-4665 x25.
X-ALT-DESC;FMTTYPE=text/html:<strong><span style=font-size:14.0pt\;>&ldquo\;IRC Significant Code Changes for 2012\, Q &amp\; A&rdquo\;</span></strong><br> <strong><span style=font-size:14.0pt\;>Speaker: Roy Braden of Knox County Codes</span></strong><br> &nbsp\;<br> <span style=color:#0f243e\;><span style=font-size:14.0pt\;>THREE DATES &ndash\; February 5\, 7 or 19 </span></span><br> <span style=color:#0f243e\;><span style=font-size:14.0pt\;>at the HBAGK Office</span></span><br> <span style=color:#0f243e\;><span style=font-size:14.0pt\;>FREE Admission for HBAGK Members</span></span><br> &nbsp\;<br> <span style=font-size:14.0pt\;>The presentation will feature Knox County Chief Building Inspector Roy Braden as our speaker. Mr. Braden will discuss the newly adopted 2012 International Residential Codes and updates for Knox County. He will also be available to answer your questions and have handouts.</span><br> &nbsp\;<br> <span style=font-size:14.0pt\;>The program is <u>free of charge for MEMBERS</u> but due to limited seating in our meeting room\, SPACE IS LIMITED. You must register to attend!</span><br> <em><span style=font-size:14.0pt\;>**FIRST COME\, FIRST SERVED**</span></em><br> &nbsp\;<br> <span style=font-size:14.0pt\;>Please complete the form and <u>fax</u> it to our office at 546-0031\, email to <a href=mailto:staff@hbaknoxville.com>staff@hbaknoxville.com</a> or call the office with names of those attending at 546-4665 x25.</span><br>
LOCATION:221 Clark Street\, NW Knoxville\, TN
UID:e.9402.483
SEQUENCE:3
DTSTAMP:20260421T040905Z
URL:http://hbaknoxvilletn.memberzone.com/events/details/knox-co-codes-update-2012-irc-02-05-2013-483
END:VEVENT

END:VCALENDAR
