BEGIN:VCALENDAR
VERSION:2.0
PRODID:-//ChamberMaster//Event Calendar 2.0//EN
METHOD:PUBLISH
X-PUBLISHED-TTL:P3D
REFRESH-INTERVAL:P3D
CALSCALE:GREGORIAN
BEGIN:VEVENT
DTSTART;VALUE=DATE:20140603
DTEND;VALUE=DATE:20140604
TRANSP:TRANSPARENT
X-MICROSOFT-CDO-ALLDAYEVENT:TRUE
SUMMARY:KATZ Roadshow - Frame to Finish Carpentry Clinics
DESCRIPTION:Builders FirstSource\, with support from AdvanTech flooring and ZIP System sheathing and tape\, is proud to offer one day of hands-on building clinics with Mike Sloggatt\, remodeling specialist and a nationally recognized author & teacher. These clinics will offer tips on increasing job site productivity\, conquering new energy codes\, and improving your bottom line. Attendees will also have the chance to meet with vendors from across the industry and win great prizes!\nBy invitation only. RSVP required. To guarantee a seat you must RSVP to: Ronnie Shelton\, 865-282-0777 or ronnie.shelton@bldr.com. Take advantage of this FREE opportunity. Breakfast & lunch will be served.www.katzroadshow.com\nSession 1 - Lifetime Floor SystemsSession 2 - Building WeatherizationSession 3 - Wall PerformanceSession 4 - Roof Systems\nContinuing Education credits & certification are available for all events.
X-ALT-DESC;FMTTYPE=text/html:Builders FirstSource\, with support from AdvanTech flooring and ZIP System sheathing and tape\, is proud to offer one day of hands-on building clinics with Mike Sloggatt\, remodeling specialist and a nationally recognized author &amp\; teacher. These clinics will offer tips on increasing job site productivity\, conquering new energy codes\, and improving your bottom line. Attendees will also have the chance to meet with vendors from across the industry and win great prizes!<div><br></div><div><span style=color: rgb(255\, 0\, 0)\; font-weight: bold\;>By invitation only. RSVP required. To guarantee a seat you must RSVP to: Ronnie Shelton\, 865-282-0777 or ronnie.shelton@bldr.com.&nbsp\;</span></div><div><span style=color: rgb(255\, 0\, 0)\; font-weight: bold\;>Take advantage of this FREE opportunity. Breakfast &amp\; lunch will be served.</span></div><div>www.katzroadshow.com</div><div><br></div><div>Session 1 - Lifetime Floor Systems</div><div>Session 2 - Building Weatherization</div><div>Session 3 - Wall Performance</div><div>Session 4 - Roof Systems</div><div><br></div><div>Continuing Education credits &amp\; certification are available for all events.&nbsp\;</div>
LOCATION:10101 Caneel Drive Knoxville\, TN
UID:e.9402.608
SEQUENCE:3
DTSTAMP:20260419T210823Z
URL:http://hbaknoxvilletn.memberzone.com/events/details/katz-roadshow-frame-to-finish-carpentry-clinics-06-03-2014-608
END:VEVENT

END:VCALENDAR
