BEGIN:VCALENDAR
VERSION:2.0
PRODID:-//ChamberMaster//Event Calendar 2.0//EN
METHOD:PUBLISH
X-PUBLISHED-TTL:P3D
REFRESH-INTERVAL:P3D
CALSCALE:GREGORIAN
BEGIN:VEVENT
DTSTART;VALUE=DATE:20130606
DTEND;VALUE=DATE:20130607
TRANSP:TRANSPARENT
X-MICROSOFT-CDO-ALLDAYEVENT:TRUE
SUMMARY:June 6 Luncheon & Seminar
DESCRIPTION:The National Association of Credit Management\n \n Looking Back and Looking Up! \n Learn the truth about Subprime Lending PLUS an overview of the housing market for East Tennessee. \n PRESENTED BY: Dale Akins\, President\, The Market Edge\n \n 11:30 am - 1:00 pm LUNCHEON\n \n AND/OR\n \n TN Lien Law Overview\n Not just for credit managers    this is a must attend event for suppliers and subcontractors in the construction industry. \n PRESENTED BY: Jerry Martin\, Attorney\, The Martin Law Firm\n \n 1:20 pm   5:00 pm SEMINAR\n \n BOTH EVENTS WILL BE HOSTED AT\n Knoxville Expo Center\, 5441 Clinton Highway\, Knoxville\, TN 37912\n \n \n PRODUCT DISPLAYS PROVIDED BY OUR SPECIAL EVENT SPONSORS:\n ABC Supply Company\, Inc.\, B-Dry Waterproofing\, Friedman's Appliances\, General Shale Brick\, Gray Hodges Corporation\, Hiwassee Window & Door\, Smoky Mountain Materials\, Tindell's Building Materials\n \n SPECIAL INFORMATION TABLES HOSTED BY:\n National Association of Credit Management\n Home Builders Association of Greater Knoxville\n Tennessee Small Business Development Center\n U.S. Department of Housing & Urban Development\n \n RSVP: 546-0452 (NACM)
X-ALT-DESC;FMTTYPE=text/html:<strong><span style=font-family:verdana\,sans-serif\;><span style=font-size:16.0pt\;>The National Association of Credit Management</span></span></strong><br> <br> <span style=font-family:arial\,sans-serif\;><span style=font-size:18.0pt\;>Looking Back and Looking Up!</span></span><strong><span style=color:red\;><span style=font-family:verdana\,sans-serif\;><span style=font-size:14.0pt\;>&nbsp\;</span></span></span></strong><br> <span style=font-family:verdana\,sans-serif\;>Learn the truth about Subprime Lending PLUS an overview of the housing market for East Tennessee.&nbsp\;<br> <strong>PRESENTED BY:&nbsp\;</strong></span><span style=font-family:verdana\,sans-serif\;><span style=font-size:10.0pt\;>Dale Akins\, President\, The Market Edge</span></span><br> <br> <strong><span style=color:red\;><span style=font-family:verdana\,sans-serif\;>11:30 am - 1:00 pm LUNCHEON</span></span></strong><br> <br> <strong><span style=color:blue\;><span style=font-family:verdana\,sans-serif\;><span style=font-size:14.0pt\;>AND/OR</span></span></span></strong><br> <br> <span style=font-family:arial\,sans-serif\;><span style=font-size:18.0pt\;>TN Lien Law Overview</span></span><br> <span style=font-family:verdana\,sans-serif\;>Not just for credit managers &hellip\;&hellip\; this is a must attend event for suppliers and subcontractors in the construction industry.&nbsp\;</span><br> <strong><span style=font-family:verdana\,sans-serif\;>PRESENTED BY:&nbsp\;</span></strong><span style=font-family:verdana\,sans-serif\;><span style=font-size:11.0pt\;>Jerry Martin\, Attorney\, </span></span><span style=font-family:verdana\,sans-serif\;><span style=font-size:10.0pt\;>The Martin Law Firm</span></span><br> <br> <strong><span style=color:red\;><span style=font-family:verdana\,sans-serif\;>1:20 pm &ndash\; 5:00 pm SEMINAR</span></span></strong><br> <br> <strong><span style=font-family:verdana\,sans-serif\;>BOTH EVENTS WILL BE HOSTED AT</span></strong><br> <span style=font-family:verdana\,sans-serif\;><span style=font-size:11.0pt\;>Knoxville Expo Center\, 5441 Clinton Highway\, Knoxville\, TN 37912</span></span><br> <br> <br> <strong><span style=font-family:arial\,sans-serif\;><span style=font-size:14.0pt\;>PRODUCT DISPLAYS PROVIDED BY&nbsp\;OUR SPECIAL EVENT SPONSORS:</span></span></strong><br> <span style=font-family:arial\,sans-serif\;><span style=font-size:11.0pt\;>ABC Supply Company\, Inc.\, B-Dry Waterproofing\, Friedman&#39\;s Appliances\, General Shale Brick\, Gray Hodges Corporation\, Hiwassee Window &amp\; Door\, Smoky Mountain Materials\, Tindell&#39\;s Building Materials</span></span><br> <br> <strong><span style=font-family:arial\,sans-serif\;><span style=font-size:14.0pt\;>SPECIAL INFORMATION TABLES HOSTED BY:</span></span></strong><br> <span style=font-family:arial\,sans-serif\;><span style=font-size:11.0pt\;>National Association of Credit Management<br> Home Builders Association of Greater Knoxville<br> Tennessee Small Business Development Center<br> U.S. Department of Housing &amp\; Urban Development</span></span><br> <br> <strong><span style=color:red\;><span style=font-family:verdana\,sans-serif\;><span style=font-size:14.0pt\;>RSVP: 546-0452 (NACM)</span></span></span></strong><br> <br> <br>
LOCATION:5441 Clinton HWY Knoxville\, TN
UID:e.9402.523
SEQUENCE:3
DTSTAMP:20260420T225103Z
URL:http://hbaknoxvilletn.memberzone.com/events/details/june-6-luncheon-seminar-06-06-2013-523
END:VEVENT

END:VCALENDAR
