BEGIN:VCALENDAR
VERSION:2.0
PRODID:-//ChamberMaster//Event Calendar 2.0//EN
METHOD:PUBLISH
X-PUBLISHED-TTL:P3D
REFRESH-INTERVAL:P3D
CALSCALE:GREGORIAN
BEGIN:VEVENT
DTSTART;VALUE=DATE:20140317
DTEND;VALUE=DATE:20140318
TRANSP:TRANSPARENT
X-MICROSOFT-CDO-ALLDAYEVENT:TRUE
SUMMARY:In-District Legislative Conference *Updated with Talking Points
DESCRIPTION:*Talking points attached: NAHB Housing Outlook Positive Signs for 2014.\nThe Congressional schedule made the 2014 Legislative Conference impractical to hold in Washington\, DC. As an alternative\, HBAGK members will advocate for housing's legislative priorities AT HOME with US Congressman Jimmy Duncan. This event provides a unique opportunity for HBAGK members to show federal lawmakers the economic power of the housing industry where we live\, work and play. \nSnacks and beverages will be provided by our hosts\, ORNL Federal Credit Union. Admission is FREE but we ask you to RSVP so we can plan for our guests. Register online via the blue link provided at the top of this message\, email us or call Rachael at 546-4665.
X-ALT-DESC;FMTTYPE=text/html:<div><span style=font-size:12.0pt\;line-height:130%\; font-family:&quot\;Arial&quot\;\,&quot\;sans-serif&quot\;\;mso-ascii-theme-font:minor-latin\;mso-fareast-font-family: SimSun\;mso-fareast-theme-font:minor-fareast\;mso-hansi-theme-font:minor-latin\; mso-bidi-font-family:&quot\;Times New Roman&quot\;\;mso-bidi-theme-font:minor-bidi\; mso-ansi-language:EN-US\;mso-fareast-language:JA\;mso-bidi-language:AR-SA><br></span></div><span style=line-height: 130%\; font-family: Arial\, sans-serif\;><div><span style=font-size: 12pt\; line-height: 130%\; font-family: Arial\, sans-serif\;>*Talking points attached:&nbsp\;</span><span style=color: rgb(0\, 0\, 0)\; font-family: verdana\; line-height: normal\; font-size: 14px\;>NAHB Housing Outlook Positive Signs for 2014.</span></div></span><span style=font-size:12.0pt\;line-height:130%\; font-family:&quot\;Arial&quot\;\,&quot\;sans-serif&quot\;\;mso-ascii-theme-font:minor-latin\;mso-fareast-font-family: SimSun\;mso-fareast-theme-font:minor-fareast\;mso-hansi-theme-font:minor-latin\; mso-bidi-font-family:&quot\;Times New Roman&quot\;\;mso-bidi-theme-font:minor-bidi\; mso-ansi-language:EN-US\;mso-fareast-language:JA\;mso-bidi-language:AR-SA><div><span style=font-size:12.0pt\;line-height:130%\; font-family:&quot\;Arial&quot\;\,&quot\;sans-serif&quot\;\;mso-ascii-theme-font:minor-latin\;mso-fareast-font-family: SimSun\;mso-fareast-theme-font:minor-fareast\;mso-hansi-theme-font:minor-latin\; mso-bidi-font-family:&quot\;Times New Roman&quot\;\;mso-bidi-theme-font:minor-bidi\; mso-ansi-language:EN-US\;mso-fareast-language:JA\;mso-bidi-language:AR-SA><br></span></div>The Congressional schedule made the 2014 Legislative Conference impractical to hold in Washington\, DC. As an alternative\, HBAGK members will advocate for housing's legislative priorities AT HOME with US Congressman Jimmy Duncan. This event provides a unique opportunity for HBAGK members to show federal lawmakers the economic power of the housing industry where we live\, work and play.&nbsp\;</span><div><span style=font-size:12.0pt\;line-height:130%\; font-family:&quot\;Arial&quot\;\,&quot\;sans-serif&quot\;\;mso-ascii-theme-font:minor-latin\;mso-fareast-font-family: SimSun\;mso-fareast-theme-font:minor-fareast\;mso-hansi-theme-font:minor-latin\; mso-bidi-font-family:&quot\;Times New Roman&quot\;\;mso-bidi-theme-font:minor-bidi\; mso-ansi-language:EN-US\;mso-fareast-language:JA\;mso-bidi-language:AR-SA><br></span></div><div><span style=font-size:12.0pt\;line-height:130%\; font-family:&quot\;Arial&quot\;\,&quot\;sans-serif&quot\;\;mso-ascii-theme-font:minor-latin\;mso-fareast-font-family: SimSun\;mso-fareast-theme-font:minor-fareast\;mso-hansi-theme-font:minor-latin\; mso-bidi-font-family:&quot\;Times New Roman&quot\;\;mso-bidi-theme-font:minor-bidi\; mso-ansi-language:EN-US\;mso-fareast-language:JA\;mso-bidi-language:AR-SA>Snacks and beverages will be provided by our hosts\, ORNL Federal Credit Union. Admission is FREE but we ask you to RSVP so we can plan for our guests. Register online via the blue link provided at the top of this message\, email us or call Rachael at 546-4665.</span></div><div><span style=font-size:12.0pt\;line-height:130%\; font-family:&quot\;Arial&quot\;\,&quot\;sans-serif&quot\;\;mso-ascii-theme-font:minor-latin\;mso-fareast-font-family: SimSun\;mso-fareast-theme-font:minor-fareast\;mso-hansi-theme-font:minor-latin\; mso-bidi-font-family:&quot\;Times New Roman&quot\;\;mso-bidi-theme-font:minor-bidi\; mso-ansi-language:EN-US\;mso-fareast-language:JA\;mso-bidi-language:AR-SA><br></span></div>
LOCATION:8351 E. Walker Springs Lane # 200 Knoxville\, TN
UID:e.9402.590
SEQUENCE:3
DTSTAMP:20260420T022758Z
URL:http://hbaknoxvilletn.memberzone.com/events/details/in-district-legislative-conference-updated-with-talking-points-03-17-2014-590
END:VEVENT

END:VCALENDAR
