BEGIN:VCALENDAR
VERSION:2.0
PRODID:-//ChamberMaster//Event Calendar 2.0//EN
METHOD:PUBLISH
X-PUBLISHED-TTL:P3D
REFRESH-INTERVAL:P3D
CALSCALE:GREGORIAN
BEGIN:VEVENT
DTSTART;VALUE=DATE:20111011
DTEND;VALUE=DATE:20111012
TRANSP:TRANSPARENT
X-MICROSOFT-CDO-ALLDAYEVENT:TRUE
SUMMARY:ICC Region 8 Chapter Seminar
DESCRIPTION:Region 8 is excited to announce the following continuing educational seminar for Code Enforcement Officials\, Building Contractors and Design Professionals. The course can be submitted for approval for State Agency CEU's in GA\, NC\, and SC\, as well as being acceptable for AIA CES Credits. This course is already approved by the state of TN.\n  \n This class is sponsored by the Home Builders of Southern TN.  \n  \n Registration is available to the first 60 paid applicants and includes lunch and breaks.  Don't hesitate as this class will fill up quickly.\n  \n Location:             Home Builders Association of Southern TN\, 3221 Harrison Pike\, Chattanooga\, TN 37406\n                                                                 \n When:                 October 11\, 2011        Registration 7:30 AM Class 8:00 AM to 4:00 PM\n                        \n Seminar:             Structural Wood Framing Concepts.  This class will cover load calculations in both residential and commercial applications for wood frame construction. Special emphasis will be on residential construction. Major topics will be floor and ceiling loads imposed on the structural members. Roof loads and point loads will also be discussed. The class will cover correct drilling\, notching & boring procedures in floor\, wall and ceiling construction. Installation procedures when engineered products are used will also be discussed. The top ten common structural mistakes will be discussed. The class will be taught by Mr. Ron Corum\, P.E. He is a graduate of the University of Tennessee and has an extensive background in both residential and commercial projects. Mr. Corum has taught numerous classes to contractors and building officials.\n  \n Registration:       Before October 6\, 2011                                      $50.00 \n  \n                         After October 06\, 2011                                   $65.00  \n                        \n                         Fee includes lunch and breaks.    \n                                                \n Payment:             Must be made by check\, payable to "HBAST" and mailed to Home Builders Association of Southern TN\, 3221 Old Harrison Pike\, Chattanooga\, TN 37412. Payment can also be made by credit card by contacting Teresa Groves at 423-624-9992. You may e-mail Teresa Groves at tgroves@hbast.org or fax to her attention 423-624-9435 your registration to hold a place. Cash\, credit card or check payment will be accepted at the door. If you register but do not attend\, there will be a $10.00 no-show charge as HBAST has to give the caterer a head count for breaks and lunch.\n  \n Questions:          Call Denny Boss\, Region 8 President\, at 423-618-9380 or Teresa Groves\, Executive Director of Home Builders Association of Southern TN at 423-624-9992.
X-ALT-DESC;FMTTYPE=text/html:<span style=font-size: small><span style=font-family: arial>Region 8 is excited to announce the following continuing educational seminar for Code Enforcement Officials\, Building Contractors and Design Professionals. The course can be submitted for approval for State Agency CEU&rsquo\;s in GA\, NC\, and SC\, as well as being acceptable for AIA CES Credits. This course is already approved by the state of TN.</span></span><br> &nbsp\;<br> <strong><span style=font-size: 16pt><span style=font-family: arial>This class is sponsored by the Home Builders of Southern TN.&nbsp\; </span></span></strong><br> &nbsp\;<br> <strong><span style=font-family: arial\, sans-serif><span style=font-size: medium>Registration is available to the first 60 paid applicants and includes lunch and breaks. &nbsp\;Don&rsquo\;t hesitate as this class will fill up quickly.</span></span></strong><br> &nbsp\;<br> <strong><span style=font-size: 10pt><span style=font-family: arial\, sans-serif>Location:</span></span></strong><span style=font-size: 10pt><span style=font-family: arial\, sans-serif> &nbsp\;&nbsp\;&nbsp\;&nbsp\;&nbsp\;&nbsp\;&nbsp\;&nbsp\;&nbsp\;&nbsp\;&nbsp\; <span style=color: black>Home Builders Association of Southern TN</span></span></span><span style=color: black><span style=font-family: tms rmn\, serif><span style=font-size: medium>\, </span></span></span><span style=font-size: 10pt><span style=font-family: arial\, sans-serif>3221 Harrison Pike<span style=color: black>\, Chattanooga\, TN </span></span></span><span style=font-size: 10pt>37406</span><br> &nbsp\; &nbsp\;&nbsp\;&nbsp\;&nbsp\;&nbsp\;&nbsp\;&nbsp\;&nbsp\;&nbsp\;&nbsp\;&nbsp\;&nbsp\;&nbsp\;&nbsp\;&nbsp\;&nbsp\;&nbsp\;&nbsp\;&nbsp\;&nbsp\;&nbsp\;&nbsp\;&nbsp\;&nbsp\;&nbsp\;&nbsp\;&nbsp\;&nbsp\;&nbsp\;&nbsp\;&nbsp\;&nbsp\;&nbsp\;&nbsp\;&nbsp\;&nbsp\;&nbsp\;&nbsp\;&nbsp\;&nbsp\;&nbsp\;&nbsp\;&nbsp\;&nbsp\;&nbsp\;&nbsp\;&nbsp\;&nbsp\;&nbsp\;&nbsp\;&nbsp\;&nbsp\;&nbsp\;&nbsp\;&nbsp\;&nbsp\;&nbsp\;&nbsp\;&nbsp\;&nbsp\;&nbsp\;&nbsp\;<br> <strong><span style=font-size: 10pt><span style=font-family: arial\, sans-serif>When: &nbsp\;&nbsp\;&nbsp\;&nbsp\;&nbsp\;&nbsp\;&nbsp\;&nbsp\;&nbsp\;&nbsp\;&nbsp\;&nbsp\;&nbsp\;&nbsp\;&nbsp\; </span></span></strong><span style=font-size: 10pt><span style=font-family: arial\, sans-serif>October 11\, 2011 &nbsp\;&nbsp\;&nbsp\;&nbsp\;&nbsp\;&nbsp\; Registration 7:30 AM Class 8:00 AM to 4:00 PM</span></span><br> &nbsp\;&nbsp\;&nbsp\;&nbsp\;&nbsp\;&nbsp\;&nbsp\;&nbsp\;&nbsp\;&nbsp\;&nbsp\;&nbsp\;&nbsp\;&nbsp\;&nbsp\;&nbsp\;&nbsp\;&nbsp\;&nbsp\;&nbsp\;&nbsp\;&nbsp\;&nbsp\;<br> <strong><span style=font-size: 10pt><span style=font-family: arial\, sans-serif>Seminar:</span></span></strong><span style=font-size: 10pt><span style=font-family: arial\, sans-serif>&nbsp\;&nbsp\;&nbsp\;&nbsp\;&nbsp\;&nbsp\;&nbsp\;&nbsp\;&nbsp\;&nbsp\;&nbsp\;&nbsp\; <strong>Structural Wood Framing Concepts.</strong>&nbsp\; This class will cover load calculations in both residential and commercial applications for wood frame construction. Special emphasis will be on residential construction. Major topics will be floor and ceiling loads imposed on the structural members. Roof loads and point loads will also be discussed. The class will cover correct drilling\, notching &amp\; boring procedures in floor\, wall and ceiling construction.</span> Installation procedures when engineered products are used will also be discussed. The top ten common structural mistakes will be discussed. The class will be taught by Mr. Ron Corum\, P.E. He is a graduate of the University of Tennessee and has an extensive background in both residential and commercial projects. Mr. Corum has taught numerous classes to contractors and building officials.</span><br> &nbsp\;<br> <strong><span style=font-size: 10pt><span style=font-family: arial\, sans-serif>Registration</span></span></strong><span style=font-size: 10pt><span style=font-family: arial\, sans-serif>:&nbsp\;&nbsp\;&nbsp\;&nbsp\;&nbsp\;&nbsp\; </span></span><strong><span style=font-family: arial\, sans-serif><span style=font-size: medium>Before October 6\, 2011&nbsp\;&nbsp\;&nbsp\;&nbsp\;&nbsp\;&nbsp\;&nbsp\;&nbsp\;&nbsp\;&nbsp\;&nbsp\;&nbsp\;&nbsp\;&nbsp\;&nbsp\;&nbsp\;&nbsp\;&nbsp\;&nbsp\;&nbsp\;&nbsp\;&nbsp\;&nbsp\;&nbsp\;&nbsp\; &nbsp\; &nbsp\;&nbsp\;&nbsp\;&nbsp\;&nbsp\;&nbsp\;&nbsp\;&nbsp\;&nbsp\; $50.00</span></span></strong>&nbsp\;<br> &nbsp\;<br> &nbsp\;&nbsp\;&nbsp\;&nbsp\;&nbsp\;&nbsp\;&nbsp\;&nbsp\;&nbsp\;&nbsp\;&nbsp\;&nbsp\;&nbsp\;&nbsp\;&nbsp\;&nbsp\;&nbsp\;&nbsp\;&nbsp\;&nbsp\;&nbsp\;&nbsp\;&nbsp\; <strong><span style=color: red><span style=font-family: arial\, sans-serif><span style=font-size: medium>After October 06\, 2011&nbsp\;&nbsp\;&nbsp\;&nbsp\;&nbsp\;&nbsp\;&nbsp\;&nbsp\;&nbsp\;&nbsp\;&nbsp\;&nbsp\;&nbsp\;&nbsp\;&nbsp\;&nbsp\;&nbsp\;&nbsp\;&nbsp\;&nbsp\;&nbsp\;&nbsp\;&nbsp\;&nbsp\;&nbsp\;&nbsp\;&nbsp\;&nbsp\;&nbsp\; &nbsp\;&nbsp\;&nbsp\;&nbsp\;&nbsp\;$65.00&nbsp\; </span></span></span></strong><br> &nbsp\;&nbsp\;&nbsp\;&nbsp\;&nbsp\;&nbsp\;&nbsp\;&nbsp\;&nbsp\;&nbsp\;&nbsp\;&nbsp\;&nbsp\;&nbsp\;&nbsp\;&nbsp\;&nbsp\;&nbsp\;&nbsp\;&nbsp\;&nbsp\;&nbsp\;&nbsp\;<br> <span style=font-family: arial\, sans-serif><span style=font-size: medium>&nbsp\;&nbsp\;&nbsp\;&nbsp\;&nbsp\;&nbsp\;&nbsp\;&nbsp\;&nbsp\;&nbsp\;&nbsp\;&nbsp\;&nbsp\;&nbsp\;&nbsp\;&nbsp\;&nbsp\;&nbsp\;&nbsp\;&nbsp\;&nbsp\;&nbsp\;&nbsp\; Fee includes lunch and breaks.&nbsp\;&nbsp\;&nbsp\; </span></span><br> &nbsp\;&nbsp\;&nbsp\;&nbsp\;&nbsp\;&nbsp\;&nbsp\;&nbsp\;&nbsp\;&nbsp\;&nbsp\;&nbsp\;&nbsp\;&nbsp\;&nbsp\;&nbsp\;&nbsp\;&nbsp\;&nbsp\;&nbsp\;&nbsp\;&nbsp\;&nbsp\;&nbsp\;&nbsp\;&nbsp\;&nbsp\;&nbsp\;&nbsp\;&nbsp\;&nbsp\;&nbsp\;&nbsp\;&nbsp\;&nbsp\;&nbsp\;&nbsp\;&nbsp\;&nbsp\;&nbsp\;&nbsp\;&nbsp\;&nbsp\;&nbsp\;&nbsp\;&nbsp\;&nbsp\;<br> <strong><span style=font-size: 10pt><span style=font-family: arial\, sans-serif>Payment:</span></span></strong><span style=font-size: 10pt><span style=font-family: arial\, sans-serif> &nbsp\;&nbsp\;&nbsp\;&nbsp\;&nbsp\;&nbsp\;&nbsp\;&nbsp\;&nbsp\;&nbsp\;&nbsp\; Must be made by check\, payable to &ldquo\;HBAST&rdquo\; and mailed to Home Builders Association of Southern TN\, </span></span><span style=font-size: 10pt><span style=font-family: arial\, sans-serif>3221 Old Harrison Pike\, Chattanooga\, TN 37412</span></span><span style=font-size: 10pt><span style=font-family: arial\, sans-serif>. Payment can also be made by credit card by contacting Teresa Groves at 423-624-9992. You may e-mail Teresa Groves at </span><a href=mailto:tgroves@hbast.org>tgroves@hbast.org</a> or fax to her attention </span><span style=font-size: medium><span style=font-size: 10pt><span style=font-family: arial\, sans-serif>423-624-9435</span></span></span> <span style=font-size: 10pt><span style=font-family: arial\, sans-serif>your registration to hold a place. Cash\, credit card or check payment will be accepted at the door. If you register but do not attend\, there will be a $10.00 no-show charge as HBAST has to give the caterer a head count for breaks and lunch.</span></span><br> &nbsp\;<br> <strong><span style=font-size: 10pt><span style=font-family: arial\, sans-serif>Questions:&nbsp\;&nbsp\;&nbsp\;&nbsp\;&nbsp\;&nbsp\;&nbsp\;&nbsp\;&nbsp\; </span></span></strong><span style=font-size: 10pt><span style=font-family: arial\, sans-serif>Call Denny Boss\, Region 8 President\, at 423-618-9380 or Teresa Groves\, Executive Director of Home Builders Association of Southern TN at 423-624-9992.</span></span><br>
LOCATION:3221 Harrison Pike Chattanooga\, TN
UID:e.9402.343
SEQUENCE:3
DTSTAMP:20260422T205943Z
URL:http://hbaknoxvilletn.memberzone.com/events/details/icc-region-8-chapter-seminar-10-11-2011-343
END:VEVENT

END:VCALENDAR
