BEGIN:VCALENDAR
VERSION:2.0
PRODID:-//ChamberMaster//Event Calendar 2.0//EN
METHOD:PUBLISH
X-PUBLISHED-TTL:P3D
REFRESH-INTERVAL:P3D
CALSCALE:GREGORIAN
BEGIN:VEVENT
DTSTART;VALUE=DATE:20120217
DTEND;VALUE=DATE:20120218
TRANSP:TRANSPARENT
X-MICROSOFT-CDO-ALLDAYEVENT:TRUE
SUMMARY:Houses That Work
DESCRIPTION:Houses That Work - Education Class\n Friday\, February 17th\, 2012 \n \n LOCATION:\n Knoxville Area Association of Realtors Office\n \n TIMES:\n Registration: 8:00 am\n Session: 8:30 am to 4:30 pm\n  \n SESSION:\n Houses That Work - Full Day Session\n COST: $125 ($140 after 2/9/12)\n  \n PRESENTED BY:\n Justin Wilson\n  \n REGISTER NOW @ WWW.EEBA.ORG/Housesthatwork\n FOR MORE INFORMATION: Contact Nancy or Jill at (952) 881-1098\n  \n Online REGISTRATION REQUIRED\n  \n Houses That Work Full Day\n Educational Session\n \n About the Session\n In this intensive session for existing homes\, participants learn how the many complex changes in home design\, building materials\, mechanical systems\, appliances\, consumer lifestyles and expectations over the last 30 years make the building industry more complex and demanding. The session outlines the basic building science physics of air\, heat and moisture flow that every builder should know so they can find new business opportunities and avoid the risks inherent in both new construction and remodel projects.\n \n Learning Objectives:\n     Learn the fundamentals of air\, heat and moisture flow and see how they can be applied to remodeling projects and new home construction to make them more efficient\, safe\, healthy\, durable and comfortable      Applying building science to common remodel projects such as roofing\, re-siding\, weatherization\, kitchen & bath replacements\, windows\, foundation & home renewal initiatives      Identify the best\, most cost-effective technical details and process changes needed to achieve the new ENERGY STAR V3 requirements and the new IECC 2009 code changes      Learn about the successes of other remodelers and builders who have benefited from implementing energy efficiency objectives into their projects   \n What to Expect\n EEBA provides the most cost-effective continuing education and training for builders\, architects\, consultants\, realtors and weatherization / home auditing professionals. \n 98% of all Houses That Work Attendees indicate they will implement an immediate product or practice change following their training. Houses That Work Educational Sessions engage you in an interactive\, hands-on learning lab\, where practical solutions and product innovations improve the energy efficiency and bottom line of the homes you impact.
X-ALT-DESC;FMTTYPE=text/html:<span style=font-size: 14pt><span style=font-family: arial\, sans-serif>Houses That Work - Education Class</span></span><br> <span style=font-size: 14pt><span style=font-family: arial\, sans-serif>Friday\, February 17th\, 2012</span></span>&nbsp\;<br> <br> <strong><span style=font-size: 12pt><span style=font-family: arial\, sans-serif>LOCATION:</span></span></strong><br> <span style=font-size: 12pt><span style=font-family: arial\, sans-serif>Knoxville Area Association of&nbsp\;Realtors Office</span></span><br> <br> <strong><span style=font-size: 12pt><span style=font-family: arial\, sans-serif>TIMES:</span></span></strong><br> <span style=font-size: 12pt><span style=font-family: arial\, sans-serif>Registration: 8:00 am</span></span><br> <span style=font-size: 12pt><span style=font-family: arial\, sans-serif>Session: 8:30 am to 4:30 pm</span></span><br> &nbsp\;<br> <strong><span style=font-size: 12pt><span style=font-family: arial\, sans-serif>SESSION:</span></span></strong><br> <strong><span style=font-size: 12pt><span style=font-family: arial\, sans-serif>Houses That Work - Full Day Session</span></span></strong><br> <strong><span style=font-size: 12pt><span style=font-family: arial\, sans-serif>COST: $125 ($140 after 2/9/12)</span></span></strong><br> &nbsp\;<br> <strong><span style=font-size: 12pt><span style=font-family: arial\, sans-serif>PRESENTED BY:</span></span></strong><br> <font size=3>Justin Wilson</font><br> &nbsp\;<br> <strong><span style=font-size: 16pt><span style=font-family: arial\, sans-serif><span style=background-color: #ffff00>REGISTER NOW @ </span></span><a href=http://www.eeba.org/Housesthatwork><span style=background-color: #ffff00>WWW.EEBA.ORG/Housesthatwork</span></a></span></strong><br> <strong><span style=font-size: 9.5pt><span style=font-family: arial\, sans-serif>FOR MORE INFORMATION: </span></span></strong><span style=font-size: 9.5pt><span style=font-family: arial\, sans-serif>Contact Nancy or Jill at (952) 881-1098</span></span><br> &nbsp\;<br> <strong><em><span style=font-size: 9.5pt><span style=font-family: arial\, sans-serif><span style=background-color: #ffff00>Online REGISTRATION&nbsp\;REQUIRED</span></span></span></em></strong><br> &nbsp\;<br> <strong><span style=font-size: 12pt><span style=font-family: arial\, sans-serif>Houses That Work Full Day</span></span></strong><br> <strong><span style=font-size: 12pt><span style=font-family: arial\, sans-serif>Educational Session</span></span></strong><br> <br> <span style=font-size: 12pt><strong><span style=font-family: arial><span style=color: #36b047>About the Session</span></span></strong></span><br> <span style=font-size: 12pt><span style=font-family: arial>In this intensive session for existing homes\, participants learn how the many complex changes in home design\, building materials\, mechanical systems\, appliances\, consumer lifestyles and expectations over the last 30 years make the building industry more complex and demanding. The session outlines the basic building science physics of air\, heat and moisture flow that every builder should know so they can find new business opportunities and avoid the risks inherent in both new construction and remodel projects.</span></span><br> <br> <strong><span style=font-size: 12pt><span style=font-family: arial\, sans-serif>Learning Objectives:</span></span></strong><br> <ul>    <li><span style=font-family: arial\, sans-serif><span style=font-size: medium>Learn the fundamentals of air\, heat and moisture flow and see how they can be applied to remodeling projects and new home construction to make them more efficient\, safe\, healthy\, durable and comfortable</span></span></li> </ul> <ul>    <li><span style=font-family: arial\, sans-serif><span style=font-size: medium>Applying building science to common remodel projects such as roofing\, re-siding\, weatherization\, kitchen &amp\; bath replacements\, windows\, foundation &amp\; home renewal initiatives</span></span></li> </ul> <ul>    <li><span style=font-family: arial\, sans-serif><span style=font-size: medium>Identify the best\, most cost-effective technical details and process changes needed to achieve the new ENERGY STAR V3 requirements and the new IECC 2009 code changes</span></span></li> </ul> <ul>    <li><span style=font-size: medium><span style=font-family: arial>Learn about the successes of other remodelers and builders who have benefited from implementing energy efficiency objectives into their projects</span></span></li> </ul> &nbsp\;<br> <span style=font-size: medium><strong><span style=color: #36b047><span style=font-family: arial\, sans-serif>What to Expect</span></span></strong></span><br> <span style=font-family: arial>EEBA provides the most cost-effective continuing education and training for builders\, architects\, consultants\, realtors and weatherization / home auditing professionals. </span><br> <span style=font-size: medium><strong><span style=font-family: arial\, sans-serif>98% of all Houses That Work Attendees indicate they will implement an immediate product or practice change following their training.</span></strong></span><span style=font-family: arial> Houses That Work Educational Sessions engage you in an interactive\, hands-on learning lab\, where practical solutions and product innovations improve the energy efficiency and bottom line of the homes you impact.</span><br>
LOCATION:609 Weisgarber Road Knoxville\, TN
UID:e.9402.380
SEQUENCE:3
DTSTAMP:20260422T094123Z
URL:http://hbaknoxvilletn.memberzone.com/events/details/houses-that-work-02-17-2012-380
END:VEVENT

END:VCALENDAR
