BEGIN:VCALENDAR
VERSION:2.0
PRODID:-//ChamberMaster//Event Calendar 2.0//EN
METHOD:PUBLISH
X-PUBLISHED-TTL:P3D
REFRESH-INTERVAL:P3D
CALSCALE:GREGORIAN
BEGIN:VEVENT
DTSTART;VALUE=DATE:20120621
DTEND;VALUE=DATE:20120622
TRANSP:TRANSPARENT
X-MICROSOFT-CDO-ALLDAYEVENT:TRUE
SUMMARY:Hotdog Lunch
DESCRIPTION:We're having hotdogs - yes delicious\, all-beef hotdogs!!! The HBA of Greater Knoxville and ORNL Federal Credit Union invite you to join us for a FREE lunch. Many of you have attended these meetings and keep coming back to network. If you have never attended one you might be surprised how effective these can be or who you will meet.\n \n We will be serving hot dogs with all the fixings. Take a break from work - stop by for lunch and network with your fellow HBAGK members. Dress is casual so come as you are. RSVP by phone 546-4665 x25\, or email staff@hbaknoxville.com\n \n (Hint\, you can retrieve your login name & password by clicking the registration link at the top of this message then following the prompt using your email address to have the information sent to you)\n \n Event & door prizes sponsored by: ORNL Federal Credit Union\n \n Looking ahead at upcoming meetings:\n     July 8-11: HBAT Summer Meeting in Destin\, FL
X-ALT-DESC;FMTTYPE=text/html:<span style=font-size: 14px><span style=font-family: times new roman\, times\, serif>We&#39\;re having hotdogs - yes delicious\, all-beef hotdogs!!! The HBA of Greater Knoxville and <a href=http://www.ornlfcu.com onclick=window.open(this.href\, ''\, 'resizable=yes\,status=no\,location=yes\,toolbar=yes\,menubar=yes\,fullscreen=yes\,scrollbars=no\,dependent=no')\; return false\;>ORNL Federal Credit Union</a>&nbsp\;invite you to join us for a FREE lunch.&nbsp\;Many of you have attended these meetings and keep coming back to network. If you have never attended one you might be surprised how effective these can be or who you will meet.<br> <br> We will be serving hot dogs with all the fixings. Take a break from work - stop by for lunch and network with your fellow HBAGK members. Dress is casual so come as you are. RSVP by phone 546-4665 x25\, or&nbsp\;email <a href=mailto:staff@hbaknoxville.com>staff@hbaknoxville.com</a><br> <br> <span style=background-color: #ffff00><strong>(Hint\, you can retrieve your login name &amp\; password by clicking the registration link at the top of this message then following the prompt using your email address to have the information sent to you)</strong></span></span></span><br> <br> <span style=font-size: 14px><span style=font-family: times new roman\, times\, serif>Event &amp\; door prizes sponsored by: ORNL Federal Credit Union</span></span><br> <br> <span style=font-size: 14px><span style=font-family: times new roman\, times\, serif>Looking ahead at upcoming meetings:</span></span><br> <ul>    <li><span style=font-size: 14px><span style=font-family: times new roman\, times\, serif>July 8-11: HBAT Summer Meeting in Destin\, FL</span></span></li> </ul> &nbsp\;<br>
LOCATION:221 Clark Street\, NW Knoxville\, TN
UID:e.9402.428
SEQUENCE:3
DTSTAMP:20260421T230116Z
URL:http://hbaknoxvilletn.memberzone.com/events/details/hotdog-lunch-06-21-2012-428
END:VEVENT

END:VCALENDAR
