BEGIN:VCALENDAR
VERSION:2.0
PRODID:-//ChamberMaster//Event Calendar 2.0//EN
METHOD:PUBLISH
X-PUBLISHED-TTL:P3D
REFRESH-INTERVAL:P3D
CALSCALE:GREGORIAN
BEGIN:VEVENT
DTSTART;VALUE=DATE:20120418
DTEND;VALUE=DATE:20120419
TRANSP:TRANSPARENT
X-MICROSOFT-CDO-ALLDAYEVENT:TRUE
SUMMARY:Hotdog Lunch
DESCRIPTION:It's that time of year again!!! The HBA of Greater Knoxville invites you to join us for a FREE lunch.  We will be serving hot dogs with all the fixings. Take a break from work - stop by for lunch and network with your fellow HBAGK members. Dress is casual so come as you are straight from the jobsite. Door prize for attendees  is sponsored by William Knight Insurance Agency.\n \n NEW - Drawing for 1 FREE player registration at our Annual Golf Tournament\, 6/14 at Three Ridges. Must be present at drawing and current member to win.\n  \n RSVP by phone 546-4665\, email staff@hbaknoxville.com\n \n (Hint\, you can retrieve your login name & password by clicking the registration link in this message then following the prompt using your email address to have the information sent to you)\n \n Hosted by: HBAGK Membership Committee Event sponsored by: William Knight Insurance Agency New Member Orientation will take place at 10:30 AM - new members are encouraged to come learn about benefits and services as part of your membership\n    \n    Looking ahead at upcoming meetings:\n          April 18: Hotdog Lunch    April 29-May1: NAHB Green Building Conference in Nashville\, TN    May 1: Early Bird entry deadline for Parade of Homes    June 1: Regular entry deadline for Parade of Homes    June 6-9: NAHB Spring Board meeting in Washington DC    June 14: Annual HBAGK Golf Tournament\, Three Ridges Golf Course    July 8-11: HBAT Summer Meeting in Destin\, FL    TBD: More Hotdog Lunches to come...
X-ALT-DESC;FMTTYPE=text/html:<span style=font-size: 14px><span style=font-family: times new roman\, times\, serif>It&rsquo\;s that time of year again!!! The HBA of Greater Knoxville invites you to join us for a FREE lunch.&nbsp\; We will be serving hot dogs with all the fixings. Take a break from work - stop by for lunch and network with your fellow HBAGK members. Dress is casual so come as you are straight from the jobsite. Door prize for attendees&nbsp\; is sponsored by William Knight Insurance Agency.<br> <br> <strong>NEW - Drawing for 1 FREE player registration at our&nbsp\;Annual Golf&nbsp\;Tournament\,&nbsp\;6/14 at Three Ridges. Must be&nbsp\;present at drawing&nbsp\;and current member to win.</strong><br> &nbsp\;<br> RSVP by phone 546-4665\, email <a href=mailto:staff@hbaknoxville.com>staff@hbaknoxville.com</a><br> <br> <span style=background-color: #ffff00><strong>(Hint\, you can retrieve your login name &amp\; password by clicking the registration link in this message then following the prompt using your email address to have the information sent to you)</strong></span><br> <br> Hosted by: HBAGK Membership Committee</span></span> <p><span style=font-size: 14px><span style=font-family: times new roman\, times\, serif>Event sponsored by: William Knight Insurance Agency</span></span></p> <p><span style=font-size: 14px><span style=font-family: times new roman\, times\, serif><u>New Member Orientation will take place at 10:30 AM </u>- new members are encouraged to come learn about benefits and services as part of your membership<br>    <br>    Looking ahead at upcoming meetings:</span></span><br>    &nbsp\;</p> <ul>    <li><span style=font-size: 14px><span style=font-family: times new roman\, times\, serif>April 18: Hotdog Lunch</span></span></li>    <li><span style=font-size: 14px><span style=font-family: times new roman\, times\, serif>April 29-May1: NAHB Green Building Conference in Nashville\, TN</span></span></li>    <li><span style=font-size: 14px><span style=font-family: times new roman\, times\, serif>May 1: Early Bird entry deadline for Parade of Homes</span></span></li>    <li><span style=font-size: 14px><span style=font-family: times new roman\, times\, serif>June 1: Regular entry deadline for Parade of Homes</span></span></li>    <li><span style=font-size: 14px><span style=font-family: times new roman\, times\, serif>June 6-9: NAHB Spring Board meeting in Washington DC</span></span></li>    <li><span style=font-size: 14px><span style=font-family: times new roman\, times\, serif>June 14: Annual HBAGK Golf Tournament\, Three Ridges Golf Course</span></span></li>    <li><span style=font-size: 14px><span style=font-family: times new roman\, times\, serif>July 8-11: HBAT Summer Meeting in Destin\, FL</span></span></li>    <li><span style=font-size: 14px><span style=font-family: times new roman\, times\, serif>TBD: More Hotdog Lunches to come...</span></span></li> </ul> &nbsp\;<br>
LOCATION:221 Clark Street\, NW Knoxville\, TN
UID:e.9402.400
SEQUENCE:3
DTSTAMP:20260422T055312Z
URL:http://hbaknoxvilletn.memberzone.com/events/details/hotdog-lunch-04-18-2012-400
END:VEVENT

END:VCALENDAR
