BEGIN:VCALENDAR
VERSION:2.0
PRODID:-//ChamberMaster//Event Calendar 2.0//EN
METHOD:PUBLISH
X-PUBLISHED-TTL:P3D
REFRESH-INTERVAL:P3D
CALSCALE:GREGORIAN
BEGIN:VEVENT
DTSTART;VALUE=DATE:20120326
DTEND;VALUE=DATE:20120327
TRANSP:TRANSPARENT
X-MICROSOFT-CDO-ALLDAYEVENT:TRUE
SUMMARY:Home Show Committee - WRAP MEETING
DESCRIPTION:The 2012 Home Show is in the books.  A big THANK YOU to all committee members for your hard work producing the show!! Now it is time to discuss ideas and find ways to improve the show for 2013.\n \n Please plan to attend our wrap-up committee meeting on Monday\, 3/26/12 at 10 AM at the HBA office. We will have about 1 - 1.5 hrs to discuss everything so let's come prepared with good notes & ideas.\n \n (Hint\, you can retrieve your login name & password by clicking the registration link in this message then following the prompt using your email address to have the information sent to you)
X-ALT-DESC;FMTTYPE=text/html:The 2012 Home Show is in the books. &nbsp\;A big THANK YOU to all committee members for your&nbsp\;hard work producing the show!! Now it is time to discuss ideas and find ways to improve the show for 2013.<br> <br> Please plan to attend our&nbsp\;wrap-up committee meeting on Monday\, 3/26/12 at&nbsp\;10 AM at the HBA office. We will have about 1 - 1.5 hrs to discuss everything so let&#39\;s come prepared with good notes &amp\;&nbsp\;ideas.<br> <br> <strong><span style=background-color: #ffff00>(Hint\, you can retrieve your login name &amp\; password by clicking the registration link in this message then following the prompt using your email address to have the information sent to you)</span></strong><br> <br>
LOCATION:221 Clark Street\, NW Knoxville\, TN
UID:e.9402.391
SEQUENCE:3
DTSTAMP:20260422T075824Z
URL:http://hbaknoxvilletn.memberzone.com/events/details/home-show-committee-wrap-meeting-03-26-2012-391
END:VEVENT

END:VCALENDAR
