BEGIN:VCALENDAR
VERSION:2.0
PRODID:-//ChamberMaster//Event Calendar 2.0//EN
METHOD:PUBLISH
X-PUBLISHED-TTL:P3D
REFRESH-INTERVAL:P3D
CALSCALE:GREGORIAN
BEGIN:VEVENT
DTSTART;VALUE=DATE:20111220
DTEND;VALUE=DATE:20111221
TRANSP:TRANSPARENT
X-MICROSOFT-CDO-ALLDAYEVENT:TRUE
SUMMARY:Home Show Committee
DESCRIPTION:It's time to plan the 2012 Home Show! Our co-chairs\, Dennis Sewell of Fireside Hearth & Home\, and Sarah Rochat of Perfect Water\, have conducted pre-planning sessions and we are ready to launch our committee meetings. We have arranged another great "Remodeler Showcase" that will feature designer rooms highlighting the terrific work of our members\, there will be special guest speakers and presentations\, and we're also finalizing details for our special community project.\n \n Please plan to attend our first full committee meeting for the 2012 Home Show on Tuesday\, 12/20/11 at 9 AM at the HBA office. We will continue our discussion about the show and have copies of the registration brochure with floor plan\, dates\, rates\, etc. RSVP so we can prepare our meeting materials. Thank you!\n \n (Hint\, you can retrieve your login name & password by clicking the registration link in this message then following the prompt using your email address to have the information sent to you)
X-ALT-DESC;FMTTYPE=text/html:It&#39\;s time to plan the 2012 Home Show! Our co-chairs\, Dennis Sewell of Fireside Hearth &amp\; Home\, and Sarah Rochat of Perfect Water\, have conducted pre-planning sessions and we are ready to launch our committee meetings. We have arranged another great &quot\;Remodeler Showcase&quot\; that will feature designer rooms highlighting the terrific work of our members\,&nbsp\;there will be special guest speakers and presentations\, and we&#39\;re also finalizing details for our special community project.<br> <br> Please plan to attend our&nbsp\;first full committee meeting for the 2012 Home Show on Tuesday\, 12/20/11 at 9 AM at the HBA office. We will continue our&nbsp\;discussion about the show and have copies of the registration brochure with floor plan\, dates\, rates\, etc.&nbsp\;<u>RSVP so we can prepare our meeting materials</u>. Thank you!<br> <br> <strong><span style=background-color: #ffff00>(Hint\, you can retrieve your login name &amp\; password by clicking the registration link in this message then following the prompt using your email address to have the information sent to you)</span></strong><br> <br>
LOCATION:221 Clark Street\, NW Knoxville\, TN
UID:e.9402.367
SEQUENCE:3
DTSTAMP:20260422T161101Z
URL:http://hbaknoxvilletn.memberzone.com/events/details/home-show-committee-12-20-2011-367
END:VEVENT

END:VCALENDAR
