BEGIN:VCALENDAR
VERSION:2.0
PRODID:-//ChamberMaster//Event Calendar 2.0//EN
METHOD:PUBLISH
X-PUBLISHED-TTL:P3D
REFRESH-INTERVAL:P3D
CALSCALE:GREGORIAN
BEGIN:VEVENT
DTSTART;VALUE=DATE:20120213
DTEND;VALUE=DATE:20120214
TRANSP:TRANSPARENT
X-MICROSOFT-CDO-ALLDAYEVENT:TRUE
SUMMARY:Home Show Committee
DESCRIPTION:The 2012 Home Show is just around the corner! Please plan to attend our next committee meeting on Monday\, 2/13/12 at 9 AM at the HBA office.\n \n We need your help with booth sales - please follow up on your calls to vendors and remind them about the show!! RSVP so we can prepare our meeting materials. Thank you!\n \n (Hint\, you can retrieve your login name & password by clicking the registration link in this message then following the prompt using your email address to have the information sent to you)
X-ALT-DESC;FMTTYPE=text/html:The 2012 Home Show is just around the corner! Please plan to attend our&nbsp\;next committee meeting on Monday\, 2/13/12 at 9 AM at the HBA office.<br> <br> We need your help with booth sales - please follow up on your calls to&nbsp\;vendors and remind them about the show!!&nbsp\;<u>RSVP so we can prepare our meeting materials</u>. Thank you!<br> <br> <strong><span style=background-color: #ffff00>(Hint\, you can retrieve your login name &amp\; password by clicking the registration link in this message then following the prompt using your email address to have the information sent to you)</span></strong><br> <br>
LOCATION:221 Clark Street\, NW Knoxville\, TN
UID:e.9402.377
SEQUENCE:3
DTSTAMP:20260422T113359Z
URL:http://hbaknoxvilletn.memberzone.com/events/details/home-show-committee-02-13-2012-377
END:VEVENT

END:VCALENDAR
