BEGIN:VCALENDAR
VERSION:2.0
PRODID:-//ChamberMaster//Event Calendar 2.0//EN
METHOD:PUBLISH
X-PUBLISHED-TTL:P3D
REFRESH-INTERVAL:P3D
CALSCALE:GREGORIAN
BEGIN:VEVENT
DTSTART;VALUE=DATE:20120105
DTEND;VALUE=DATE:20120106
TRANSP:TRANSPARENT
X-MICROSOFT-CDO-ALLDAYEVENT:TRUE
SUMMARY:Home Show Committee
DESCRIPTION:It's time to plan the 2012 Home Show! Please plan to attend our next committee meeting for the 2012 Home Show on Thursday\, 1/5/12 at 9 AM at the HBA office. We will continue our discussion about the show and have copies of the registration brochure with floor plan\, dates\, rates\, etc. RSVP so we can prepare our meeting materials. Thank you!\n \n (Hint\, you can retrieve your login name & password by clicking the registration link in this message then following the prompt using your email address to have the information sent to you)
X-ALT-DESC;FMTTYPE=text/html:It&#39\;s time to plan the 2012 Home Show! Please plan to attend our&nbsp\;next committee meeting for the 2012 Home Show on Thursday\, 1/5/12 at 9 AM at the HBA office. We will continue our&nbsp\;discussion about the show and have copies of the registration brochure with floor plan\, dates\, rates\, etc.&nbsp\;<u>RSVP so we can prepare our meeting materials</u>. Thank you!<br> <br> <strong><span style=background-color: #ffff00>(Hint\, you can retrieve your login name &amp\; password by clicking the registration link in this message then following the prompt using your email address to have the information sent to you)</span></strong><br> <br>
LOCATION:221 Clark Street\, NW Knoxville\, TN
UID:e.9402.368
SEQUENCE:3
DTSTAMP:20260422T113359Z
URL:http://hbaknoxvilletn.memberzone.com/events/details/home-show-committee-01-05-2012-368
END:VEVENT

END:VCALENDAR
