BEGIN:VCALENDAR
VERSION:2.0
PRODID:-//ChamberMaster//Event Calendar 2.0//EN
METHOD:PUBLISH
X-PUBLISHED-TTL:P3D
REFRESH-INTERVAL:P3D
CALSCALE:GREGORIAN
BEGIN:VEVENT
DTSTART;VALUE=DATE:20130618
DTEND;VALUE=DATE:20130619
TRANSP:TRANSPARENT
X-MICROSOFT-CDO-ALLDAYEVENT:TRUE
SUMMARY:Home Builders Association Women's Council
DESCRIPTION:The Home Builders Association of Greater Knoxville has formed a new Women's Council and you are invited to our very first meeting. This new council will focus on helping the Membership Committee with its goals including volunteering\, fundraising and membership of course! Active HBAGK members and spouses are eligible to participate with this fun\, new group. If you know someone who would be interested in participating please forward this message to them. The Membership Committee meets during lunch on the third Wednesday of each month at the HBAGK office.\n \n Please join us at Ferguson's Showroom on Tuesday\, June 18 for our very first Women's Council meeting to discuss goals and ideas. Snacks and beverages provided. RSVP\n \n Like our Page on Facebook\n Follow us on Twitter
X-ALT-DESC;FMTTYPE=text/html:<br> The Home Builders Association of Greater Knoxville has formed a new <strong>Women&rsquo\;s Council</strong> and you are invited to our very first meeting. This new council will focus on helping the <strong>Membership Committee</strong> with its goals including volunteering\, fundraising and membership of course! Active HBAGK members and spouses are eligible to participate with this fun\, new group. If you know someone who would be interested in participating please forward this message to them. The Membership Committee meets during lunch on the third Wednesday of each month at the HBAGK office.<br> <br> Please join us at Ferguson&rsquo\;s Showroom on Tuesday\, June 18 for our very first Women&#39\;s Council meeting to discuss goals and ideas. Snacks and beverages provided. RSVP<br> <br> Like our Page on <a href=https://www.facebook.com/pages/Home-Builders-Association-of-Greater-Knoxville/120653504698611 target=_blank>Facebook</a><br> Follow us on <a href=https://twitter.com/HBAGK target=_blank>Twitter</a><br> <br> <br>
LOCATION:215 Peregrine Way Knoxville\, TN
UID:e.9402.526
SEQUENCE:3
DTSTAMP:20260420T211016Z
URL:http://hbaknoxvilletn.memberzone.com/events/details/home-builders-association-women-s-council-06-18-2013-526
END:VEVENT

END:VCALENDAR
