BEGIN:VCALENDAR
VERSION:2.0
PRODID:-//ChamberMaster//Event Calendar 2.0//EN
METHOD:PUBLISH
X-PUBLISHED-TTL:P3D
REFRESH-INTERVAL:P3D
CALSCALE:GREGORIAN
BEGIN:VEVENT
DTSTART;VALUE=DATE:20130124
DTEND;VALUE=DATE:20130125
TRANSP:TRANSPARENT
X-MICROSOFT-CDO-ALLDAYEVENT:TRUE
SUMMARY:Holiday Committee WRAP UP meeting
DESCRIPTION:The 2012 HBAGK/KAAR Annual Holiday Celebration was another HUGE success!! Our WRAP UP meeting is scheduled for 4:00 PM\, Thursday 1/24 at Aubrey's on Brookvale Lane near Papermill Drive. We hope you will attend to discuss options for 2013 including location\, format and anything else to make the party the best it can be for our members. Thank you for volunteering to serve on the Holiday Celebration Committee benefitting Toys for Tots.\n \n (RSVP - You can retrieve your login name & password by clicking the registration link in this message then following the prompt using your email address to have the information sent to you)
X-ALT-DESC;FMTTYPE=text/html:<span style=font-size: 9pt><span style=color: #222222><span style=font-family: arial\, sans-serif>The 2012 HBAGK/KAAR Annual Holiday Celebration was another HUGE success!!&nbsp\;Our WRAP UP meeting is scheduled for&nbsp\;4:00 PM\, Thursday 1/24 at Aubrey&#39\;s on Brookvale Lane near Papermill Drive. We hope you will attend to discuss options for 2013 including location\, format and anything else to make the party the best it can be for our members.&nbsp\;Thank you for volunteering to serve on the Holiday Celebration Committee benefitting Toys for Tots.<br> <br> <strong><span style=font-family: arial\, sans-serif><span style=background-color: #ffff00>(RSVP - You can retrieve your login name &amp\; password by clicking the registration link in this message then following the prompt using your email address to have the information sent to you)</span></span></strong></span></span></span><br> <br>
LOCATION:6005 Brookvale Lane Knoxville\, TN
UID:e.9402.479
SEQUENCE:3
DTSTAMP:20260421T060842Z
URL:http://hbaknoxvilletn.memberzone.com/events/details/holiday-committee-wrap-up-meeting-01-24-2013-479
END:VEVENT

END:VCALENDAR
