BEGIN:VCALENDAR
VERSION:2.0
PRODID:-//ChamberMaster//Event Calendar 2.0//EN
METHOD:PUBLISH
X-PUBLISHED-TTL:P3D
REFRESH-INTERVAL:P3D
CALSCALE:GREGORIAN
BEGIN:VEVENT
DTSTART;VALUE=DATE:20120202
DTEND;VALUE=DATE:20120203
TRANSP:TRANSPARENT
X-MICROSOFT-CDO-ALLDAYEVENT:TRUE
SUMMARY:Holiday Committee - Wrap Meeting
DESCRIPTION:WRAP MEETING \n    The Holiday Celebration Committee will meet at Aubrey's Restaurant in Bearden\,  Thursday\, 2/2/12 at 4:00 PM to discuss last year's party and gather ideas for 2012. Everyone did a fantastic job and the party was a huge success thanks to all of your efforts!!  RSVP\, we hope to see you there!
X-ALT-DESC;FMTTYPE=text/html:<p style=text-align: center><span style=color: #ff0000><strong>WRAP MEETING</strong></span></p> <p><br>    The Holiday Celebration Committee will meet at&nbsp\;<strong>Aubrey&#39\;s&nbsp\;Restaurant&nbsp\;in Bearden\,&nbsp\; Thursday\, 2/2/12&nbsp\;at 4:00 PM</strong> to discuss last year&#39\;s party and gather ideas for 2012. Everyone did a fantastic job and the party was a huge success thanks to all of your efforts!!&nbsp\; RSVP\, we hope to see you there!<br>    &nbsp\;</p>
LOCATION:6005 Brookvale Lane Knoxville\, TN
UID:e.9402.375
SEQUENCE:3
DTSTAMP:20260422T094158Z
URL:http://hbaknoxvilletn.memberzone.com/events/details/holiday-committee-wrap-meeting-02-02-2012-375
END:VEVENT

END:VCALENDAR
