BEGIN:VCALENDAR
VERSION:2.0
PRODID:-//ChamberMaster//Event Calendar 2.0//EN
METHOD:PUBLISH
X-PUBLISHED-TTL:P3D
REFRESH-INTERVAL:P3D
CALSCALE:GREGORIAN
BEGIN:VEVENT
DTSTART;VALUE=DATE:20120920
DTEND;VALUE=DATE:20120921
TRANSP:TRANSPARENT
X-MICROSOFT-CDO-ALLDAYEVENT:TRUE
SUMMARY:Holiday Committee - new date 9/20
DESCRIPTION:The 2012 HBAGK/KAAR Annual Holiday Celebration will be hosted on Thursday\, December 6 at The Foundry located in the heart of downtown Knoxville. It's time to get together and plan this spectacular evening for our members. Our next meeting is scheduled for 4:00 PM\, Thursday\, September 20 (NEW DATE) at Aubrey's Restaurant near Papermill Drive. We hope you will attend\, please respond so we can make arrangements for the meeting.\n \n Thank you for volunteering to serve on the Holiday Celebration Committee benefitting Toys for Tots.\n \n (RSVP - You can retrieve your login name & password by clicking the registration link in this message then following the prompt using your email address to have the information sent to you)\n \n Below are the 2011 Holiday Sponsors and notes:\n \n                                                                        Company Name          Contact Name          Phone          2011          Note          CALLS                        2-10 Home Buyers Warranty          Meredith Johnson          (865) 719-9504          Bronze                     Vicki                        Admiral Title          Phillis Burnett          (865) 531-6060          Bronze          Lorie Jaynes          Lorie                        Advanced Appraisal Services          Chris Skalet          (865) 588-4008          Centerpiece          Catrina Foster          Vicki                        Arrow Exterminators          Jeanne Bird          (865) 776-7595          Centerpiece          Vicki Williams          Vicki                        Century 21 Select Properties          Patti Whalen          (865) 531-2121          Centerpiece          Lorie Jaynes          Lorie                         Crown Title          Robb White          (865) 539-4910          Bronze                     Vicki                        Envirian Knox Fine Homes          Bob Brock          (865) 675-3788          Centerpiece          Bob Brock                                   Ferguson Enterprises          John Gregory          (865) 531-8550          Bronze                                              First American Home Warranty          Maryann Azambuja          (865) 202-7780          Centerpiece          Vicki Williams          Vicki                        First Priority Title Co.\, Inc.          Kristi Maddox          (865) 524-1636          Centerpiece                                              Keller Williams Realty - Farragut Investor Group          Catrina Foster          (865) 694-5904          Bronze          Catrina Foster                                   Knoxville Mortgage Bankers Association          Kevin Rhea          (865) 691-8910          Bronze          Lorie Jaynes          Lorie                         Knoxville News Sentinel          Brenda Hines          (865) 342-6566          Bronze                                              Knoxville Title Agency          Jenny Fogarty          (865) 691-1100          Centerpiece                     Vicki                        Perfect Water          Deanna Cox\, CWS          (865) 544-7873          Bronze          Deanna Cox          Deanna                        Prime Lending          Chris Burleson          (865) 824-9838          Bronze          Lorie Jaynes          Lorie                        Privett Insurance Group          Val Privett          (865) 862-4858          Centerpiece          Vicki Williams          Vicki                        Realty Executives Associates          Steve Fogarty          (865) 693-3232          Bronze                                              Regions Bank          Lacy Wallace          (865) 673-5793          Bronze                                              Southeast Home Mortgage\, LLC          Vicki Williams          (865) 558-8871          Centerpiece          Vicki Williams          Vicki                        SunTrust Mortgage\, Inc.          Annie Acree          (865) 544-2293          Beverage          Lorie Jaynes          Lorie                        Tennessee Housing Development Agency          Debbie Reeves          (615) 815-2152          Silver          Lorie Jaynes          Lorie                        Title Associates of Knoxville          Sue Benson          (865) 777-1040          Centerpiece          Major Ward                                   TnWaste\, LLC          Larry Seivers          (865) 546-6311          Centerpiece          Deanna Cox                                   United States Marine Corps          Thomas Smith          (865) 546-1312          Toys for Tots          Toys for Tots                                   Wells Fargo Home Mortgage          Cindy Greene          (865) 690-2721          Bronze          DJ ent.          Vicki                        William Knight Insurance Agency\, Inc.          Chris Knight          (865) 670-2990          Bronze
X-ALT-DESC;FMTTYPE=text/html:The 2012 HBAGK/KAAR Annual Holiday Celebration will be hosted on Thursday\, December 6 at The Foundry located in the heart of downtown Knoxville. It&#39\;s time to get together and plan this spectacular evening for our members. Our next meeting is scheduled for 4:00 PM\, Thursday\, September 20 (NEW DATE) at Aubrey&#39\;s Restaurant near Papermill Drive. We hope you will attend\, please respond so we can make arrangements for the meeting.<br> <br> Thank you for volunteering to serve on the Holiday Celebration Committee benefitting Toys for Tots.<br> <br> <strong><span style=background-color: #ffff00>(RSVP - You can retrieve your login name &amp\; password by clicking the registration link in this message then following the prompt using your email address to have the information sent to you)</span></strong><br> <br> Below are the 2011 Holiday Sponsors and notes:<br> <br> <table border=0 cellpadding=0 cellspacing=0 style=width: 729px width=727>    <colgroup>       <col>       <col>       <col>       <col>       <col>       <col>    </colgroup>    <tbody>       <tr height=20>          <td height=20 style=width: 289px\; height: 20px><strong><span style=font-size: small>Company Name</span></strong></td>          <td style=width: 121px><strong><span style=font-size: small>Contact Name</span></strong></td>          <td style=width: 95px><strong><span style=font-size: small>Phone</span></strong></td>          <td align=right style=width: 83px><strong><span style=font-size: small>2011</span></strong></td>          <td style=width: 91px><strong><span style=font-size: small>Note</span></strong></td>          <td style=width: 51px><strong><span style=font-size: small>CALLS</span></strong></td>       </tr>       <tr height=20>          <td height=20 style=height: 20px><span style=font-size: small>2-10 Home Buyers Warranty</span></td>          <td><span style=font-size: small>Meredith Johnson</span></td>          <td><span style=font-size: small>(865) 719-9504</span></td>          <td><span style=font-size: small>Bronze</span></td>          <td>&nbsp\;</td>          <td style=width: 51px><span style=font-size: small>Vicki</span></td>       </tr>       <tr height=20>          <td height=20 style=height: 20px><span style=font-size: small>Admiral Title</span></td>          <td><span style=font-size: small>Phillis Burnett</span></td>          <td><span style=font-size: small>(865) 531-6060</span></td>          <td><span style=font-size: small>Bronze</span></td>          <td><span style=font-size: small>Lorie Jaynes</span></td>          <td style=width: 51px><span style=font-size: small>Lorie</span></td>       </tr>       <tr height=20>          <td height=20 style=height: 20px><span style=font-size: small>Advanced Appraisal Services</span></td>          <td><span style=font-size: small>Chris Skalet</span></td>          <td><span style=font-size: small>(865) 588-4008</span></td>          <td><span style=font-size: small>Centerpiece</span></td>          <td><span style=font-size: small>Catrina Foster</span></td>          <td style=width: 51px><span style=font-size: small>Vicki</span></td>       </tr>       <tr height=20>          <td height=20 style=height: 20px><span style=font-size: small>Arrow Exterminators</span></td>          <td><span style=font-size: small>Jeanne Bird</span></td>          <td><span style=font-size: small>(865) 776-7595</span></td>          <td><span style=font-size: small>Centerpiece</span></td>          <td><span style=font-size: small>Vicki Williams</span></td>          <td style=width: 51px><span style=font-size: small>Vicki</span></td>       </tr>       <tr height=20>          <td height=20 style=height: 20px><span style=font-size: small>Century 21 Select Properties</span></td>          <td><span style=font-size: small>Patti Whalen</span></td>          <td><span style=font-size: small>(865) 531-2121</span></td>          <td><span style=font-size: small>Centerpiece</span></td>          <td><span style=font-size: small>Lorie Jaynes</span></td>          <td style=width: 51px><span style=font-size: small>Lorie&nbsp\;</span></td>       </tr>       <tr height=20>          <td height=20 style=height: 20px><span style=font-size: small>Crown Title</span></td>          <td><span style=font-size: small>Robb White</span></td>          <td><span style=font-size: small>(865) 539-4910</span></td>          <td><span style=font-size: small>Bronze</span></td>          <td>&nbsp\;</td>          <td style=width: 51px><span style=font-size: small>Vicki</span></td>       </tr>       <tr height=20>          <td height=20 style=height: 20px><span style=font-size: small>Envirian Knox Fine Homes</span></td>          <td><span style=font-size: small>Bob Brock</span></td>          <td><span style=font-size: small>(865) 675-3788</span></td>          <td><span style=font-size: small>Centerpiece</span></td>          <td><span style=font-size: small>Bob Brock</span></td>          <td style=width: 51px>&nbsp\;</td>       </tr>       <tr height=20>          <td height=20 style=height: 20px><span style=font-size: small>Ferguson Enterprises</span></td>          <td><span style=font-size: small>John Gregory</span></td>          <td><span style=font-size: small>(865) 531-8550</span></td>          <td><span style=font-size: small>Bronze</span></td>          <td>&nbsp\;</td>          <td style=width: 51px>&nbsp\;</td>       </tr>       <tr height=20>          <td height=20 style=height: 20px><span style=font-size: small>First American Home Warranty</span></td>          <td><span style=font-size: small>Maryann Azambuja</span></td>          <td><span style=font-size: small>(865) 202-7780</span></td>          <td><span style=font-size: small>Centerpiece</span></td>          <td><span style=font-size: small>Vicki Williams</span></td>          <td style=width: 51px><span style=font-size: small>Vicki</span></td>       </tr>       <tr height=20>          <td height=20 style=height: 20px><span style=font-size: small>First Priority Title Co.\, Inc.</span></td>          <td><span style=font-size: small>Kristi Maddox</span></td>          <td><span style=font-size: small>(865) 524-1636</span></td>          <td><span style=font-size: small>Centerpiece</span></td>          <td>&nbsp\;</td>          <td style=width: 51px>&nbsp\;</td>       </tr>       <tr height=20>          <td height=20 style=height: 20px><span style=font-size: small>Keller Williams Realty - Farragut Investor Group</span></td>          <td><span style=font-size: small>Catrina Foster</span></td>          <td><span style=font-size: small>(865) 694-5904</span></td>          <td><span style=font-size: small>Bronze</span></td>          <td><span style=font-size: small>Catrina Foster</span></td>          <td style=width: 51px>&nbsp\;</td>       </tr>       <tr height=20>          <td height=20 style=height: 20px><span style=font-size: small>Knoxville Mortgage Bankers Association</span></td>          <td><span style=font-size: small>Kevin Rhea</span></td>          <td><span style=font-size: small>(865) 691-8910</span></td>          <td><span style=font-size: small>Bronze</span></td>          <td><span style=font-size: small>Lorie Jaynes</span></td>          <td style=width: 51px><span style=font-size: small>Lorie&nbsp\;</span></td>       </tr>       <tr height=20>          <td height=20 style=height: 20px><span style=font-size: small>Knoxville News Sentinel</span></td>          <td><span style=font-size: small>Brenda Hines</span></td>          <td><span style=font-size: small>(865) 342-6566</span></td>          <td><span style=font-size: small>Bronze</span></td>          <td>&nbsp\;</td>          <td style=width: 51px>&nbsp\;</td>       </tr>       <tr height=20>          <td height=20 style=height: 20px><span style=font-size: small>Knoxville Title Agency</span></td>          <td><span style=font-size: small>Jenny Fogarty</span></td>          <td><span style=font-size: small>(865) 691-1100</span></td>          <td><span style=font-size: small>Centerpiece</span></td>          <td>&nbsp\;</td>          <td style=width: 51px><span style=font-size: small>Vicki</span></td>       </tr>       <tr height=20>          <td height=20 style=height: 20px><span style=font-size: small>Perfect Water</span></td>          <td><span style=font-size: small>Deanna Cox\, CWS</span></td>          <td><span style=font-size: small>(865) 544-7873</span></td>          <td><span style=font-size: small>Bronze</span></td>          <td><span style=font-size: small>Deanna Cox</span></td>          <td style=width: 51px><span style=font-size: small>Deanna</span></td>       </tr>       <tr height=20>          <td height=20 style=height: 20px><span style=font-size: small>Prime Lending</span></td>          <td><span style=font-size: small>Chris Burleson</span></td>          <td><span style=font-size: small>(865) 824-9838</span></td>          <td><span style=font-size: small>Bronze</span></td>          <td><span style=font-size: small>Lorie Jaynes</span></td>          <td style=width: 51px><span style=font-size: small>Lorie</span></td>       </tr>       <tr height=20>          <td height=20 style=height: 20px><span style=font-size: small>Privett Insurance Group</span></td>          <td><span style=font-size: small>Val Privett</span></td>          <td><span style=font-size: small>(865) 862-4858</span></td>          <td><span style=font-size: small>Centerpiece</span></td>          <td><span style=font-size: small>Vicki Williams</span></td>          <td style=width: 51px><span style=font-size: small>Vicki</span></td>       </tr>       <tr height=20>          <td height=20 style=height: 20px><span style=font-size: small>Realty Executives Associates</span></td>          <td><span style=font-size: small>Steve Fogarty</span></td>          <td><span style=font-size: small>(865) 693-3232</span></td>          <td><span style=font-size: small>Bronze</span></td>          <td>&nbsp\;</td>          <td style=width: 51px>&nbsp\;</td>       </tr>       <tr height=20>          <td height=20 style=height: 20px><span style=font-size: small>Regions Bank</span></td>          <td><span style=font-size: small>Lacy Wallace</span></td>          <td><span style=font-size: small>(865) 673-5793</span></td>          <td><span style=font-size: small>Bronze</span></td>          <td>&nbsp\;</td>          <td style=width: 51px>&nbsp\;</td>       </tr>       <tr height=20>          <td height=20 style=height: 20px><span style=font-size: small>Southeast Home Mortgage\, LLC</span></td>          <td><span style=font-size: small>Vicki Williams</span></td>          <td><span style=font-size: small>(865) 558-8871</span></td>          <td><span style=font-size: small>Centerpiece</span></td>          <td><span style=font-size: small>Vicki Williams</span></td>          <td style=width: 51px><span style=font-size: small>Vicki</span></td>       </tr>       <tr height=20>          <td height=20 style=height: 20px><span style=font-size: small>SunTrust Mortgage\, Inc.</span></td>          <td><span style=font-size: small>Annie Acree</span></td>          <td><span style=font-size: small>(865) 544-2293</span></td>          <td><span style=font-size: small>Beverage</span></td>          <td><span style=font-size: small>Lorie Jaynes</span></td>          <td style=width: 51px><span style=font-size: small>Lorie</span></td>       </tr>       <tr height=20>          <td height=20 style=height: 20px><span style=font-size: small>Tennessee Housing Development Agency</span></td>          <td><span style=font-size: small>Debbie Reeves</span></td>          <td><span style=font-size: small>(615) 815-2152</span></td>          <td><span style=font-size: small>Silver</span></td>          <td><span style=font-size: small>Lorie Jaynes</span></td>          <td style=width: 51px><span style=font-size: small>Lorie</span></td>       </tr>       <tr height=20>          <td height=20 style=height: 20px><span style=font-size: small>Title Associates of Knoxville</span></td>          <td><span style=font-size: small>Sue Benson</span></td>          <td><span style=font-size: small>(865) 777-1040</span></td>          <td><span style=font-size: small>Centerpiece</span></td>          <td><span style=font-size: small>Major Ward</span></td>          <td style=width: 51px>&nbsp\;</td>       </tr>       <tr height=20>          <td height=20 style=height: 20px><span style=font-size: small>TnWaste\, LLC</span></td>          <td><span style=font-size: small>Larry Seivers</span></td>          <td><span style=font-size: small>(865) 546-6311</span></td>          <td><span style=font-size: small>Centerpiece</span></td>          <td><span style=font-size: small>Deanna Cox</span></td>          <td style=width: 51px>&nbsp\;</td>       </tr>       <tr height=20>          <td height=20 style=height: 20px><span style=font-size: small>United States Marine Corps</span></td>          <td><span style=font-size: small>Thomas Smith</span></td>          <td><span style=font-size: small>(865) 546-1312</span></td>          <td><span style=font-size: small>Toys for Tots</span></td>          <td><span style=font-size: small>Toys for Tots</span></td>          <td style=width: 51px>&nbsp\;</td>       </tr>       <tr height=20>          <td height=20 style=height: 20px><span style=font-size: small>Wells Fargo Home Mortgage</span></td>          <td><span style=font-size: small>Cindy Greene</span></td>          <td><span style=font-size: small>(865) 690-2721</span></td>          <td><span style=font-size: small>Bronze</span></td>          <td><span style=font-size: small>DJ ent.</span></td>          <td style=width: 51px><span style=font-size: small>Vicki</span></td>       </tr>       <tr height=20>          <td height=20 style=height: 20px><span style=font-size: small>William Knight Insurance Agency\, Inc.</span></td>          <td><span style=font-size: small>Chris Knight</span></td>          <td><span style=font-size: small>(865) 670-2990</span></td>          <td><span style=font-size: small>Bronze</span></td>          <td>&nbsp\;</td>          <td style=width: 51px>&nbsp\;</td>       </tr>    </tbody> </table>
LOCATION:6005 Brookvale Lane Knoxville\, TN
UID:e.9402.450
SEQUENCE:3
DTSTAMP:20260421T193412Z
URL:http://hbaknoxvilletn.memberzone.com/events/details/holiday-committee-new-date-9-20-09-20-2012-450
END:VEVENT

END:VCALENDAR
