BEGIN:VCALENDAR
VERSION:2.0
PRODID:-//ChamberMaster//Event Calendar 2.0//EN
METHOD:PUBLISH
X-PUBLISHED-TTL:P3D
REFRESH-INTERVAL:P3D
CALSCALE:GREGORIAN
BEGIN:VEVENT
DTSTART;VALUE=DATE:20121127
DTEND;VALUE=DATE:20121128
TRANSP:TRANSPARENT
X-MICROSOFT-CDO-ALLDAYEVENT:TRUE
SUMMARY:Holiday Committee
DESCRIPTION:The 2012 HBAGK/KAAR Annual Holiday Celebration will be hosted on Thursday\, December 6 at The Foundry located in the heart of downtown Knoxville. The party is just around the corner! Our final meeting is scheduled for 3:30 PM\, Tuesday\, 11/27 at Aubrey's on Brookvale Lane near Papermill Drive. We hope you will attend\, please respond so we can make arrangements for the meeting.\n \n Thank you for volunteering to serve on the Holiday Celebration Committee benefitting Toys for Tots.\n \n (RSVP - You can retrieve your login name & password by clicking the registration link in this message then following the prompt using your email address to have the information sent to you)
X-ALT-DESC;FMTTYPE=text/html:<span style=font-size: 9pt><span style=color: #222222><span style=font-family: arial\, sans-serif>The 2012 HBAGK/KAAR Annual Holiday Celebration will be hosted on Thursday\, December 6 at The Foundry located in the heart of downtown Knoxville.&nbsp\;The party is just around the corner!&nbsp\;Our final meeting is scheduled for&nbsp\;3:30 PM\,&nbsp\;Tuesday\, 11/27 at Aubrey&#39\;s on Brookvale Lane near Papermill Drive. We hope you will attend\, please respond so we can make arrangements for the meeting.<br> <br> Thank you for volunteering to serve on the Holiday Celebration Committee benefitting Toys for Tots.<br> <br> <strong><span style=font-family: arial\, sans-serif><span style=background-color: #ffff00>(RSVP - You can retrieve your login name &amp\; password by clicking the registration link in this message then following the prompt using your email address to have the information sent to you)</span></span></strong></span></span></span><br> <br>
LOCATION:6005 Brookvale Lane Knoxville\, TN
UID:e.9402.467
SEQUENCE:3
DTSTAMP:20260421T092901Z
URL:http://hbaknoxvilletn.memberzone.com/events/details/holiday-committee-11-27-2012-467
END:VEVENT

END:VCALENDAR
