BEGIN:VCALENDAR
VERSION:2.0
PRODID:-//ChamberMaster//Event Calendar 2.0//EN
METHOD:PUBLISH
X-PUBLISHED-TTL:P3D
REFRESH-INTERVAL:P3D
CALSCALE:GREGORIAN
BEGIN:VEVENT
DTSTART;VALUE=DATE:20121010
DTEND;VALUE=DATE:20121011
TRANSP:TRANSPARENT
X-MICROSOFT-CDO-ALLDAYEVENT:TRUE
SUMMARY:Holiday Committee
DESCRIPTION:The 2012 HBAGK/KAAR Annual Holiday Celebration will be hosted on Thursday\, December 6 at The Foundry located in the heart of downtown Knoxville. It's time to get together and plan this spectacular evening for our members. Our next meeting is scheduled for 4:00 PM\, Wednesday\, 10/10/12 at Aubrey's Restaurant near Papermill Drive. We hope you will attend\, please respond so we can make arrangements for the meeting.\n \n Thank you for volunteering to serve on the Holiday Celebration Committee benefitting Toys for Tots.\n \n (RSVP - You can retrieve your login name & password by clicking the registration link in this message then following the prompt using your email address to have the information sent to you)\n \n 2012 Sponsors (confirmed):\n \n                                                   Advanced Appraisal Services           Chris Skalet           Centerpiece                        Arrow Exterminators           Jeanne Bird           Centerpiece                        Ferguson Enterprises           John Gregory           Bronze                        First American Home Warranty           Maryann Azambuja           Centerpiece                        Knoxville Title Agency           Jenny Fogarty           Centerpiece x2                        ORNL Federal Credit Union           Larry Jackson           Platinum                        Realty Executives Associates           Steve Fogarty           Bronze - DJ                        Regions Bank           Lacy Wallace           Bronze                        SunTrust Mortgage\, Inc.           Lindsey Cole           Bronze                        TnWaste\, LLC           Larry Seivers           Centerpiece                        William Knight Insurance Agency\, Inc.           William Knight           Bronze
X-ALT-DESC;FMTTYPE=text/html:<span style=font-size: 9pt><span style=color: #222222><span style=font-family: arial\, sans-serif>The 2012 HBAGK/KAAR Annual Holiday Celebration will be hosted on Thursday\, December 6 at The Foundry located in the heart of downtown Knoxville. It&#39\;s time to get together and plan this spectacular evening for our members. Our next meeting is scheduled for 4:00 PM\,&nbsp\;Wednesday\, 10/10/12&nbsp\;at Aubrey&#39\;s Restaurant near Papermill Drive. We hope you will attend\, please respond so we can make arrangements for the meeting.<br> <br> Thank you for volunteering to serve on the Holiday Celebration Committee benefitting Toys for Tots.<br> <br> <strong><span style=font-family: arial\, sans-serif><span style=background-color: #ffff00>(RSVP - You can retrieve your login name &amp\; password by clicking the registration link in this message then following the prompt using your email address to have the information sent to you)</span></span></strong></span></span></span><br> <br> <u><strong>2012 Sponsors (confirmed):</strong></u><br> <br> <table border=0 cellpadding=0 cellspacing=0 style=width: 599px width=599>    <colgroup>       <col>       <col>       <col>    </colgroup>    <tbody>       <tr height=20>          <td height=20 style=width: 244px\; height: 20px><a href=https://builderfusion.hbaknoxville.com/bf/admin/events/sponsorInvoice.jsp?event_sponsor_id=4861><span style=color: windowtext><span style=font-size: medium>Advanced Appraisal Services&nbsp\;</span></span></a></td>          <td style=width: 123px><span style=font-size: small>Chris Skalet&nbsp\;</span></td>          <td style=width: 232px><span style=font-size: small>Centerpiece</span></td>       </tr>       <tr height=20>          <td height=20 style=width: 244px\; height: 20px><a href=https://builderfusion.hbaknoxville.com/bf/admin/events/sponsorInvoice.jsp?event_sponsor_id=4821><span style=color: windowtext><span style=font-size: medium>Arrow Exterminators&nbsp\;</span></span></a></td>          <td style=width: 123px><span style=font-size: small>Jeanne Bird&nbsp\;</span></td>          <td style=width: 232px><span style=font-size: small>Centerpiece</span></td>       </tr>       <tr height=20>          <td height=20 style=width: 244px\; height: 20px><a href=https://builderfusion.hbaknoxville.com/bf/admin/events/sponsorInvoice.jsp?event_sponsor_id=4721><span style=color: windowtext><span style=font-size: medium>Ferguson Enterprises&nbsp\;</span></span></a></td>          <td style=width: 123px><span style=font-size: small>John Gregory&nbsp\;</span></td>          <td style=width: 232px><span style=font-size: small>Bronze</span></td>       </tr>       <tr height=20>          <td height=20 style=width: 244px\; height: 20px><a href=https://builderfusion.hbaknoxville.com/bf/admin/events/sponsorInvoice.jsp?event_sponsor_id=4841><span style=color: windowtext><span style=font-size: medium>First American Home Warranty&nbsp\;</span></span></a></td>          <td style=width: 123px><span style=font-size: small>Maryann Azambuja&nbsp\;</span></td>          <td style=width: 232px><span style=font-size: small>Centerpiece</span></td>       </tr>       <tr height=20>          <td height=20 style=width: 244px\; height: 20px><a href=https://builderfusion.hbaknoxville.com/bf/admin/events/sponsorInvoice.jsp?event_sponsor_id=4682><span style=color: windowtext><span style=font-size: medium>Knoxville Title Agency&nbsp\;</span></span></a></td>          <td style=width: 123px><span style=font-size: small>Jenny Fogarty&nbsp\;</span></td>          <td style=width: 232px><span style=font-size: small>Centerpiece x2</span></td>       </tr>       <tr height=20>          <td height=20 style=width: 244px\; height: 20px><a href=https://builderfusion.hbaknoxville.com/bf/admin/events/sponsorInvoice.jsp?event_sponsor_id=4862><span style=color: windowtext><span style=font-size: medium>ORNL Federal Credit Union&nbsp\;</span></span></a></td>          <td style=width: 123px><span style=font-size: small>Larry Jackson&nbsp\;</span></td>          <td style=width: 232px><span style=font-size: small>Platinum</span></td>       </tr>       <tr height=20>          <td height=20 style=width: 244px\; height: 20px><a href=https://builderfusion.hbaknoxville.com/bf/admin/events/sponsorInvoice.jsp?event_sponsor_id=4701><span style=color: windowtext><span style=font-size: medium>Realty Executives Associates&nbsp\;</span></span></a></td>          <td style=width: 123px><span style=font-size: small>Steve Fogarty&nbsp\;</span></td>          <td style=width: 232px><span style=font-size: small>Bronze - DJ</span></td>       </tr>       <tr height=20>          <td height=20 style=width: 244px\; height: 20px><a href=https://builderfusion.hbaknoxville.com/bf/admin/events/sponsorInvoice.jsp?event_sponsor_id=4781><span style=color: windowtext><span style=font-size: medium>Regions Bank&nbsp\;</span></span></a></td>          <td style=width: 123px><span style=font-size: small>Lacy Wallace&nbsp\;</span></td>          <td style=width: 232px><span style=font-size: small>Bronze</span></td>       </tr>       <tr height=20>          <td height=20 style=width: 244px\; height: 20px><a href=https://builderfusion.hbaknoxville.com/bf/admin/events/sponsorInvoice.jsp?event_sponsor_id=4741><span style=color: windowtext><span style=font-size: medium>SunTrust Mortgage\, Inc.&nbsp\;</span></span></a></td>          <td style=width: 123px><span style=font-size: small>Lindsey Cole&nbsp\;</span></td>          <td style=width: 232px><span style=font-size: small>Bronze</span></td>       </tr>       <tr height=20>          <td height=20 style=width: 244px\; height: 20px><a href=https://builderfusion.hbaknoxville.com/bf/admin/events/sponsorInvoice.jsp?event_sponsor_id=4801><span style=color: windowtext><span style=font-size: medium>TnWaste\, LLC&nbsp\;</span></span></a></td>          <td style=width: 123px><span style=font-size: small>Larry Seivers&nbsp\;</span></td>          <td style=width: 232px><span style=font-size: small>Centerpiece</span></td>       </tr>       <tr height=20>          <td height=20 style=width: 244px\; height: 20px><a href=https://builderfusion.hbaknoxville.com/bf/admin/events/sponsorInvoice.jsp?event_sponsor_id=4761><span style=color: windowtext><span style=font-size: medium>William Knight Insurance Agency\, Inc.&nbsp\;</span></span></a></td>          <td style=width: 123px><span style=font-size: small>William Knight&nbsp\;</span></td>          <td style=width: 232px><span style=font-size: small>Bronze</span></td>       </tr>    </tbody> </table>
LOCATION:6005 Brookvale Lane Knoxville\, TN
UID:e.9402.455
SEQUENCE:3
DTSTAMP:20260421T122050Z
URL:http://hbaknoxvilletn.memberzone.com/events/details/holiday-committee-10-10-2012-455
END:VEVENT

END:VCALENDAR
