BEGIN:VCALENDAR
VERSION:2.0
PRODID:-//ChamberMaster//Event Calendar 2.0//EN
METHOD:PUBLISH
X-PUBLISHED-TTL:P3D
REFRESH-INTERVAL:P3D
CALSCALE:GREGORIAN
BEGIN:VEVENT
DTSTART;VALUE=DATE:20140923
DTEND;VALUE=DATE:20140924
TRANSP:TRANSPARENT
X-MICROSOFT-CDO-ALLDAYEVENT:TRUE
SUMMARY:Holiday Committee
DESCRIPTION:It's time to plan the annual Holiday Celebration for our members! The Home Builders and Realtors will be at the Foundry again on Thursday\, December 4th to host our members' party and collect toys for Toys for Tots. Please join us as we plan another fun party for a good cause. We will meet at the HBAGK office Tuesday\, September 23rd at 1:00 . Please RSVP if you would like lunch for $8\, sandwich or salad.
X-ALT-DESC;FMTTYPE=text/html:It's time to plan the annual Holiday Celebration for our members! The Home Builders and Realtors will be at the Foundry again on Thursday\, December 4th to host our members' party and collect toys for Toys for Tots. Please join us as we plan another fun party for a good cause. We will meet at the HBAGK office Tuesday\, September 23rd at 1:00 . Please RSVP if you would like lunch for $8\, sandwich or salad.<div><br></div><div><br></div>
LOCATION:221 Clark Street\, NW Knoxville\, TN
UID:e.9402.635
SEQUENCE:3
DTSTAMP:20260421T090305Z
URL:http://hbaknoxvilletn.memberzone.com/events/details/holiday-committee-09-23-2014-635
END:VEVENT

END:VCALENDAR
