BEGIN:VCALENDAR
VERSION:2.0
PRODID:-//ChamberMaster//Event Calendar 2.0//EN
METHOD:PUBLISH
X-PUBLISHED-TTL:P3D
REFRESH-INTERVAL:P3D
CALSCALE:GREGORIAN
BEGIN:VEVENT
DTSTART;VALUE=DATE:20131028
DTEND;VALUE=DATE:20131029
TRANSP:TRANSPARENT
X-MICROSOFT-CDO-ALLDAYEVENT:TRUE
SUMMARY:Holiday Celebration Committee
DESCRIPTION:Thank you for volunteering to serve on the Holiday Celebration Committee benefitting Toys for Tots.\n \n WOO HOO - sponsorships have picked up since our last meeting and we are looking better than before! Let's keep 'em coming though\, the more we get the more we can do for our members. Please join us at our next committee meeting at 9:00 AM\, Monday 10/28/13 at the Home Builders' office.\n \n (PLEASE - You can retrieve your login name & password by clicking the blue registration link in this message then following the prompt using your email address to have the information sent to you. One time is all it takes to auto-login until you reset your Cookies)\n \n Thank you!
X-ALT-DESC;FMTTYPE=text/html:<span style=font-family: arial\, sans-serif\;>Thank you for volunteering to serve on the Holiday Celebration Committee benefitting Toys for Tots.<br> <br> WOO HOO - sponsorships have picked up since our last meeting and we are looking better than before! Let&#39\;s keep &#39\;em coming though\, the more we get the more we can do for our members.&nbsp\;Please join us at our next committee meeting at 9:00 AM\, Monday 10/28/13 at the Home Builders&#39\; office.</span><br style=font-family: arial\, sans-serif\;> <br style=font-family: arial\, sans-serif\;> <strong style=font-family: arial\, sans-serif\;>(PLEASE - You can retrieve your login name &amp\; password by clicking the blue registration link in this message then following the prompt using your email address to have the information sent to you. One time is all it takes to auto-login until you reset your Cookies)</strong><br> <br> <strong style=font-family: arial\, sans-serif\;>Thank you!</strong><br> <br>
LOCATION:221 Clark Street\, NW Knoxville\, TN
UID:e.9402.563
SEQUENCE:3
DTSTAMP:20260420T141938Z
URL:http://hbaknoxvilletn.memberzone.com/events/details/holiday-celebration-committee-10-28-2013-563
END:VEVENT

END:VCALENDAR
