BEGIN:VCALENDAR
VERSION:2.0
PRODID:-//ChamberMaster//Event Calendar 2.0//EN
METHOD:PUBLISH
X-PUBLISHED-TTL:P3D
REFRESH-INTERVAL:P3D
CALSCALE:GREGORIAN
BEGIN:VEVENT
DTSTART;VALUE=DATE:20091015
DTEND;VALUE=DATE:20091016
TRANSP:TRANSPARENT
X-MICROSOFT-CDO-ALLDAYEVENT:TRUE
SUMMARY:Holiday Celebration Committee
DESCRIPTION:It's that time of year again - the Holiday Celebration Committee is getting together to plan the annual party for our members. We will meet at the HBAGK Office on Thursday\, Oct. 15 at 12:00 to discuss all the party details including our Toys for Tots charity drive with the local USMC Reserve unit. Please respond to let us know if you will attend and have lunch so we can plan accordingly. Lunch will be provided for $6 per person and we accept cash\, checks and credit cards. Thanks for volunteering to serve on this committee!
X-ALT-DESC;FMTTYPE=text/html:<p><span style=font-size: 9pt\; font-family: &quot\;Arial&quot\;\,&quot\;sans-serif&quot\;>It&rsquo\;s that time of year again - the Holiday Celebration Committee is getting together to plan the annual party for our members. We will meet at the HBAGK Office on Thursday\, Oct. 15 at 12:00 to discuss all the party details including our Toys for Tots charity drive with the local USMC Reserve unit. Please respond to let us know if you will attend and have lunch so we can plan accordingly. Lunch will be provided for $6 per person and we accept cash\, checks and credit cards. Thanks for volunteering to serve on this committee!<o:p></o:p></span></p>
LOCATION:221 Clark Street\, NW Knoxville\, TN
UID:e.9402.188
SEQUENCE:3
DTSTAMP:20260424T202946Z
URL:http://hbaknoxvilletn.memberzone.com/events/details/holiday-celebration-committee-10-15-2009-188
END:VEVENT

END:VCALENDAR
