BEGIN:VCALENDAR
VERSION:2.0
PRODID:-//ChamberMaster//Event Calendar 2.0//EN
METHOD:PUBLISH
X-PUBLISHED-TTL:P3D
REFRESH-INTERVAL:P3D
CALSCALE:GREGORIAN
BEGIN:VEVENT
DTSTART;VALUE=DATE:20111011
DTEND;VALUE=DATE:20111012
TRANSP:TRANSPARENT
X-MICROSOFT-CDO-ALLDAYEVENT:TRUE
SUMMARY:Holiday Celebration Committee
DESCRIPTION:It's party time!! The Holiday Celebration Committee will meet at The Foundry at World's Fair Park\, 10/11 at 10:00 AM.  The Foundry is our location to host the party on Thursday\, December 1st. We will review sponsorships and the menu at this meeting. Menu selections can be viewed at the Foundry website: http://www.foundonfair.com/menulunch.htm. View hors d'oeuvres in the Lunch and Dinner section. RSVP so we can prepare our materials and we hope to see you there. If you no longer wish to serve on this committee at this time please respond and I will remove your name from the committee roster. You are always welcome to return to this committee or sign up for a different one if your interests or availability change.
X-ALT-DESC;FMTTYPE=text/html:<p>It&#39\;s&nbsp\;party time!! The Holiday Celebration Committee will meet at&nbsp\;<strong>The Foundry at World&#39\;s Fair Park\,&nbsp\;10/11&nbsp\;at 10:00 AM</strong>.&nbsp\; The Foundry is our location to host the party on&nbsp\;Thursday\, December 1st. We will review sponsorships and the menu at this meeting. Menu selections can be viewed at the Foundry website: <a href=http://www.foundonfair.com/menulunch.htm>http://www.foundonfair.com/menulunch.htm</a>. View hors d&#39\;oeuvres in the Lunch and Dinner section.</p> <p>RSVP so we can prepare our materials and we hope to see you there. If you no longer wish to serve on this committee at this time&nbsp\;please respond and I will remove your name from the committee roster. You are always welcome to return to this committee or sign up for a different one if your interests or availability change.</p>
LOCATION:747 World's Fair Park Dr. Knoxville\, TN
UID:e.9402.342
SEQUENCE:3
DTSTAMP:20260422T193612Z
URL:http://hbaknoxvilletn.memberzone.com/events/details/holiday-celebration-committee-10-11-2011-342
END:VEVENT

END:VCALENDAR
