BEGIN:VCALENDAR
VERSION:2.0
PRODID:-//ChamberMaster//Event Calendar 2.0//EN
METHOD:PUBLISH
X-PUBLISHED-TTL:P3D
REFRESH-INTERVAL:P3D
CALSCALE:GREGORIAN
BEGIN:VEVENT
DTSTART;VALUE=DATE:20110915
DTEND;VALUE=DATE:20110916
TRANSP:TRANSPARENT
X-MICROSOFT-CDO-ALLDAYEVENT:TRUE
SUMMARY:Holiday Celebration Committee
DESCRIPTION:It's party time!! The Holiday Celebration Committee will meet at Aubrey's Restaurant on Thursday\, 9/15 at 4:00 PM to discuss this year's party. The committee has selected The Foundry to host the party on Thursday\, December 1st. We will review sponsorships and the menu at this meeting. Menu selections can be viewed at the Foundry website: http://www.foundonfair.com/menulunch.htm. View hors d'oeuvres in the Lunch and Dinner section or see attachment. RSVP so we can prepare our materials and we hope to see you there. If you no longer wish to serve on this committee at this time please respond and I will remove your name from the committee roster. You are always welcome to return to this committee or sign up for a different one if your interests or availability change.
X-ALT-DESC;FMTTYPE=text/html:<p>It&#39\;s&nbsp\;party time!! The Holiday Celebration Committee will meet at&nbsp\;<strong>Aubrey&#39\;s Restaurant&nbsp\;on&nbsp\;Thursday\,&nbsp\;9/15&nbsp\;at 4:00 PM </strong>to discuss this year&#39\;s party.&nbsp\;The committee has&nbsp\;selected The Foundry to host the party on&nbsp\;Thursday\, December 1st. We will review sponsorships and the menu at this meeting. Menu selections can be viewed at the Foundry website: <a href=http://www.foundonfair.com/menulunch.htm>http://www.foundonfair.com/menulunch.htm</a>. View hors d&#39\;oeuvres in the Lunch and Dinner section or see attachment.</p> <p>RSVP so we can prepare our materials and we hope to see you there. If you no longer wish to serve on this committee at this time&nbsp\;please respond and I will remove your name from the committee roster. You are always welcome to return to this committee or sign up for a different one if your interests or availability change.</p>
LOCATION:6005 Brookvale Lane Knoxville\, TN
UID:e.9402.334
SEQUENCE:3
DTSTAMP:20260422T211558Z
URL:http://hbaknoxvilletn.memberzone.com/events/details/holiday-celebration-committee-09-15-2011-334
END:VEVENT

END:VCALENDAR
