BEGIN:VCALENDAR
VERSION:2.0
PRODID:-//ChamberMaster//Event Calendar 2.0//EN
METHOD:PUBLISH
X-PUBLISHED-TTL:P3D
REFRESH-INTERVAL:P3D
CALSCALE:GREGORIAN
BEGIN:VEVENT
DTSTART;VALUE=DATE:20110823
DTEND;VALUE=DATE:20110824
TRANSP:TRANSPARENT
X-MICROSOFT-CDO-ALLDAYEVENT:TRUE
SUMMARY:Holiday Celebration Committee
DESCRIPTION:It's party time!! The Holiday Celebration Committee will meet at Aubrey's Restaurant on Tuesday\, 8/23 at 4:00 PM to discuss this year's party. This is our third meeting of 2011 and we have narrowed our list of venues and are tentatively planning the party for Thursday\, December 8th. We will have more details at this meeting. RSVP so we can prepare our materials and we hope to see you there. If you no longer wish to serve on this committee at this time please respond and I will remove your name from the committee roster. You are always welcome to return to this committee or sign up for a different one if your interests or availability change.
X-ALT-DESC;FMTTYPE=text/html:<p>It&#39\;s&nbsp\;party time!! The Holiday Celebration Committee will meet at&nbsp\;Aubrey&#39\;s Restaurant&nbsp\;on&nbsp\;Tuesday\, 8/23&nbsp\;at 4:00 PM to discuss this year&#39\;s party. This is our third meeting of 2011&nbsp\;and we have narrowed our list of venues and are tentatively planning the party for Thursday\, December 8th. We will have more details at this meeting.</p> <p>RSVP so we can prepare our materials and we hope to see you there. If you no longer wish to serve on this committee at this time&nbsp\;please respond and I will remove your name from the committee roster. You are always welcome to return to this committee or sign up for a different one if your interests or availability change.</p>
LOCATION:6005 Brookvale Lane Knoxville\, TN
UID:e.9402.329
SEQUENCE:3
DTSTAMP:20260422T223859Z
URL:http://hbaknoxvilletn.memberzone.com/events/details/holiday-celebration-committee-08-23-2011-329
END:VEVENT

END:VCALENDAR
