BEGIN:VCALENDAR
VERSION:2.0
PRODID:-//ChamberMaster//Event Calendar 2.0//EN
METHOD:PUBLISH
X-PUBLISHED-TTL:P3D
REFRESH-INTERVAL:P3D
CALSCALE:GREGORIAN
BEGIN:VEVENT
DTSTART;VALUE=DATE:20110804
DTEND;VALUE=DATE:20110805
TRANSP:TRANSPARENT
X-MICROSOFT-CDO-ALLDAYEVENT:TRUE
SUMMARY:Holiday Celebration Committee
DESCRIPTION:It's time to plan a party!! The Holiday Celebration Committee will meet at Aubrey's Restaurant office on Thursday\, August 4 at 4:00 PM to discuss this year's party. This is our second meeting of 2011 and we already have some fun ideas for the party. RSVP so we can prepare our materials and we hope to see you there. If you no longer wish to serve on this committee at this time please respond and I will remove your name from the committee roster. You are always welcome to return to this committee or sign up for a different one if your interests or availability change.
X-ALT-DESC;FMTTYPE=text/html:<p>It&#39\;s time to plan a party!! The Holiday Celebration Committee will meet at&nbsp\;Aubrey&#39\;s Restaurant&nbsp\;office on Thursday\,&nbsp\;August 4&nbsp\;at 4:00 PM to discuss this year&#39\;s party. This is our second meeting of 2011&nbsp\;and we already have some&nbsp\;fun ideas for the party.</p> <p>RSVP so we can prepare our materials and we hope to see you there. If you no longer wish to serve on this committee at this time&nbsp\;please respond and I will remove your name from the committee roster. You are always welcome to return to this committee or sign up for a different one if your interests or availability change.</p>
LOCATION:6005 Brookvale Lane Knoxville\, TN
UID:e.9402.324
SEQUENCE:3
DTSTAMP:20260422T223821Z
URL:http://hbaknoxvilletn.memberzone.com/events/details/holiday-celebration-committee-08-04-2011-324
END:VEVENT

END:VCALENDAR
