BEGIN:VCALENDAR
VERSION:2.0
PRODID:-//ChamberMaster//Event Calendar 2.0//EN
METHOD:PUBLISH
X-PUBLISHED-TTL:P3D
REFRESH-INTERVAL:P3D
CALSCALE:GREGORIAN
BEGIN:VEVENT
DTSTART:20120304T050000Z
DTEND:20120306T050000Z
X-MICROSOFT-CDO-ALLDAYEVENT:FALSE
SUMMARY:HBAT Spring Legislative Conference & BOD Meeting
DESCRIPTION:2012 Spring Legislative Conference & Board of Directors Meeting \n \n Hilton Suites\, Nashville\, TN (hotel deadline 2/2/12)\n TENTATIVE** AGENDA \n \n Sunday\, March 4 \n 1:00 p.m.   2:30 p.m. New Senior Officer Orientation \n 3:00 p.m.   5:00 p.m. Senior Officers* \n \n Monday\, March 5 \n 7:30 a.m.   5:00 p.m. Registration Open \n 8:00 a.m.   9:00 a.m. Budget & Finance Committee \n 9:00 a.m.   10:15 a.m. Past Associate Leadership Committee* \n 9:00 a.m.   9:45 a.m. New Director Orientation \n 9:00 a.m.   10:00 a.m. Past State Presidents* \n 9:15 a.m.   10:30 a.m. Membership/Membership Services Committee \n 10:00 am   2:00 pm Self Insured Trust   Trust Annual Meeting/Trustee Meeting* \n 10:30 a.m.   12:00 p.m. EOC \n 11:30 p.m.   1:15 p.m. Lunch \n 1:00 p.m.   2:00 p.m. Local Leadership \n 1:00 p.m.   2:30 p.m. Tennessee Associates Council \n 2:00 p.m.   3:00 p.m. HIPAC Trustees \n 3:00 p.m.   5:00 p.m. Government Affairs Committee/Hill Briefing \n 5:15 p.m.   6:30 p.m. Executive Committee \n \n Tuesday\, March 6 \n 7:00 a.m.   12:00 p.m. Registration Open \n 7:30 a.m.   9:30 a.m. Legislative Breakfast \n 10:00 a.m.   11:30 a.m. Board of Directors Meeting \n 12:00 p.m.   4:00 p.m. Local Association Scheduled Hill Visits \n \n *Denotes Closed Meeting \n ** Subject to change
X-ALT-DESC;FMTTYPE=text/html:<a href=http://www.hbat.org><strong><span style=font-size: large>2012 Spring Legislative Conference &amp\; Board of Directors Meeting </span></strong></a><br> <br> <strong>Hilton Suites\, Nashville\, TN <span style=color: #ff0000>(hotel deadline 2/2/12)</span></strong><br> <strong>TENTATIVE** AGENDA </strong><br> <br> <strong><u><span style=font-size: medium>Sunday\, March 4 </span></u></strong><br> <span style=font-size: medium><span style=font-family: comic sans ms\, comic sans ms>1:00 p.m. &ndash\; 2:30 p.m. New Senior Officer Orientation </span></span><br> <span style=font-size: medium><span style=font-family: comic sans ms\, comic sans ms>3:00 p.m. &ndash\; 5:00 p.m. Senior Officers</span></span><span style=font-size: medium><span style=font-family: arial\, arial>* </span></span><br> <br> <strong><u><span style=font-size: medium>Monday\, March 5 </span></u></strong><br> <span style=font-size: medium><span style=font-family: comic sans ms\, comic sans ms>7:30 a.m. &ndash\; 5:00 p.m. Registration Open </span></span><br> <span style=font-size: medium><span style=font-family: comic sans ms\, comic sans ms>8:00 a.m. &ndash\; 9:00 a.m. Budget &amp\; Finance Committee </span></span><br> <span style=font-size: medium><span style=font-family: comic sans ms\, comic sans ms>9:00 a.m. &ndash\; 10:15 a.m. Past Associate Leadership Committee* </span></span><br> <span style=font-size: medium><span style=font-family: comic sans ms\, comic sans ms>9:00 a.m. &ndash\; 9:45 a.m. New Director Orientation </span></span><br> <span style=font-size: medium><span style=font-family: comic sans ms\, comic sans ms>9:00 a.m. &ndash\; 10:00 a.m. Past State Presidents* </span></span><br> <span style=font-size: medium><span style=font-family: comic sans ms\, comic sans ms>9:15 a.m. &ndash\; 10:30 a.m. Membership/Membership Services Committee </span></span><br> <span style=font-size: medium><span style=font-family: comic sans ms\, comic sans ms>10:00 am &ndash\; 2:00 pm Self Insured Trust &ndash\; Trust Annual Meeting/Trustee Meeting* </span></span><br> <span style=font-size: medium><span style=font-family: comic sans ms\, comic sans ms>10:30 a.m. &ndash\; 12:00 p.m. EOC </span></span><br> <span style=font-size: medium><span style=font-family: comic sans ms\, comic sans ms>11:30 p.m. &ndash\; 1:15 p.m. Lunch </span></span><br> <span style=font-size: medium><span style=font-family: comic sans ms\, comic sans ms>1:00 p.m. &ndash\; 2:00 p.m. Local Leadership </span></span><br> <span style=font-size: medium><span style=font-family: comic sans ms\, comic sans ms>1:00 p.m. &ndash\; 2:30 p.m. Tennessee Associates Council </span></span><br> <span style=font-size: medium><span style=font-family: comic sans ms\, comic sans ms>2:00 p.m. &ndash\; 3:00 p.m. HIPAC Trustees </span></span><br> <span style=font-size: medium><span style=font-family: comic sans ms\, comic sans ms>3:00 p.m. &ndash\; 5:00 p.m. Government Affairs Committee/Hill Briefing </span></span><br> <span style=font-size: medium><span style=font-family: comic sans ms\, comic sans ms>5:15 p.m. &ndash\; 6:30 p.m. Executive Committee </span></span><br> <br> <strong><u><span style=font-size: medium>Tuesday\, March 6 </span></u></strong><br> <span style=font-size: medium><span style=font-family: comic sans ms\, comic sans ms>7:00 a.m. &ndash\; 12:00 p.m. Registration Open </span></span><br> <span style=font-size: medium><span style=font-family: comic sans ms\, comic sans ms>7:30 a.m. &ndash\; 9:30 a.m. Legislative Breakfast </span></span><br> <span style=font-size: medium><span style=font-family: comic sans ms\, comic sans ms>10:00 a.m. &ndash\; 11:30 a.m. Board of Directors Meeting </span></span><br> <span style=font-size: medium><span style=font-family: comic sans ms\, comic sans ms>12:00 p.m. &ndash\; 4:00 p.m. Local Association Scheduled Hill Visits </span></span><br> <br> <span style=font-size: medium><span style=font-family: comic sans ms\, comic sans ms>*Denotes Closed Meeting </span></span><br> <span style=font-size: medium><span style=font-family: comic sans ms\, comic sans ms>** Subject to change </span></span><br>
LOCATION:121 4th Ave. South Nashville\, TN
UID:e.9402.386
SEQUENCE:3
DTSTAMP:20260422T075703Z
URL:http://hbaknoxvilletn.memberzone.com/events/details/hbat-spring-legislative-conference-bod-meeting-03-04-2012-386
END:VEVENT

END:VCALENDAR
