BEGIN:VCALENDAR
VERSION:2.0
PRODID:-//ChamberMaster//Event Calendar 2.0//EN
METHOD:PUBLISH
X-PUBLISHED-TTL:P3D
REFRESH-INTERVAL:P3D
CALSCALE:GREGORIAN
BEGIN:VEVENT
DTSTART;VALUE=DATE:20140220
DTEND;VALUE=DATE:20140221
TRANSP:TRANSPARENT
X-MICROSOFT-CDO-ALLDAYEVENT:TRUE
SUMMARY:HBAGK Membership Meeting at Ferguson's Showroom
DESCRIPTION:Home Builders Association of Greater Knoxville - February Membership Meeting\n    \n    Ferguson invites all HBAGK members to visit their showroom for the February Membership Meeting  Stop by after work to network and learn about their wide range of products. Representatives and staff will be present to discuss the new\, innovative products they have to offer. Raffle prizes\, catered food & drinks sponsored by Ferguson. RSVP!   Thursday\, February 20\, 2014~5:00 pm - 7:00 pm\n    Ferguson Showroom\n    215 Peregrine Way\n    Knoxville\, TN 37922
X-ALT-DESC;FMTTYPE=text/html:<p><span style=color: rgb(255\, 156\, 0)\;><b><span style=font-size: 14pt\;>Home Builders Association of Greater Knoxville - </span></b><b><span style=font-size: 14pt\;>February Membership Meeting</span></b></span><br>    <br>    <b style=color: rgb(8\, 82\, 148)\;><span style=font-size: 14pt>Ferguson invites all HBAGK members to visit their showroom for the February Membership Meeting&nbsp\;</span></b></p> <div align=left style=margin: 0in 0in 0pt><span style=font-size: 19px\; color: rgb(8\, 82\, 148)\;><b><i>Stop by after work to network and learn about their wide range of products. Representatives and staff will be present to discuss the new\, innovative products they have to offer.&nbsp\;Raffle prizes\, catered food &amp\; drinks sponsored by Ferguson. RSVP!</i></b></span></div> <div style=margin: 0in 0in 0pt><span style=color: rgb(8\, 82\, 148)\;>&nbsp\;</span></div> <div align=left style=margin: 0in 0in 0pt><b><font size=6><span style=font-size: 14pt\; color: rgb(255\, 156\, 0)\;>Thursday\, February 20\, 2014~5:00 pm - 7:00 pm</span></font></b><br>    <b style=color: rgb(8\, 82\, 148)\;><font size=6><span style=font-size: 14pt\;>Ferguson Showroom<br>    215 Peregrine Way<br>    Knoxville\, TN 37922</span></font></b></div> <div style=margin: 0in 0in 0pt>&nbsp\;</div> <div style=margin: 0in 0in 0pt><b>&nbsp\;</b></div> <div style=margin: 0in 0in 0pt>&nbsp\;</div>
LOCATION:215 Peregrine Way Knoxville\, TN
UID:e.9402.584
SEQUENCE:3
DTSTAMP:20260420T024749Z
URL:http://hbaknoxvilletn.memberzone.com/events/details/hbagk-membership-meeting-at-ferguson-s-showroom-02-20-2014-584
END:VEVENT

END:VCALENDAR
