BEGIN:VCALENDAR
VERSION:2.0
PRODID:-//ChamberMaster//Event Calendar 2.0//EN
METHOD:PUBLISH
X-PUBLISHED-TTL:P3D
REFRESH-INTERVAL:P3D
CALSCALE:GREGORIAN
BEGIN:VEVENT
DTSTART;VALUE=DATE:20140828
DTEND;VALUE=DATE:20140829
TRANSP:TRANSPARENT
X-MICROSOFT-CDO-ALLDAYEVENT:TRUE
SUMMARY:HBAGK Membership Meeting at ABC Supply
DESCRIPTION:Home Builders Association of Greater Knoxville - August Membership Meeting\n    \n    ABC Supply of Knoxville invites all HBAGK members to visit their location for our August Membership Meeting  Stop by after work to network and learn about their NEW BOOM TRUCK. ABC Supply is now offering two-man roof top delivery. Representatives from ABC Supply will be in attendance to answer any questions and provide information on their products. Snacks and refreshments will be provided. RSVP!   Thursday\, August 28\, 2014~5:00 pm - 7:00 pm\nABC Supply\n    220 Royal Crown Drive\n    Knoxville\, TN 37919
X-ALT-DESC;FMTTYPE=text/html:<p><span style=color: rgb(255\, 0\, 0)\;><b><span style=font-size: 14pt\;>Home Builders Association of Greater Knoxville - </span></b><b><span style=font-size: 14pt\;>August Membership Meeting</span></b></span><br>    <br>    <b style=color: rgb(8\, 82\, 148)\;><span style=font-size: 14pt>ABC Supply of Knoxville invites all HBAGK members to visit their location for our August Membership Meeting&nbsp\;</span></b></p> <div align=left style=margin: 0in 0in 0pt><span style=font-size: 19px\; color: rgb(8\, 82\, 148)\;><b><i>Stop by after work to network and learn about their NEW BOOM TRUCK. ABC Supply is now offering two-man roof top delivery. Representatives from ABC Supply will be in attendance to answer any questions and provide information on their products. Snacks and refreshments will be provided. RSVP!</i></b></span></div> <div style=margin: 0in 0in 0pt><span style=color: rgb(8\, 82\, 148)\;>&nbsp\;</span></div> <div align=left style=margin: 0in 0in 0pt><b><font size=6><span style=font-size: 14pt\; color: rgb(255\, 0\, 0)\;>Thursday\, August 28\, 2014~5:00 pm - 7:00 pm</span></font></b><br><b style=color: rgb(8\, 82\, 148)\;><font size=6><span style=font-size: 14pt\;>ABC Supply<br>    220 Royal Crown Drive<br>    Knoxville\, TN 37919</span></font></b></div> <div style=margin: 0in 0in 0pt>&nbsp\;</div> <div style=margin: 0in 0in 0pt><b>&nbsp\;</b></div> <div style=margin: 0in 0in 0pt>&nbsp\;</div>
LOCATION:220 Royal Crown Drive Knoxville\, TN
UID:e.9402.628
SEQUENCE:3
DTSTAMP:20260419T141513Z
URL:http://hbaknoxvilletn.memberzone.com/events/details/hbagk-membership-meeting-at-abc-supply-08-28-2014-628
END:VEVENT

END:VCALENDAR
