BEGIN:VCALENDAR
VERSION:2.0
PRODID:-//ChamberMaster//Event Calendar 2.0//EN
METHOD:PUBLISH
X-PUBLISHED-TTL:P3D
REFRESH-INTERVAL:P3D
CALSCALE:GREGORIAN
BEGIN:VEVENT
DTSTART;VALUE=DATE:20100624
DTEND;VALUE=DATE:20100625
TRANSP:TRANSPARENT
X-MICROSOFT-CDO-ALLDAYEVENT:TRUE
SUMMARY:HBAGK Member Orientation
DESCRIPTION:Home Builders Association of Greater Knoxville Member Orientation   11:00 a.m. Thursday\, June 24 at HBAGK office   Welcome to our association!! This is an EXCELLENT OPPORTUNITY for you to take advantage of your membership with the Home Builders Association of Greater Knoxville.   You are invited to attend a special meeting just for HBAGK members. This brief orientation is being hosted by our Membership Committee who will be on hand to answer your questions and provide information on how to get the most out of your membership.   After the meeting you are invited to stay for lunch at our Hotdog Cookout sponsored by Dow Building Solutions. Lunch starts at 11:30 and all company employees are invited. Dress is casual / worksite.   There will also be handouts and information on:      How to Network at an Association Meeting     Building Better Relationships with Builders     Building Your Business Through Association Participation     Membership Directory with Listing of HBA Officers and Executive Committee     New Member Incentive Certificates will be available at this meeting  RSVP by telephone at 546-4665
X-ALT-DESC;FMTTYPE=text/html:<p>&nbsp\;</p> <div style=margin: 0in 0in 0pt align=center><a name=OLE_LINK1><b><span style=font-size: 20pt\; color: blue>Home Builders Association of Greater </span></b></a><b><span style=font-size: 20pt\; color: blue>Knoxville</span><b><span style=font-size: 20pt\; color: blue /></b></b></div> <div style=margin: 0in 0in 0pt align=center><b><span style=font-size: 20pt\; color: blue>Member Orientation</span></b></div> <div style=margin: 0in 0in 0pt align=center>&nbsp\;</div> <div style=margin: 0in 0in 0pt align=center><b><span style=font-size: 16pt\; color: red>11:00 a.m. Thursday\, June 24 at HBAGK office</span></b></div> <div style=margin: 0in 0in 0pt align=center>&nbsp\;</div> <div style=margin: 0in 0in 0pt\; text-align: left>Welcome to our association!! This is an EXCELLENT OPPORTUNITY for you to take advantage of your membership with the Home Builders Association of Greater Knoxville.</div> <div style=margin: 0in 0in 0pt\; text-align: left>&nbsp\;</div> <div style=margin: 0in 0in 0pt\; text-align: left>You are invited to attend a special meeting just for HBAGK members. This brief orientation is being hosted by our Membership Committee who will be on hand to answer your questions and provide information on how to get the most out of your membership.</div> <div style=margin: 0in 0in 0pt\; text-align: left>&nbsp\;</div> <div style=margin: 0in 0in 0pt\; text-align: left>After the meeting you are invited to stay for lunch at our Hotdog Cookout sponsored by Dow Building Solutions. Lunch starts at 11:30 and all company employees are invited. Dress is casual / worksite.</div> <div style=margin: 0in 0in 0pt align=center>&nbsp\;</div> <div style=margin: 0in 0in 0pt>There will also be handouts and information on:</div> <ul type=disc style=margin-top: 0in>     <li style=margin: 0in 0in 0pt>How to Network at an Association Meeting</li>     <li style=margin: 0in 0in 0pt>Building Better Relationships with Builders</li>     <li style=margin: 0in 0in 0pt>Building Your Business Through Association Participation</li>     <li style=margin: 0in 0in 0pt>Membership Directory with Listing of HBA Officers and Executive Committee</li>     <li style=margin: 0in 0in 0pt>New Member Incentive Certificates will be available at this meeting</li> </ul> <p>RSVP by telephone at 546-4665</p> <p>&nbsp\;</p>
LOCATION:221 Clark Street\, NW Knoxville\, TN
UID:e.9402.228
SEQUENCE:3
DTSTAMP:20260424T093216Z
URL:http://hbaknoxvilletn.memberzone.com/events/details/hbagk-member-orientation-06-24-2010-228
END:VEVENT

END:VCALENDAR
