BEGIN:VCALENDAR
VERSION:2.0
PRODID:-//ChamberMaster//Event Calendar 2.0//EN
METHOD:PUBLISH
X-PUBLISHED-TTL:P3D
REFRESH-INTERVAL:P3D
CALSCALE:GREGORIAN
BEGIN:VEVENT
DTSTART;VALUE=DATE:20110324
DTEND;VALUE=DATE:20110325
TRANSP:TRANSPARENT
X-MICROSOFT-CDO-ALLDAYEVENT:TRUE
SUMMARY:HBAGK HOTDOG LUNCH
DESCRIPTION:Home Builders Association of Greater Knoxville   Member Orientation 10:30 am - 11:00 am - just added HOTDOG LUNCH 11:30 am - 1:00 pm *Special Worker's Compensation update following lunch at 1:00 pm* Thursday\, March 24th at the HBAGK Office  We have limited space for parking. If our lot is full please park in front of the UNITED WAY near our office. Thank you.                ~ Sponsored by: William Knight Insurance Agency. Attendees will have a chance to complete a brief survey to win prizes sponsored by: William Knight Insurance Agency!!      The HBA of Greater Knoxville and William Knight Insurance Agency invite you to join us for a free lunch. We will be serving hot dogs with all the fixings. Yes\, tasty hot dogs! Take a break from work and stop by for lunch to network with your fellow HBAGK members. Dress is casual so come as you are straight from the jobsite. ALL company employees are invited to attend.    RSVP BY 3/22/11 TO GUARANTEE YOUR RESERVATION - Phone: 546-4665 or reply to this message via email with your guest list. HBAGK office is located off Western Avenue downtown behind the United Way Building and across I-75 from the old Braden's Furniture Store
X-ALT-DESC;FMTTYPE=text/html:<div><strong><span style=color: #000080><span style=font-size: large><span style=color: #000080><span style=font-size: large> <div style=text-align: center>&nbsp\;Home Builders Association of Greater Knoxville</div> </span></span></span></span></strong></div> <p style=text-align: center><strong><span style=color: #000080><span style=font-size: large /></span></strong></p> <p style=text-align: center><strong><span style=color: #000080><span style=font-size: large>Member Orientation 10:30 am - 11:00 am - </span><em><span style=font-size: large>just added</span></em></span></strong></p> <p style=text-align: center><span style=color: #ff0000><u><strong><span><span style=font-size: large>HOTDOG&nbsp\;LUNCH 11:30 am - 1:00 pm</span></span></strong></u></span></p> <p style=text-align: center><em><strong><span style=color: #000080><span style=font-size: large>*Special Worker&rsquo\;s Compensation update following lunch at 1:00 pm*</span></span></strong></em><strong><span style=color: #000080 /></strong></p> <p style=text-align: center><strong><span style=color: #000080><span style=font-size: large>Thursday\,&nbsp\;March 24th&nbsp\;at the HBAGK Office</span></span></strong><span style=color: #000080 /></p> <div style=text-align: center><span style=font-size: medium><span><span style=color: #ff0000><b><font size=3><span style=language: en-US /></font></b></span></span></span><span style=font-size: larger /></div> <div style=text-align: center><span style=font-size: medium><span style=color: #ff0000><b><font size=3><span style=language: en-US>We have limited space for parking. If our lot is full please park in front of the UNITED WAY&nbsp\;near our&nbsp\;office. Thank you.</span></font></b></span></span><span style=font-size: larger><span style=color: #ff0000 /></span><span style=color: #ff0000 /></div> <div style=text-align: center><span style=font-size: medium><span style=color: #ff0000><b><font size=3><span style=language: en-US /></font></b></span></span></div> <div style=text-align: center><span style=font-size: medium><span style=color: #ff0000><b><font size=3><span style=language: en-US /></font></b></span></span></div> <div style=text-align: center><span style=font-size: medium><span style=color: #ff0000><b><font size=3><span style=language: en-US /></font></b></span></span></div> <div style=text-align: center><span style=font-size: medium><span style=color: #ff0000><b><font size=3><span style=language: en-US /></font></b></span></span></div> <div><b><font size=3><span style=language: en-US /></font></b></div> <div><b><font size=3><span style=language: en-US /></font></b></div> <div><b><font size=3><span style=language: en-US /></font></b></div> <div><b><font size=3><span style=language: en-US /></font></b></div> <div><b><font size=3><span style=language: en-US /></font></b></div> <div><b><font size=3><span style=language: en-US /></font></b></div> <div><b><font size=3><span style=language: en-US /></font></b></div> <div><b><font size=3><span style=language: en-US /></font></b></div> <div><b><font size=3><span style=language: en-US /></font></b></div> <div><b><font size=3><span style=language: en-US /></font></b></div> <div><b><font size=3><span style=language: en-US /></font></b></div> <div style=text-align: center><b><font size=3><span style=language: en-US>~</span></font></b></div> <div><b><font size=3><span style=language: en-US>Sponsored by: William Knight Insurance Agency</span></font></b>. <b><font size=3><span style=language: en-US>Attendees will have a chance to complete a brief survey to win prizes sponsored by: William Knight Insurance Agency!!</span></font></b></div> <div><b><font size=3><span style=language: en-US /></font></b></div> <div><b><font size=3><span style=language: en-US /></font></b></div> <div><b><font size=3><span style=language: en-US /></font></b></div> <div><b><font size=3><span style=language: en-US /></font></b></div> <div><span style=font-size: medium><span style=language: en-US /></span></div> <div><b><font size=3><span style=language: en-US /></font></b><span style=font-size: medium><span style=language: en-US>The HBA of Greater Knoxville&nbsp\;and&nbsp\;<font color=#ff0000>William Knight Insurance Agency</font>&nbsp\;invite you to join us for a </span><span style=text-decoration: underline\; language: en-US\; text-underline: single>free lunch</span><span style=language: en-US>.&nbsp\;We will be serving hot dogs with all the fixings. Yes\, tasty hot dogs! Take a break from work and stop by for lunch to network with your fellow HBAGK members. Dress is casual so come as you are straight from the jobsite. ALL company employees are invited to attend. </span></span></div> <div> <p><span style=font-size: medium /></p> <p><span style=font-size: medium><span style=language: en-US>RSVP BY&nbsp\;3/22/11 TO GUARANTEE YOUR RESERVATION - Phone: 546-4665 or reply to this message via email <u>with your guest list</u>.</span></span></p> <p><span style=font-size: medium><span style=language: en-US>HBAGK office is located off Western Avenue downtown behind the United Way Building and across I-75 from the old Braden&rsquo\;s Furniture Store</span></span></p> </div> <p>&nbsp\;</p>
LOCATION:221 Clark Street\, NW Knoxville\, TN
UID:e.9402.274
SEQUENCE:3
DTSTAMP:20260423T123841Z
URL:http://hbaknoxvilletn.memberzone.com/events/details/hbagk-hotdog-lunch-03-24-2011-274
END:VEVENT

END:VCALENDAR
