BEGIN:VCALENDAR
VERSION:2.0
PRODID:-//ChamberMaster//Event Calendar 2.0//EN
METHOD:PUBLISH
X-PUBLISHED-TTL:P3D
REFRESH-INTERVAL:P3D
CALSCALE:GREGORIAN
BEGIN:VEVENT
DTSTART;VALUE=DATE:20111020
DTEND;VALUE=DATE:20111021
TRANSP:TRANSPARENT
X-MICROSOFT-CDO-ALLDAYEVENT:TRUE
SUMMARY:HBAGK Hotdog Cookout with Mark Padgett
DESCRIPTION:The Home Builders Association of Greater Knoxville and Construction Development Services invite you to a FREE Hotdog Cookout \n \n This membership meeting will be hosted by the Governmental Affairs Committee from 11:30 - 1:00\, Thursday 10/20/11 at the HBAGK office. Our sponsors\, Construction Development Services\, will be on hand with a door prize (2 free rounds of golf and gift cards) and will provide hotdogs for everyone. We will have all the usual fixing's\, side items and soft drinks ready for you and your employees. This is a casual event so just come as you are straight from work or the jobsite.\n \n Special guest: Knoxville Mayoral Candidate Mark Padgett! Mark will address our members and outline his strategy to become Knoxville's next mayor when we vote on Election Day\, November 8\, 2011.\n \n PLEASE RSVP with your guest list so we can plan for the meeting\, telephone 546-4665 x25.\n \n Local Home Builders and Realtors Endorse Mark Padgett\n Highlight Mark's Small Business Experience and Plans to Grow Knoxville's Economy\n \n Knoxville\, TN   The Mark Padgett for Knoxville City Mayor campaign (www.VotePadgett.com) today announced an endorsement from the Home Builders Association of Greater Knoxville (HBAGK) and the Knoxville Area Association of Realtors (KAAR).\n \n "Mark is a fiscal conservative who understands that small business is the backbone of America\," said Doyle Webb\, president of the Home Builders Association of Greater Knoxville and H. Doyle Webb Contractors. "We believe in his ability to support and partner with local companies to help them create jobs and grow Knoxville's economy. We also share his commitment to protecting natural resources while still allowing for smart economic development." \n \n Established in 1951\, HBAGK is a non-profit\, trade association for the homebuilding industry. HBAGK proudly serves 424 companies in the following counties: Anderson\, Campbell\, Claiborne\, Fentress\, Grainger\, Hamblen\, Jefferson\, Knox\, Monroe\, Morgan\, Roane\, Scott\, and Union Counties. The majority are small businesses and located in Knoxville/Knox County.\n \n "As a small business owner\, Mark knows how to support and partner with local companies to help them grow and thrive\," said John Blair\, president of the Knoxville Area of Association of Realtors and West Knox Realty. "Knoxville has hundreds of abandoned and blighted properties and thousands of vacant parcels\, which hurts the surrounding area's property values and crime rates. We support Mark's plan to improve codes enforcement throughout the city. Re-establishing these properties as homes or businesses will go a long way in strengthening our neighborhoods and local economy."\n \n Chartered in 1921\, KAAR is one of the largest Realtor associations in the state of Tennessee.  KAAR serves over 3\,300 individuals engaged in the various facets of the real estate industry.  The Association's purpose is to unite and serve its members and to enhance the ability and opportunity of its members to conduct their business ethically\, professionally\, and successfully and to promote the preservation of the right to own\, transfer and use real property.\n \n "I'm humbled by their endorsement and look forward to working together to move Knoxville forward\," said Mark Padgett. "I believe our next mayor should be pro-neighborhood and pro-business because Knoxville's economy starts at the neighborhood level. When a company is looking to launch or relocate\, they have to examine not only the business environment\, but also the neighborhoods and quality of life for their employees. For our economy to thrive and for our people to prosper and find purpose\, we must have strong\, successful neighborhoods."\n \n Padgett also reiterated key parts of the "Padgett Plan" including \n     Keep city taxes low\; keep regulations reasonable and easy to understand\; reform and streamline building codes\; and eliminate tedious\, redundant and\, in many cases\, unnecessary permits and back-end paperwork.    Maintain "open-door policy" and regular communication with neighborhood associations\, community organizations\, the business community\, and concerned citizens.    Improve codes enforcement.                 Restructure the organizational chart to make the position directly responsible for decreasing the number of vacant\, abandoned and blighted properties a senior advisory position.          Utilize technology to help Knoxville's dedicated city staff resolve codes complaints faster and more efficiently.          Explore local and state-level regulation changes that impose tougher penalties for code violations.          Pursue a Knoxville Land Bank program.          Empower neighborhoods and communities to reinvest rather than allow absentee landlords to encroach.               Support smart infrastructure investment.   \n The "Padgett Plan" can be found online at http://www.votepadgett.com/the-issues. \n \n The campaign has also posted more than 50 videos on YouTube (www.YouTube.com/PadgettForMayor) to share Mark's position on everything from codes enforcement and homelessness to red light cameras and parks/greenways.
X-ALT-DESC;FMTTYPE=text/html:<span style=font-size: 11pt><span style=color: #222222><span style=font-family: calibri\, sans-serif>The Home Builders Association of Greater Knoxville and&nbsp\;</span></span></span><strong><span style=font-size: 11pt><span style=color: firebrick><span style=font-family: calibri\, sans-serif>Construction Development Services</span></span></span></strong><span style=font-size: 11pt><span style=color: #222222><span style=font-family: calibri\, sans-serif>&nbsp\;invite you to a FREE Hotdog Cookout </span></span></span><br> <br> <span style=font-size: 11pt><span style=color: #222222><span style=font-family: calibri\, sans-serif>This membership meeting will be hosted by the Governmental Affairs Committee from 11:30 - 1:00\, Thursday 10/20/11 at the HBAGK office. Our sponsors\, </span></span></span><strong><span style=font-size: 11pt><span style=color: firebrick><span style=font-family: calibri\, sans-serif>Construction Development Services\, </span></span></span></strong><span style=font-size: 11pt><span style=color: #222222><span style=font-family: calibri\, sans-serif>will be on hand with a door prize (2 free rounds of golf and gift cards) and will&nbsp\;provide hotdogs for everyone. We will have all the usual fixing&#39\;s\, side items and soft drinks ready for you and your employees. This is a casual event so just come as you are straight from work or the jobsite.<br> <br> <strong><span style=font-family: calibri\, sans-serif>Special guest</span></strong></span>: Knoxville Mayoral Candidate <a href=http://votepadgett.com onclick=window.open(this.href\, ''\, 'resizable=no\,status=no\,location=no\,toolbar=no\,menubar=no\,fullscreen=no\,scrollbars=no\,dependent=no')\; return false\;><strong><span style=color: blue><span style=font-family: calibri\, sans-serif>Mark Padgett</span></span></strong></a></span>! Mark will address our members and outline his strategy to become Knoxville&#39\;s next mayor when we vote on Election Day\, November 8\, 2011.<br> <br> <strong><u><span style=font-family: calibri\, sans-serif>PLEASE RSVP with your guest list so we can plan for the meeting\, telephone 546-4665 x25.</span></u></strong></span><br> <br> <strong><span style=font-size: 18pt>Local Home Builders and Realtors Endorse Mark Padgett</span></strong><br> <em><span style=font-size: medium>Highlight Mark&rsquo\;s Small Business Experience and Plans to Grow Knoxville&rsquo\;s Economy</span></em><br> <br> <span style=font-size: medium><strong>Knoxville\, TN</strong></span> &ndash\; The Mark Padgett for Knoxville City Mayor campaign (www.VotePadgett.com) today announced an endorsement from the Home Builders Association of Greater Knoxville (HBAGK) and the Knoxville Area Association of Realtors (KAAR).<br> <br> <span style=font-size: medium>&ldquo\;Mark is a fiscal conservative who understands that small business is the backbone of America\,&rdquo\; said Doyle Webb\, president of the Home Builders Association of Greater Knoxville and H. Doyle Webb Contractors. &ldquo\;We believe in his ability to support and partner with local companies to help them create jobs and grow Knoxville&rsquo\;s economy. We also share his commitment to protecting natural resources while still allowing for smart economic development.&rdquo\; </span><br> <br> <span style=font-size: medium>Established in 1951\, HBAGK is a non-profit\, trade association for the homebuilding industry. HBAGK proudly serves 424 companies in the following counties: Anderson\, Campbell\, Claiborne\, Fentress\, Grainger\, Hamblen\, Jefferson\, Knox\, Monroe\, Morgan\, Roane\, Scott\, and Union Counties. The majority are small businesses and located in Knoxville/Knox County.</span><br> <br> <span style=font-size: medium>&ldquo\;As a small business owner\, Mark knows how to support and partner with local companies to help them grow and thrive\,&rdquo\; said John Blair\, president of the Knoxville Area of Association of Realtors and West Knox Realty. &ldquo\;Knoxville has hundreds of abandoned and blighted properties and thousands of vacant parcels\, which hurts the surrounding area&rsquo\;s property values and crime rates. We support Mark&rsquo\;s plan to improve codes enforcement throughout the city. Re-establishing these properties as homes or businesses will go a long way in strengthening our neighborhoods and local economy.&rdquo\;</span><br> <br> <span style=font-size: medium>Chartered in 1921\, KAAR is one of the largest Realtor associations in the state of Tennessee.&nbsp\; KAAR serves over 3\,300 individuals engaged in the various facets of the real estate industry.&nbsp\; The Association&#39\;s purpose is to unite and serve its members and to enhance the ability and opportunity of its members to conduct their business ethically\, professionally\, and successfully and to promote the preservation of the right to own\, transfer and use real property.</span><br> <br> <span style=font-size: medium>&ldquo\;I&rsquo\;m humbled by their endorsement and look forward to working together to move Knoxville forward\,&rdquo\; said Mark Padgett. &ldquo\;I believe our next mayor should be pro-neighborhood and pro-business because Knoxville&rsquo\;s economy starts at the neighborhood level. When a company is looking to launch or relocate\, they have to examine not only the business environment\, but also the neighborhoods and quality of life for their employees. For our economy to thrive and for our people to prosper and find purpose\, we must have strong\, successful neighborhoods.&rdquo\;</span><br> <br> <span style=font-size: medium>Padgett also reiterated key parts of the &ldquo\;Padgett Plan&rdquo\; including </span><br> <ul>    <li><span style=font-size: medium>Keep city taxes low\; keep regulations reasonable and easy to understand\; reform and streamline building codes\; and eliminate tedious\, redundant and\, in many cases\, unnecessary permits and back-end paperwork.</span></li>    <li><span style=font-size: medium>Maintain &ldquo\;open-door policy&rdquo\; and regular communication with neighborhood associations\, community organizations\, the business community\, and concerned citizens.</span></li>    <li><span style=font-size: medium>Improve codes enforcement.</span>       <ul>          <li><span style=font-size: medium>Restructure the organizational chart to make the position directly responsible for decreasing the number of vacant\, abandoned and blighted properties a senior advisory position.</span></li>          <li><span style=font-size: medium>Utilize technology to help Knoxville&rsquo\;s dedicated city staff resolve codes complaints faster and more efficiently.</span></li>          <li><span style=font-size: medium>Explore local and state-level regulation changes that impose tougher penalties for code violations.</span></li>          <li><span style=font-size: medium>Pursue a Knoxville Land Bank program.</span></li>          <li><span style=font-size: medium>Empower neighborhoods and communities to reinvest rather than allow absentee landlords to encroach.</span></li>       </ul>    </li>    <li><span style=font-size: medium>Support smart infrastructure investment.</span></li> </ul> &nbsp\;<br> <span style=font-size: medium>The &ldquo\;Padgett Plan&rdquo\; can be found online at http://www.votepadgett.com/the-issues. </span><br> <br> <span style=font-size: medium>The campaign has also posted more than 50 videos on YouTube (www.YouTube.com/PadgettForMayor) to share Mark&rsquo\;s position on everything from codes enforcement and homelessness to red light cameras and parks/greenways.</span><br>
LOCATION:221 Clark Street\, NW Knoxville\, TN
UID:e.9402.345
SEQUENCE:3
DTSTAMP:20260422T210829Z
URL:http://hbaknoxvilletn.memberzone.com/events/details/hbagk-hotdog-cookout-with-mark-padgett-10-20-2011-345
END:VEVENT

END:VCALENDAR
