BEGIN:VCALENDAR
VERSION:2.0
PRODID:-//ChamberMaster//Event Calendar 2.0//EN
METHOD:PUBLISH
X-PUBLISHED-TTL:P3D
REFRESH-INTERVAL:P3D
CALSCALE:GREGORIAN
BEGIN:VEVENT
DTSTART;VALUE=DATE:20110831
DTEND;VALUE=DATE:20110901
TRANSP:TRANSPARENT
X-MICROSOFT-CDO-ALLDAYEVENT:TRUE
SUMMARY:HBAGK Hispanic Committee
DESCRIPTION:The newly formed Hispanic Committee will meet at lunch to discuss goals and ideas for the Home Builders Association.
X-ALT-DESC;FMTTYPE=text/html:<p>The newly formed Hispanic Committee will meet at lunch to discuss goals and ideas for the Home Builders Association.</p>
LOCATION:221 Clark Street\, NW Knoxville\, TN
UID:e.9402.331
SEQUENCE:3
DTSTAMP:20260422T223759Z
URL:http://hbaknoxvilletn.memberzone.com/events/details/hbagk-hispanic-committee-08-31-2011-331
END:VEVENT

END:VCALENDAR
