BEGIN:VCALENDAR
VERSION:2.0
PRODID:-//ChamberMaster//Event Calendar 2.0//EN
METHOD:PUBLISH
X-PUBLISHED-TTL:P3D
REFRESH-INTERVAL:P3D
CALSCALE:GREGORIAN
BEGIN:VEVENT
DTSTART;VALUE=DATE:20130613
DTEND;VALUE=DATE:20130614
TRANSP:TRANSPARENT
X-MICROSOFT-CDO-ALLDAYEVENT:TRUE
SUMMARY:HBAGK Annual Golf Tournament
DESCRIPTION:Don't miss the Annual HBAGK Golf Event on June 13th at Egwani Farms Golf Course - 1:00 pm shotgun start. SOLD OUT\, Sponsorships still available!!\n    Corporate Sponsors: ORNL Federal Credit Union\n      Lunch starts at 11:30\, sponsored by William Knight Insurance Agency\n    The event will include range balls\, special event holes\, hole sponsors with plenty of giveaways\, networking\, lunch\, beverages\, snacks\, and most importantly\, a great day of golf.    Costs:       Individuals: $125           Foursome: $500      Pro-Packs: $20 per player   Schedule of Events: 11:30 a.m.  Registration\, Range Balls and Lunch 1:00 p.m.    Shotgun Start Wrap up     Award prizes\, raffle drawings   Pro Packages Available Includes: Ball Throw\, Ladies Tee\, Mulligan\, and Raffle Ticket.  Limit one per golfer. Cost is $20.00 per package for each player. We accept CASH on day of event.     Sponsorships Available - A FUN Way to Promote Your Business!! Hole Sponsors\, Beverage Carts (SOLD OUT)\, Shirts\, Snacks (SOLD OUT)\, Goody Bag Items\, Raffle Prizes   Questions? Call 546-4665 or email us at staff@hbaknoxville.com
X-ALT-DESC;FMTTYPE=text/html:<p style=text-align: center><span><span><b><span style=line-height: 150%\; font-size: 14pt>Don&rsquo\;t miss the Annual HBAGK Golf Event on&nbsp\;June&nbsp\;13th&nbsp\;at Egwani Farms Golf Course&nbsp\;- 1:00 pm shotgun start. </span></b></span></span><span style=color:#ff0000\;><b><span style=line-height: 150%\; font-size: 14pt>SOLD OUT\, Sponsorships still available!!</span></b></span><br>    <span style=color: #0099ff><span><b><span style=line-height: 150%\; font-size: 14pt>Corporate Sponsors: ORNL Federal Credit Union</span></b></span></span><br>    &nbsp\;</p> <p style=text-align: center><span style=color: #339966><span style=color: #003300><span style=color: #003300><em><b><span style=line-height: 150%\; font-size: 14pt>Lunch starts at 11:30\, sponsored by William Knight Insurance Agency</span></b></em></span></span></span><br>    <span style=color: #339966><span style=color: #003300><span style=line-height: 150%\; font-size: 14pt>The event will include range balls\, special event holes\, hole sponsors with plenty of giveaways\, networking\, lunch\, beverages\, snacks\, and most importantly\, a great day of golf.&nbsp\;</span></span></span></p> <div style=margin: 0in 0in 0pt>&nbsp\;</div> <div style=margin: 0in 0in 0pt><span style=color: #339966><span style=color: #003300><span style=line-height: 150%\; font-size: 14pt><span style=line-height: 150%\; font-size: 14pt><span style=line-height: 150%\; font-size: 14pt><span style=line-height: 150%\; font-size: 14pt><b><span style=line-height: 150%\; font-size: 14pt>Costs:&nbsp\;&nbsp\;&nbsp\;&nbsp\;&nbsp\;&nbsp\; </span></b><span style=line-height: 150%\; font-size: 14pt>Individuals: $125 &nbsp\;&nbsp\;&nbsp\;&nbsp\;&nbsp\;&nbsp\;&nbsp\;&nbsp\;&nbsp\; Foursome: $500&nbsp\;&nbsp\;&nbsp\;&nbsp\;&nbsp\; Pro-Packs: $20 per player</span></span></span></span></span></span></span></div> <div style=margin: 0in 0in 0pt>&nbsp\;</div> <div style=margin: 0in 0in 0pt><span style=color: #339966><span style=color: #003300><span style=line-height: 150%\; font-size: 14pt><span style=line-height: 150%\; font-size: 14pt><span style=line-height: 150%\; font-size: 14pt><span style=line-height: 150%\; font-size: 14pt><span style=font-size: 16pt><b><span style=font-size: 14pt>Schedule of Events:</span></b></span></span></span></span></span></span></span></div> <div style=text-indent: -1in\; margin: 0in 0in 0pt 1in><span style=color: #339966><span style=color: #003300><span style=line-height: 150%\; font-size: 14pt><span style=line-height: 150%\; font-size: 14pt><span style=line-height: 150%\; font-size: 14pt><span style=line-height: 150%\; font-size: 14pt><span style=font-size: 16pt><span style=font-size: 14pt>11:30 a.m.&nbsp\;&nbsp\;Registration\, Range Balls and Lunch</span></span></span></span></span></span></span></span></div> <div style=margin: 0in 0in 0pt><span style=color: #339966><span style=color: #003300><span style=line-height: 150%\; font-size: 14pt><span style=line-height: 150%\; font-size: 14pt><span style=line-height: 150%\; font-size: 14pt><span style=line-height: 150%\; font-size: 14pt><span style=font-size: 16pt><span style=font-size: 14pt>1:00 p.m.&nbsp\;&nbsp\;&nbsp\; Shotgun Start</span></span></span></span></span></span></span></span></div> <div style=margin: 0in 0in 0pt><span style=color: #339966><span style=color: #003300><span style=line-height: 150%\; font-size: 14pt><span style=line-height: 150%\; font-size: 14pt><span style=line-height: 150%\; font-size: 14pt><span style=line-height: 150%\; font-size: 14pt><span style=font-size: 16pt><span style=font-size: 14pt>Wrap up&nbsp\;&nbsp\;&nbsp\;&nbsp\; Award prizes\, raffle drawings</span></span></span></span></span></span></span></span></div> <div style=margin: 0in 0in 0pt><span style=color: #339966><span style=color: #003300><span style=line-height: 150%\; font-size: 14pt><span style=line-height: 150%\; font-size: 14pt><span style=line-height: 150%\; font-size: 14pt><span style=line-height: 150%\; font-size: 14pt><span style=font-size: 16pt>&nbsp\;</span></span></span></span></span></span></span></div> <div style=line-height: 150%\; margin: 0in 0in 0pt><span style=line-height: 150%\; font-size: 14pt><span style=line-height: 150%\; font-size: 14pt><span style=line-height: 150%\; font-size: 14pt><span style=line-height: 150%\; font-size: 14pt><span style=font-size: 16pt><b><span style=line-height: 150%\; font-size: 14pt>Pro Packages Available</span></b></span></span></span></span></span></div> <div style=line-height: 150%\; margin: 0in 0in 0pt><span style=line-height: 150%\; font-size: 14pt><span style=line-height: 150%\; font-size: 14pt><span style=line-height: 150%\; font-size: 14pt><span style=line-height: 150%\; font-size: 14pt><span style=font-size: 16pt><span style=line-height: 150%\; font-size: 14pt>Includes: Ball Throw\, Ladies Tee\, Mulligan\, and Raffle Ticket. </span></span></span></span></span></span></div> <div style=line-height: 150%\; margin: 0in 0in 0pt><span style=line-height: 150%\; font-size: 14pt><span style=line-height: 150%\; font-size: 14pt><span style=line-height: 150%\; font-size: 14pt><span style=line-height: 150%\; font-size: 14pt><span style=font-size: 16pt><span style=line-height: 150%\; font-size: 14pt>Limit one per golfer.&nbsp\;Cost is $20.00 per package for each player. We accept CASH on day of event.</span></span></span></span></span></span></div> <div style=line-height: 150%\; margin: 0in 0in 0pt>&nbsp\;</div> <div style=margin: 0in 0in 0pt>&nbsp\;</div> <div style=margin: 0in 0in 0pt><span style=color: #339966><span style=color: #003300><span style=line-height: 150%\; font-size: 14pt><span style=line-height: 150%\; font-size: 14pt><span style=line-height: 150%\; font-size: 14pt><span style=line-height: 150%\; font-size: 14pt><span style=font-size: 16pt><span style=line-height: 150%\; font-size: 14pt><span style=font-size: 14pt><b><span style=font-size: 14pt>Sponsorships Available - A FUN Way to Promote Your Business!!</span></b></span></span></span></span></span></span></span></span></span></div> <div style=margin: 0in 0in 0pt><span style=color: #339966><span style=color: #003300><span style=line-height: 150%\; font-size: 14pt><span style=line-height: 150%\; font-size: 14pt><span style=line-height: 150%\; font-size: 14pt><span style=line-height: 150%\; font-size: 14pt><span style=font-size: 16pt><span style=line-height: 150%\; font-size: 14pt><span style=font-size: 14pt><span style=font-size: 14pt>Hole Sponsors\, Beverage Carts (SOLD OUT)\, Shirts\, Snacks (SOLD OUT)\, Goody Bag Items\, Raffle Prizes</span></span></span></span></span></span></span></span></span></span></div> <div style=margin: 0in 0in 0pt><span style=color: #339966><span style=color: #003300><span style=line-height: 150%\; font-size: 14pt><span style=line-height: 150%\; font-size: 14pt><span style=line-height: 150%\; font-size: 14pt><span style=line-height: 150%\; font-size: 14pt><span style=font-size: 16pt><span style=line-height: 150%\; font-size: 14pt><span style=font-size: 14pt>&nbsp\;</span></span></span></span></span></span></span></span></span></div> <div style=margin: 0in 0in 0pt><span style=color: #339966><span style=color: #003300><span style=line-height: 150%\; font-size: 14pt><span style=line-height: 150%\; font-size: 14pt><span style=line-height: 150%\; font-size: 14pt><span style=line-height: 150%\; font-size: 14pt><span style=font-size: 16pt><span style=line-height: 150%\; font-size: 14pt><span style=font-size: 14pt><b><span style=font-size: 14pt>Questions?</span></b></span></span></span></span></span></span></span></span></span></div> <div style=margin: 0in 0in 0pt><span style=color: #339966><span style=color: #003300><span style=line-height: 150%\; font-size: 14pt><span style=line-height: 150%\; font-size: 14pt><span style=line-height: 150%\; font-size: 14pt><span style=line-height: 150%\; font-size: 14pt><span style=font-size: 16pt><span style=line-height: 150%\; font-size: 14pt><span style=font-size: 14pt><span style=font-size: 14pt>Call 546-4665 or email us at <a href=mailto:staff@hbaknoxville.com>staff@hbaknoxville.com</a></span></span></span></span></span></span></span></span></span></span><br>    &nbsp\;</div>
LOCATION:3920 S. Singleton Station Road Rockford\, TN
UID:e.9402.524
SEQUENCE:3
DTSTAMP:20260420T210816Z
URL:http://hbaknoxvilletn.memberzone.com/events/details/hbagk-annual-golf-tournament-06-13-2013-524
END:VEVENT

END:VCALENDAR
