BEGIN:VCALENDAR
VERSION:2.0
PRODID:-//ChamberMaster//Event Calendar 2.0//EN
METHOD:PUBLISH
X-PUBLISHED-TTL:P3D
REFRESH-INTERVAL:P3D
CALSCALE:GREGORIAN
BEGIN:VEVENT
DTSTART;VALUE=DATE:20140612
DTEND;VALUE=DATE:20140613
TRANSP:TRANSPARENT
X-MICROSOFT-CDO-ALLDAYEVENT:TRUE
SUMMARY:HBAGK Annual Golf Tournament
DESCRIPTION:Don't miss the Annual HBAGK Golf Event on June 12th at Egwani Farms Golf Course - 1:00 pm shotgun start\n Corporate Sponsors: ORNL Federal Credit Union\n  Sponsorship still available - Hole Sponsors\, Gift Certificates\, Door Prizes & Goody Bags welcome!Sold Out!!  Lunch starts at 11:30\, sponsored by William Knight Insurance Agency\n The event will include range balls\, special event holes\, hole sponsors with plenty of giveaways\, networking\, lunch\, beverages\, snacks\, and most importantly\, a great day of golf.      Costs:       Individuals: $125           Foursome: $500      Pro-Packs: $20 per player     Schedule of Events:  11:30 a.m.  Registration\, Range Balls\, and Lunch  1:00 p.m.    Shotgun Start  Wrap up     Award prizes\, raffle drawings     Pro Packages Available  Includes: Ball Throw\, Ladies Tee\, Mulligan\, and Raffle Ticket.  Limit one per golfer. Cost is $20.00 per package for each player. We accept CASH on day of event.        Sponsorships Available - A FUN Way to Promote Your Business!!  Hole Sponsors\, Beverage Carts\, Shirts\, Snacks\, Goody Bag Items\, Raffle Prizes     Questions?  Call 546-4665 or email us at staff@hbaknoxville.com
X-ALT-DESC;FMTTYPE=text/html:<p class=MsoNormal align=center style=margin-bottom:7.5pt\;text-align:center\; line-height:15.0pt><b><span style=font-size: 14pt\; font-family: Arial\, sans-serif\;>Don't miss the Annual HBAGK Golf Event on&nbsp\;June&nbsp\;12th&nbsp\;at Egwani Farms Golf Course&nbsp\;- 1:00 pm shotgun start</span></b><span style=font-size: 10.5pt\; font-family: Arial\, sans-serif\;><br> </span><b><span style=font-size:14.0pt\;font-family:&quot\;Arial&quot\;\,&quot\;sans-serif&quot\;\; mso-fareast-font-family:&quot\;Times New Roman&quot\;\;color:#0099FF>Corporate Sponsors: ORNL Federal Credit Union</span></b><span style=font-size: 10.5pt\; font-family: Arial\, sans-serif\;><br>&nbsp\;&nbsp\;<o:p></o:p></span><b style=line-height: 1.428571429\;><span style=font-size: 14pt\; font-family: Arial\, sans-serif\; color: red\;>Sponsorship still available - Hole Sponsors\, Gift Certificates\, <span style=text-decoration: underline\;>Door Prizes</span> &amp\; Goody Bags welcome!</span></b></p><p class=MsoNormal align=center style=margin-bottom: 7.5pt\; text-align: center\;><span style=color: rgb(255\, 0\, 0)\; font-weight: bold\; font-size: 18px\; font-style: italic\; text-decoration: underline\;>Sold Out!!</span></p>  <p class=MsoNormal align=center style=margin-bottom:7.5pt\;text-align:center\; line-height:15.0pt><b><i><span style=font-size:14.0pt\;font-family:&quot\;Arial&quot\;\,&quot\;sans-serif&quot\;\; mso-fareast-font-family:&quot\;Times New Roman&quot\;\;color:#003300>Lunch starts at 11:30\, sponsored by William Knight Insurance Agency</span></i></b><span style=font-size: 10.5pt\; font-family: Arial\, sans-serif\;><br> </span><span style=font-size:14.0pt\;font-family:&quot\;Arial&quot\;\,&quot\;sans-serif&quot\;\; mso-fareast-font-family:&quot\;Times New Roman&quot\;\;color:#003300>The event will include range balls\, special event holes\, hole sponsors with plenty of giveaways\, networking\, lunch\, beverages\, snacks\, and most importantly\, a great day of golf.&nbsp\;</span><span style=font-size: 10.5pt\; font-family: Arial\, sans-serif\;><o:p></o:p></span></p>  <p class=MsoNormal style=margin-bottom:0in\;margin-bottom:.0001pt\;line-height: 15.0pt><span style=font-size: 10.5pt\; font-family: Arial\, sans-serif\;>&nbsp\;<o:p></o:p></span></p>  <p class=MsoNormal style=margin-bottom:0in\;margin-bottom:.0001pt\;line-height: 15.0pt><b><span style=font-size:14.0pt\;font-family:&quot\;Arial&quot\;\,&quot\;sans-serif&quot\;\; mso-fareast-font-family:&quot\;Times New Roman&quot\;\;color:#003300>Costs:&nbsp\;&nbsp\;&nbsp\;&nbsp\;&nbsp\;&nbsp\;&nbsp\;</span></b><span style=font-size:14.0pt\;font-family:&quot\;Arial&quot\;\,&quot\;sans-serif&quot\;\;mso-fareast-font-family: &quot\;Times New Roman&quot\;\;color:#003300>Individuals: $125 &nbsp\;&nbsp\;&nbsp\;&nbsp\;&nbsp\;&nbsp\;&nbsp\;&nbsp\;&nbsp\; Foursome: $500&nbsp\;&nbsp\;&nbsp\;&nbsp\;&nbsp\; Pro-Packs: $20 per player</span><span style=font-size: 10.5pt\; font-family: Arial\, sans-serif\;><o:p></o:p></span></p>  <p class=MsoNormal style=margin-bottom:0in\;margin-bottom:.0001pt\;line-height: 15.0pt><span style=font-size: 10.5pt\; font-family: Arial\, sans-serif\;>&nbsp\;<o:p></o:p></span></p>  <p class=MsoNormal style=margin-bottom:0in\;margin-bottom:.0001pt\;line-height: 15.0pt><b><span style=font-size:14.0pt\;font-family:&quot\;Arial&quot\;\,&quot\;sans-serif&quot\;\; mso-fareast-font-family:&quot\;Times New Roman&quot\;\;color:#003300>Schedule of Events:</span></b><span style=font-size: 10.5pt\; font-family: Arial\, sans-serif\;><o:p></o:p></span></p>  <p class=MsoNormal style=margin-bottom:0in\;margin-bottom:.0001pt\;line-height: 15.0pt><span style=font-size:14.0pt\;font-family:&quot\;Arial&quot\;\,&quot\;sans-serif&quot\;\; mso-fareast-font-family:&quot\;Times New Roman&quot\;\;color:#003300>11:30 a.m.&nbsp\;&nbsp\;Registration\, Range Balls\, and Lunch</span><span style=font-size: 10.5pt\; font-family: Arial\, sans-serif\;><o:p></o:p></span></p>  <p class=MsoNormal style=margin-bottom:0in\;margin-bottom:.0001pt\;line-height: 15.0pt><span style=font-size:14.0pt\;font-family:&quot\;Arial&quot\;\,&quot\;sans-serif&quot\;\; mso-fareast-font-family:&quot\;Times New Roman&quot\;\;color:#003300>1:00 p.m.&nbsp\;&nbsp\;&nbsp\; Shotgun Start</span><span style=font-size: 10.5pt\; font-family: Arial\, sans-serif\;><o:p></o:p></span></p>  <p class=MsoNormal style=margin-bottom:0in\;margin-bottom:.0001pt\;line-height: 15.0pt><span style=font-size:14.0pt\;font-family:&quot\;Arial&quot\;\,&quot\;sans-serif&quot\;\; mso-fareast-font-family:&quot\;Times New Roman&quot\;\;color:#003300>Wrap up&nbsp\;&nbsp\;&nbsp\;&nbsp\; Award prizes\, raffle drawings</span><span style=font-size: 10.5pt\; font-family: Arial\, sans-serif\;><o:p></o:p></span></p>  <p class=MsoNormal style=margin-bottom:0in\;margin-bottom:.0001pt\;mso-line-height-alt: 15.0pt><span style=font-size:16.0pt\;font-family:&quot\;Arial&quot\;\,&quot\;sans-serif&quot\;\; mso-fareast-font-family:&quot\;Times New Roman&quot\;\;color:#003300>&nbsp\;</span><span style=font-size: 10.5pt\; font-family: Arial\, sans-serif\;><o:p></o:p></span></p>  <p class=MsoNormal style=margin-bottom:0in\;margin-bottom:.0001pt\;line-height: 15.75pt><b><span style=font-size: 14pt\; font-family: Arial\, sans-serif\;>Pro Packages Available</span></b><span style=font-size: 10.5pt\; font-family: Arial\, sans-serif\;><o:p></o:p></span></p>  <p class=MsoNormal style=margin-bottom:0in\;margin-bottom:.0001pt\;line-height: 15.75pt><span style=font-size: 14pt\; font-family: Arial\, sans-serif\;>Includes: Ball Throw\, Ladies Tee\, Mulligan\, and Raffle Ticket.</span><span style=font-size: 10.5pt\; font-family: Arial\, sans-serif\;><o:p></o:p></span></p>  <p class=MsoNormal style=margin-bottom:0in\;margin-bottom:.0001pt\;line-height: 15.75pt><span style=font-size: 14pt\; font-family: Arial\, sans-serif\;>Limit one per golfer.&nbsp\;Cost is $20.00 per package for each player. We accept CASH on day of event.</span><span style=font-size: 10.5pt\; font-family: Arial\, sans-serif\;><o:p></o:p></span></p>  <p class=MsoNormal style=margin-bottom:0in\;margin-bottom:.0001pt\;line-height: 15.75pt><span style=font-size: 10.5pt\; font-family: Arial\, sans-serif\;>&nbsp\;<o:p></o:p></span></p>  <p class=MsoNormal style=margin-bottom:0in\;margin-bottom:.0001pt\;line-height: 15.0pt><span style=font-size: 10.5pt\; font-family: Arial\, sans-serif\;>&nbsp\;<o:p></o:p></span></p>  <p class=MsoNormal style=margin-bottom:0in\;margin-bottom:.0001pt\;line-height: 15.0pt><b><span style=font-size:14.0pt\;font-family:&quot\;Arial&quot\;\,&quot\;sans-serif&quot\;\; mso-fareast-font-family:&quot\;Times New Roman&quot\;\;color:#003300>Sponsorships Available - A FUN Way to Promote Your Business!!</span></b><span style=font-size: 10.5pt\; font-family: Arial\, sans-serif\;><o:p></o:p></span></p>  <p class=MsoNormal style=margin-bottom:0in\;margin-bottom:.0001pt\;line-height: 15.0pt><span style=font-size:14.0pt\;font-family:&quot\;Arial&quot\;\,&quot\;sans-serif&quot\;\; mso-fareast-font-family:&quot\;Times New Roman&quot\;\;color:#003300>Hole Sponsors\, Beverage Carts\, Shirts\, Snacks\, Goody Bag Items\, Raffle Prizes</span><span style=font-size: 10.5pt\; font-family: Arial\, sans-serif\;><o:p></o:p></span></p>  <p class=MsoNormal style=margin-bottom:0in\;margin-bottom:.0001pt\;line-height: 15.0pt><span style=font-size:14.0pt\;font-family:&quot\;Arial&quot\;\,&quot\;sans-serif&quot\;\; mso-fareast-font-family:&quot\;Times New Roman&quot\;\;color:#003300>&nbsp\;</span><span style=font-size: 10.5pt\; font-family: Arial\, sans-serif\;><o:p></o:p></span></p>  <p class=MsoNormal style=margin-bottom:0in\;margin-bottom:.0001pt\;line-height: 15.0pt><b><span style=font-size:14.0pt\;font-family:&quot\;Arial&quot\;\,&quot\;sans-serif&quot\;\; mso-fareast-font-family:&quot\;Times New Roman&quot\;\;color:#003300>Questions?</span></b><span style=font-size: 10.5pt\; font-family: Arial\, sans-serif\;><o:p></o:p></span></p>  <p class=MsoNormal style=margin-bottom:0in\;margin-bottom:.0001pt\;line-height: 15.0pt><span style=font-size:14.0pt\;font-family:&quot\;Arial&quot\;\,&quot\;sans-serif&quot\;\; mso-fareast-font-family:&quot\;Times New Roman&quot\;\;color:#003300>Call 546-4665 or email us at&nbsp\;</span><span style=font-size:14.0pt\;font-family:&quot\;Arial&quot\;\,&quot\;sans-serif&quot\;\; mso-fareast-font-family:&quot\;Times New Roman&quot\;\;color:#428BCA>staff@hbaknoxville.com</span><span style=font-size: 10.5pt\; font-family: Arial\, sans-serif\;><o:p></o:p></span></p>
LOCATION:3920 S. Singleton Station Road Rockford\, TN
UID:e.9402.609
SEQUENCE:3
DTSTAMP:20260419T194834Z
URL:http://hbaknoxvilletn.memberzone.com/events/details/hbagk-annual-golf-tournament-06-12-2014-609
END:VEVENT

END:VCALENDAR
