BEGIN:VCALENDAR
VERSION:2.0
PRODID:-//ChamberMaster//Event Calendar 2.0//EN
METHOD:PUBLISH
X-PUBLISHED-TTL:P3D
REFRESH-INTERVAL:P3D
CALSCALE:GREGORIAN
BEGIN:VEVENT
DTSTART;VALUE=DATE:20140717
DTEND;VALUE=DATE:20140718
TRANSP:TRANSPARENT
X-MICROSOFT-CDO-ALLDAYEVENT:TRUE
SUMMARY:Grand Opening Ferguson Sevierville
DESCRIPTION:You are invited to our Sevierville grand opening on Thursday July 17th. Hall of Fame Nascar driver Bobby Allison\, his grandson Robbie\, and Liz Allison will be there along with Davy Allison's 1988 Vintage Winston Cup car. The event will be from 11:00 to 1:00 and lunch will be served. Come and see our newest counter and sign up for a chance to win a new 45 qt. Yeti Tundra Cooler.  Help us celebrate our newest counter service in Sevierville. Stop by\, check out the wide range of products available and meet the reps from top vendors Victaulic\, Oatey\, SharkBite\, Milwaukee\, American Standard\, Elkay\, Lenox\, Irwin\, Delta\, and State who will be on site showing product. Enjoy Lunch on us!
X-ALT-DESC;FMTTYPE=text/html:<p class=MsoNormal>You are invited to our Sevierville grand opening on Thursday July 17<sup>th</sup>. Hall of Fame Nascar driver Bobby Allison\, his grandson Robbie\, and Liz Allison will be there along with Davy Allison's 1988 Vintage Winston Cup car. The event will be from 11:00 to 1:00 and lunch will be served. Come and see our newest counter and sign up for a chance to win a new 45 qt. Yeti Tundra Cooler.<o:p></o:p></p>  <p class=MsoNoSpacing>Help us celebrate our newest counter service in Sevierville. Stop by\, check out the wide range of products available and meet the reps from top vendors Victaulic\, Oatey\, SharkBite\, Milwaukee\, American Standard\, Elkay\, Lenox\, Irwin\, Delta\, and State who will be on site showing product. Enjoy Lunch on us!</p>
LOCATION:142 Industry Drive Sevierville\, TN
UID:e.9402.617
SEQUENCE:3
DTSTAMP:20260419T160208Z
URL:http://hbaknoxvilletn.memberzone.com/events/details/grand-opening-ferguson-sevierville-07-17-2014-617
END:VEVENT

END:VCALENDAR
