BEGIN:VCALENDAR
VERSION:2.0
PRODID:-//ChamberMaster//Event Calendar 2.0//EN
METHOD:PUBLISH
X-PUBLISHED-TTL:P3D
REFRESH-INTERVAL:P3D
CALSCALE:GREGORIAN
BEGIN:VEVENT
DTSTART;VALUE=DATE:20111005
DTEND;VALUE=DATE:20111006
TRANSP:TRANSPARENT
X-MICROSOFT-CDO-ALLDAYEVENT:TRUE
SUMMARY:Governmental Affairs Committee
DESCRIPTION:The HBAGK Governmental Affairs Committee will meet at the HBAGK office on Wednesday\, October 5 at 8:30 AM. We will discuss candidate support and fundraising PAC events. We will also review the ongoing Hillside Slope and Ridge Top issue with an update about the Chamber's "Plan B".\n    \n    Please reply to this message to let us know if you plan to attend so we can prepare for the meeting.
X-ALT-DESC;FMTTYPE=text/html:<p>The HBAGK Governmental Affairs Committee will meet at the HBAGK office on Wednesday\,&nbsp\;October 5 at 8:30 AM. We will discuss&nbsp\;candidate support and&nbsp\;fundraising PAC events.&nbsp\;We will also review the ongoing Hillside Slope&nbsp\;and Ridge Top issue with an update about the Chamber&#39\;s &quot\;Plan B&quot\;.<br>    <br>    <u><strong>Please reply to this message to let us know if you plan to attend so we can prepare for the meeting</strong></u>.</p>
LOCATION:221 Clark Street\, NW Knoxville\, TN
UID:e.9402.341
SEQUENCE:3
DTSTAMP:20260422T222149Z
URL:http://hbaknoxvilletn.memberzone.com/events/details/governmental-affairs-committee-10-05-2011-341
END:VEVENT

END:VCALENDAR
