BEGIN:VCALENDAR
VERSION:2.0
PRODID:-//ChamberMaster//Event Calendar 2.0//EN
METHOD:PUBLISH
X-PUBLISHED-TTL:P3D
REFRESH-INTERVAL:P3D
CALSCALE:GREGORIAN
BEGIN:VEVENT
DTSTART;VALUE=DATE:20110721
DTEND;VALUE=DATE:20110722
TRANSP:TRANSPARENT
X-MICROSOFT-CDO-ALLDAYEVENT:TRUE
SUMMARY:Governmental Affairs Committee
DESCRIPTION:The HBAGK Governmental Affairs Committee will meet at the HBAGK office on Thursday\, July 21 at 9:00 AM. We will discuss candidate interviews and select questions to ask them on August 2 and August 4 at our office. Sample questions are included with this message. We will also review the ongoing Hillside Slope and Ridge Top issue. Please reply to this message to let us know if you plan to attend so we can prepare for the meeting.
X-ALT-DESC;FMTTYPE=text/html:<p>The HBAGK Governmental Affairs Committee will meet at the HBAGK office on Thursday\,&nbsp\;July 21&nbsp\;at 9:00 AM. We will discuss&nbsp\;candidate interviews&nbsp\;and select questions to ask them on August 2 and August 4 at our office. Sample questions are included with this message. We will also review the ongoing Hillside Slope&nbsp\;and Ridge Top issue. Please reply to this message to let us know if you plan to attend so we can prepare for the meeting.</p>
LOCATION:221 Clark Street\, NW Knoxville\, TN
UID:e.9402.316
SEQUENCE:3
DTSTAMP:20260423T031026Z
URL:http://hbaknoxvilletn.memberzone.com/events/details/governmental-affairs-committee-07-21-2011-316
END:VEVENT

END:VCALENDAR
