BEGIN:VCALENDAR
VERSION:2.0
PRODID:-//ChamberMaster//Event Calendar 2.0//EN
METHOD:PUBLISH
X-PUBLISHED-TTL:P3D
REFRESH-INTERVAL:P3D
CALSCALE:GREGORIAN
BEGIN:VEVENT
DTSTART;VALUE=DATE:20120612
DTEND;VALUE=DATE:20120613
TRANSP:TRANSPARENT
X-MICROSOFT-CDO-ALLDAYEVENT:TRUE
SUMMARY:Governmental Affairs Committee
DESCRIPTION:RESCHEDULED - the next meeting is on Tuesday\, June 12 at the HBA office.\n \n The HBAGK Governmental Affairs Committee will meet to discuss industry related issues and follow up on our focus group discussion items.\n \n Lunch is available for $8 per person\, RSVP. This meeting is on the Tuesday following Memorial Day.
X-ALT-DESC;FMTTYPE=text/html:RESCHEDULED - the next meeting is on Tuesday\, June 12 at the HBA office.<br> <br> The HBAGK Governmental Affairs Committee will meet to discuss industry related issues and follow up on our focus group discussion items.<br> <br> Lunch is&nbsp\;available for $8 per person\, RSVP. This meeting is on the Tuesday following Memorial Day.
LOCATION:221 Clark Street\, NW Knoxville\, TN
UID:e.9402.423
SEQUENCE:3
DTSTAMP:20260421T230117Z
URL:http://hbaknoxvilletn.memberzone.com/events/details/governmental-affairs-committee-06-12-2012-423
END:VEVENT

END:VCALENDAR
