BEGIN:VCALENDAR
VERSION:2.0
PRODID:-//ChamberMaster//Event Calendar 2.0//EN
METHOD:PUBLISH
X-PUBLISHED-TTL:P3D
REFRESH-INTERVAL:P3D
CALSCALE:GREGORIAN
BEGIN:VEVENT
DTSTART;VALUE=DATE:20130530
DTEND;VALUE=DATE:20130531
TRANSP:TRANSPARENT
X-MICROSOFT-CDO-ALLDAYEVENT:TRUE
SUMMARY:Governmental Affairs Committee
DESCRIPTION:The next Governmental Affairs Committee meeting is scheduled for 11:30 AM on Thursday\, May 30. We will meet for lunch at the HBAGK office downtown. RSVP so we can prepare our materials and order the right amount of food. We will discuss local issues\, upcoming elections and plan our "Meet the Candidates" meeting for the fall.
X-ALT-DESC;FMTTYPE=text/html:The next Governmental Affairs Committee meeting is scheduled for 11:30 AM on Thursday\, May 30. We will meet for lunch at the HBAGK office downtown. RSVP so we can prepare our materials and order the right amount of food. We will discuss local issues\, upcoming elections and plan our &quot\;Meet the Candidates&quot\; meeting for the fall.&nbsp\;<br> <br>
LOCATION:221 Clark Street\, NW Knoxville\, TN
UID:e.9402.521
SEQUENCE:3
DTSTAMP:20260421T022850Z
URL:http://hbaknoxvilletn.memberzone.com/events/details/governmental-affairs-committee-05-30-2013-521
END:VEVENT

END:VCALENDAR
